Workbook

Sheet INSTRUCTIONS
M1: Version 5.6a - WOBO
D2: INSTRUCTIONS: Please use this workbook to supply Catalog Metadata, Artwork, Availability and Binary info. Hover your mouse over fields with a red corner for help. The following sections are included: A. PRODUCT DETAILS - Basic information to help Microsoft identify your Product. B. INCLUDED PRODUCTS - Only required for bundle products. C. AVAILABILITIES & BINARIES - Includes what, where, how much and when information D. MARKETING INFO - Genre information and Marketing text that will be displayed on the Product Details Page. E. RATINGS - The age rating that will be displayed, and also age-gate access to your product. F. CAPABILITES - Functional details about your product that will be displayed on the Product Details Page. G. GAME HELP - The files needed to display in-game help. H. PRIVACY & TERMS OF USE - Details that wil be displayed to consumers at the time of purchase. I. ARTWORK - Art that will be displayed on the Product Details Page. J. TRAILERS - Streaming trailers that will be displayed on the Product Details Page. K. CONSUMABLE INFO - Only required for Consumable products. L. SMARTGLASS - Only required for SmartGlass products. Once completed, email the workbook to xboxconf@microsoft.com. Loose files (Ratings Certificates, Artwork, Trailers, Privacy/TOU docs, binaries) should be uploaded to Microsoft using your Signiant account.
D4: Note that sections filled in with a grey cross-hatch pattern do not need to be filled in. Example: | J4: Select_Option | K4: Items in red should be filled out before being submitting the workbook.
D6: To ensure faster processing when updating a previously submitted workbook, please highlight the cells you've changed since your last submission in yellow. | M6: Example
D8: REQUIRED SECTIONS PER PRODUCT TYPE
D9: Meta Data | E9: Game | F9: Demo | G9: Durable | H9: Consumable | I9: LiveApp | J9: Subscription | K9: Bundle/Season Pass | L9: SmartGlass Native App | M9: SmartGlass Companion | N9: Select_Option
D10: Product Details | E10: YES | F10: YES | G10: YES | H10: YES | I10: YES | J10: YES | K10: YES | L10: YES | M10: YES
D11: Included Products | E11: NO | F11: NO | G11: NO | H11: NO | I11: NO | J11: NO | K11: YES | L11: NO | M11: NO
D12: Availabilites & Binaries | E12: YES | F12: YES | G12: YES | H12: YES | I12: YES | J12: YES | K12: YES | L12: NO | M12: NO
D13: Marketing Info | E13: YES | F13: YES | G13: YES | H13: YES | I13: YES | J13: YES | K13: YES | L13: YES | M13: YES
D14: Ratings | E14: YES | F14: YES | G14: YES | H14: YES | I14: YES | J14: NO | K14: YES | L14: YES | M14: YES
D15: Capabilities | E15: YES | F15: YES | G15: NO | H15: NO | I15: YES | J15: NO | K15: NO | L15: NO | M15: NO
D16: Game Help | E16: YES | F16: YES | G16: NO | H16: NO | I16: YES | J16: NO | K16: NO | L16: NO | M16: NO
D17: Privacy & Terms of Use | E17: OPTIONAL | F17: OPTIONAL | G17: NO | H17: NO | I17: OPTIONAL | J17: OPTIONAL | K17: NO | L17: NO | M17: NO
D18: Artwork | E18: YES | F18: YES | G18: YES | H18: YES | I18: YES | J18: YES | K18: YES | L18: YES | M18: YES
D19: Trailers | E19: OPTIONAL | F19: OPTIONAL | G19: NO | H19: NO | I19: OPTIONAL | J19: NO | K19: NO | L19: NO | M19: NO
D20: Consumable Info | E20: NO | F20: NO | G20: NO | H20: YES | I20: NO | J20: NO | K20: NO | L20: NO | M20: NO
D22: SmartGlass | E22: NO | F22: NO | G22: NO | H22: NO | I22: NO | J22: NO | K22: NO | L22: YES | M22: YES

Sheet PRODUCT DETAILS
M1: Select_Option | N1: No Updates Required | O1: Only Content Update Required | P1: Only Service Config Update Required | Q1: Content Update AND Service Config Update Required
B2: A | C2: PRODUCT DETAILS
C4: Submitter email address: | E4: Bruno.Gaugain@ubisoft.com
C5: Purpose of the Workbook: | E5: Publishing for Certification | F5: Please remember to highlight any
C6: Is this workbook an update to a prior submission? | E6: YES | F6: chaged cells in yellow.
C7: Publish to this Sandbox: | E7: UBMN.9 &RETAIL | F7: Example
C8: Product Group Name: | E8: JustDance®2015
C9: Product Name: | E9: ${MapName}$
C10: Product Type: | E10: Durable
C11: Content Update and/or Service Config Update Required? | E11: No Updates Required
D12: Sandbox in Which the Updated Service Config Resides: | E12: Enter_Information_Here
C13: Product ID: | E13: ${dlcIdXOneNCSA}$
C14: Are you submitting assets/binaries? | E14: YES
D15: Signiant folder name: | E15: Enter_Information_Here
D16: Size of largest binary: | E16: Less than 2Gb
C17: Is this product to be included as part of a bundle? | E17: NO
D18: What bundle(s) will this product be included in? | E18: Enter_Information_Here
C19: Do owners of the Xbox 360 version of this product get the Xbox One version for free? | E19: NO
D20: List the Xbox 360 Offer IDs: | E20: Enter_Information_Here
D23: For Cert Submissions, the following minimum information must be completed: | F23: For Game Detail Pages, the following minimum information must be completed:
D25: AVAILABILITES & BINARIES - Regions - Content Package name - XVC File Name - EKB File Name | E25: MARKETING INFO - Title - Voice Title - Genre | F25: AVAILABILITES & BINARIES - Regions - Visibility Date - Sale Date (enter 12/31/2799 if not publically announced) | G25: MARKETING INFO - All text fields (Alternate title is optional) - Genre
D26: RATINGS - Ratings - Descriptors - File Names | E26: ARTWORK - Feature Promotional Square Art GAME HELP - ZIP Files | F26: RATINGS - Ratings - Descriptors | G26: ARTWORK - All artwork CAPABILITIES - All relevant information

Sheet INCLUDED PRODUCTS
B2: You only need to complete this section if your product is a bundle.
B4: B | C4: INCLUDED PRODUCTS (BUNDLES ONLY)
C6: PRODUCT NAME | D6: PRODUCT TYPE | E6: PRODUCT ID | F6: CONSUMABLE QUANTITY (Consumables Only)
C7: Enter_Information_Here | D7: Select_Option | E7: Enter_Information_Here | F7: Enter_Information_Here
C8: Enter_Information_Here | D8: Select_Option | E8: Enter_Information_Here | F8: Enter_Information_Here
C9: Enter_Information_Here | D9: Select_Option | E9: Enter_Information_Here | F9: Enter_Information_Here
C10: Enter_Information_Here | D10: Select_Option | E10: Enter_Information_Here | F10: Enter_Information_Here
C11: Enter_Information_Here | D11: Select_Option | E11: Enter_Information_Here | F11: Enter_Information_Here
C12: Enter_Information_Here | D12: Select_Option | E12: Enter_Information_Here | F12: Enter_Information_Here
C13: Enter_Information_Here | D13: Select_Option | E13: Enter_Information_Here | F13: Enter_Information_Here
C14: Enter_Information_Here | D14: Select_Option | E14: Enter_Information_Here | F14: Enter_Information_Here
C15: Enter_Information_Here | D15: Select_Option | E15: Enter_Information_Here | F15: Enter_Information_Here
C16: Enter_Information_Here | D16: Select_Option | E16: Enter_Information_Here | F16: Enter_Information_Here
C17: Enter_Information_Here | D17: Select_Option | E17: Enter_Information_Here | F17: Enter_Information_Here
... C102: Enter_Information_Here | D102: Select_Option | E102: Enter_Information_Here | F102: Enter_Information_Here

Sheet _reference
C1: Select_Option
C2: YES | I2: WSP | J2: SRP | K2: FriendlyName | L2: WholeSale | M2: MSRP | N2: Retail
C3: NO | I3: Select_Option | J3: Select_Option | K3: Select_Option | Q3: Test Tier 1 - $0.01 USD
I4: =Table1[[#This Row],[FriendlyName]]&" - " &TEXT(Table1[[#This Row],[WholeSale]],"$0.00") & " USD" -> Test Tier 1 - $0.01 USD | J4: =Table1[[#This Row],[FriendlyName]]&" - " &TEXT(Table1[[#This Row],[MSRP]],"$0.00") & " USD" -> Test Tier 1 - $0.01 USD | K4: Test Tier 1 | L4: 0.01 | M4: 0.01 | N4: 0.01
B5: ESRB | C5: Select_Option | I5: =Table1[[#This Row],[FriendlyName]]&" - " &TEXT(Table1[[#This Row],[WholeSale]],"$0.00") & " USD" -> Test Tier 2 - $0.02 USD | J5: =Table1[[#This Row],[FriendlyName]]&" - " &TEXT(Table1[[#This Row],[MSRP]],"$0.00") & " USD" -> Test Tier 2 - $0.02 USD | K5: Test Tier 2 | L5: 0.02 | M5: 0.02 | N5: 0.02
C6: EC | I6: =Table1[[#This Row],[FriendlyName]]&" - " &TEXT(Table1[[#This Row],[WholeSale]],"$0.00") & " USD" -> 0 - $0.00 USD | J6: =Table1[[#This Row],[FriendlyName]]&" - " &TEXT(Table1[[#This Row],[MSRP]],"$0.00") & " USD" -> 0 - $0.00 USD | K6: 0 | L6: 0 | M6: 0 | N6: 0
C7: E | I7: =Table1[[#This Row],[FriendlyName]]&" - " &TEXT(Table1[[#This Row],[WholeSale]],"$0.00") & " USD" -> 1 - $0.34 USD | J7: =Table1[[#This Row],[FriendlyName]]&" - " &TEXT(Table1[[#This Row],[MSRP]],"$0.00") & " USD" -> 1 - $0.49 USD | K7: 1 | L7: 0.34 | M7: 0.49 | N7: 0.49
C8: E10+ | I8: =Table1[[#This Row],[FriendlyName]]&" - " &TEXT(Table1[[#This Row],[WholeSale]],"$0.00") & " USD" -> 2 - $0.69 USD | J8: =Table1[[#This Row],[FriendlyName]]&" - " &TEXT(Table1[[#This Row],[MSRP]],"$0.00") & " USD" -> 2 - $0.99 USD | K8: 2 | L8: 0.69 | M8: 0.99 | N8: 0.99
C9: T | I9: =Table1[[#This Row],[FriendlyName]]&" - " &TEXT(Table1[[#This Row],[WholeSale]],"$0.00") & " USD" -> 3 - $1.04 USD | J9: =Table1[[#This Row],[FriendlyName]]&" - " &TEXT(Table1[[#This Row],[MSRP]],"$0.00") & " USD" -> 3 - $1.49 USD | K9: 3 | L9: 1.04 | M9: 1.49 | N9: 1.49
C10: M | I10: =Table1[[#This Row],[FriendlyName]]&" - " &TEXT(Table1[[#This Row],[WholeSale]],"$0.00") & " USD" -> 4 - $1.39 USD | J10: =Table1[[#This Row],[FriendlyName]]&" - " &TEXT(Table1[[#This Row],[MSRP]],"$0.00") & " USD" -> 4 - $1.99 USD | K10: 4 | L10: 1.39 | M10: 1.99 | N10: 1.99
C11: RP (E-E10+) | I11: =Table1[[#This Row],[FriendlyName]]&" - " &TEXT(Table1[[#This Row],[WholeSale]],"$0.00") & " USD" -> 5 - $1.74 USD | J11: =Table1[[#This Row],[FriendlyName]]&" - " &TEXT(Table1[[#This Row],[MSRP]],"$0.00") & " USD" -> 5 - $2.49 USD | K11: 5 | L11: 1.74 | M11: 2.49 | N11: 2.49
C12: RP (T-M) | I12: =Table1[[#This Row],[FriendlyName]]&" - " &TEXT(Table1[[#This Row],[WholeSale]],"$0.00") & " USD" -> 6 - $2.09 USD | J12: =Table1[[#This Row],[FriendlyName]]&" - " &TEXT(Table1[[#This Row],[MSRP]],"$0.00") & " USD" -> 6 - $2.99 USD | K12: 6 | L12: 2.09 | M12: 2.99 | N12: 2.99
C13: None | I13: =Table1[[#This Row],[FriendlyName]]&" - " &TEXT(Table1[[#This Row],[WholeSale]],"$0.00") & " USD" -> 7 - $2.44 USD | J13: =Table1[[#This Row],[FriendlyName]]&" - " &TEXT(Table1[[#This Row],[MSRP]],"$0.00") & " USD" -> 7 - $3.49 USD | K13: 7 | L13: 2.44 | M13: 3.49 | N13: 3.49
I14: =Table1[[#This Row],[FriendlyName]]&" - " &TEXT(Table1[[#This Row],[WholeSale]],"$0.00") & " USD" -> 8 - $2.79 USD | J14: =Table1[[#This Row],[FriendlyName]]&" - " &TEXT(Table1[[#This Row],[MSRP]],"$0.00") & " USD" -> 8 - $3.99 USD | K14: 8 | L14: 2.79 | M14: 3.99 | N14: 3.99
B15: USK | C15: Select_Option | I15: =Table1[[#This Row],[FriendlyName]]&" - " &TEXT(Table1[[#This Row],[WholeSale]],"$0.00") & " USD" -> 9 - $3.14 USD | J15: =Table1[[#This Row],[FriendlyName]]&" - " &TEXT(Table1[[#This Row],[MSRP]],"$0.00") & " USD" -> 9 - $4.49 USD | K15: 9 | L15: 3.14 | M15: 4.49 | N15: 4.49
C16: 0 | I16: =Table1[[#This Row],[FriendlyName]]&" - " &TEXT(Table1[[#This Row],[WholeSale]],"$0.00") & " USD" -> 10 - $3.49 USD | J16: =Table1[[#This Row],[FriendlyName]]&" - " &TEXT(Table1[[#This Row],[MSRP]],"$0.00") & " USD" -> 10 - $4.99 USD | K16: 10 | L16: 3.49 | M16: 4.99 | N16: 4.99
C17: 6 | I17: =Table1[[#This Row],[FriendlyName]]&" - " &TEXT(Table1[[#This Row],[WholeSale]],"$0.00") & " USD" -> 11 - $3.84 USD | J17: =Table1[[#This Row],[FriendlyName]]&" - " &TEXT(Table1[[#This Row],[MSRP]],"$0.00") & " USD" -> 11 - $5.49 USD | K17: 11 | L17: 3.84 | M17: 5.49 | N17: 5.49
C18: 12 | I18: =Table1[[#This Row],[FriendlyName]]&" - " &TEXT(Table1[[#This Row],[WholeSale]],"$0.00") & " USD" -> 12 - $4.19 USD | J18: =Table1[[#This Row],[FriendlyName]]&" - " &TEXT(Table1[[#This Row],[MSRP]],"$0.00") & " USD" -> 12 - $5.99 USD | K18: 12 | L18: 4.19 | M18: 5.99 | N18: 5.99
C19: 16 | I19: =Table1[[#This Row],[FriendlyName]]&" - " &TEXT(Table1[[#This Row],[WholeSale]],"$0.00") & " USD" -> 13 - $4.54 USD | J19: =Table1[[#This Row],[FriendlyName]]&" - " &TEXT(Table1[[#This Row],[MSRP]],"$0.00") & " USD" -> 13 - $6.49 USD | K19: 13 | L19: 4.54 | M19: 6.49 | N19: 6.49
C20: 18 | I20: =Table1[[#This Row],[FriendlyName]]&" - " &TEXT(Table1[[#This Row],[WholeSale]],"$0.00") & " USD" -> 14 - $4.89 USD | J20: =Table1[[#This Row],[FriendlyName]]&" - " &TEXT(Table1[[#This Row],[MSRP]],"$0.00") & " USD" -> 14 - $6.99 USD | K20: 14 | L20: 4.89 | M20: 6.99 | N20: 6.99
C21: Unrated | I21: =Table1[[#This Row],[FriendlyName]]&" - " &TEXT(Table1[[#This Row],[WholeSale]],"$0.00") & " USD" -> 15 - $5.24 USD | J21: =Table1[[#This Row],[FriendlyName]]&" - " &TEXT(Table1[[#This Row],[MSRP]],"$0.00") & " USD" -> 15 - $7.49 USD | K21: 15 | L21: 5.24 | M21: 7.49 | N21: 7.49
C22: None | I22: =Table1[[#This Row],[FriendlyName]]&" - " &TEXT(Table1[[#This Row],[WholeSale]],"$0.00") & " USD" -> 16 - $5.59 USD | J22: =Table1[[#This Row],[FriendlyName]]&" - " &TEXT(Table1[[#This Row],[MSRP]],"$0.00") & " USD" -> 16 - $7.99 USD | K22: 16 | L22: 5.59 | M22: 7.99 | N22: 7.99
I23: =Table1[[#This Row],[FriendlyName]]&" - " &TEXT(Table1[[#This Row],[WholeSale]],"$0.00") & " USD" -> 17 - $5.94 USD | J23: =Table1[[#This Row],[FriendlyName]]&" - " &TEXT(Table1[[#This Row],[MSRP]],"$0.00") & " USD" -> 17 - $8.49 USD | K23: 17 | L23: 5.94 | M23: 8.49 | N23: 8.49
B24: COB | C24: Select_Option | I24: =Table1[[#This Row],[FriendlyName]]&" - " &TEXT(Table1[[#This Row],[WholeSale]],"$0.00") & " USD" -> 18 - $6.29 USD | J24: =Table1[[#This Row],[FriendlyName]]&" - " &TEXT(Table1[[#This Row],[MSRP]],"$0.00") & " USD" -> 18 - $8.99 USD | K24: 18 | L24: 6.29 | M24: 8.99 | N24: 8.99
C25: G | I25: =Table1[[#This Row],[FriendlyName]]&" - " &TEXT(Table1[[#This Row],[WholeSale]],"$0.00") & " USD" -> 19 - $6.64 USD | J25: =Table1[[#This Row],[FriendlyName]]&" - " &TEXT(Table1[[#This Row],[MSRP]],"$0.00") & " USD" -> 19 - $9.49 USD | K25: 19 | L25: 6.64 | M25: 9.49 | N25: 9.49
C26: PG | I26: =Table1[[#This Row],[FriendlyName]]&" - " &TEXT(Table1[[#This Row],[WholeSale]],"$0.00") & " USD" -> 20 - $6.99 USD | J26: =Table1[[#This Row],[FriendlyName]]&" - " &TEXT(Table1[[#This Row],[MSRP]],"$0.00") & " USD" -> 20 - $9.99 USD | K26: 20 | L26: 6.99 | M26: 9.99 | N26: 9.99
C27: M | I27: =Table1[[#This Row],[FriendlyName]]&" - " &TEXT(Table1[[#This Row],[WholeSale]],"$0.00") & " USD" -> 21 - $7.34 USD | J27: =Table1[[#This Row],[FriendlyName]]&" - " &TEXT(Table1[[#This Row],[MSRP]],"$0.00") & " USD" -> 21 - $10.49 USD | K27: 21 | L27: 7.34 | M27: 10.49 | N27: 10.49
C28: MA | I28: =Table1[[#This Row],[FriendlyName]]&" - " &TEXT(Table1[[#This Row],[WholeSale]],"$0.00") & " USD" -> 22 - $7.69 USD | J28: =Table1[[#This Row],[FriendlyName]]&" - " &TEXT(Table1[[#This Row],[MSRP]],"$0.00") & " USD" -> 22 - $10.99 USD | K28: 22 | L28: 7.69 | M28: 10.99 | N28: 10.99
C29: R18 | I29: =Table1[[#This Row],[FriendlyName]]&" - " &TEXT(Table1[[#This Row],[WholeSale]],"$0.00") & " USD" -> 23 - $8.04 USD | J29: =Table1[[#This Row],[FriendlyName]]&" - " &TEXT(Table1[[#This Row],[MSRP]],"$0.00") & " USD" -> 23 - $11.49 USD | K29: 23 | L29: 8.04 | M29: 11.49 | N29: 11.49
C30: Unrated | I30: =Table1[[#This Row],[FriendlyName]]&" - " &TEXT(Table1[[#This Row],[WholeSale]],"$0.00") & " USD" -> 24 - $8.39 USD | J30: =Table1[[#This Row],[FriendlyName]]&" - " &TEXT(Table1[[#This Row],[MSRP]],"$0.00") & " USD" -> 24 - $11.99 USD | K30: 24 | L30: 8.39 | M30: 11.99 | N30: 11.99
C31: None | I31: =Table1[[#This Row],[FriendlyName]]&" - " &TEXT(Table1[[#This Row],[WholeSale]],"$0.00") & " USD" -> 25 - $8.74 USD | J31: =Table1[[#This Row],[FriendlyName]]&" - " &TEXT(Table1[[#This Row],[MSRP]],"$0.00") & " USD" -> 25 - $12.49 USD | K31: 25 | L31: 8.74 | M31: 12.49 | N31: 12.49
I32: =Table1[[#This Row],[FriendlyName]]&" - " &TEXT(Table1[[#This Row],[WholeSale]],"$0.00") & " USD" -> 26 - $9.09 USD | J32: =Table1[[#This Row],[FriendlyName]]&" - " &TEXT(Table1[[#This Row],[MSRP]],"$0.00") & " USD" -> 26 - $12.99 USD | K32: 26 | L32: 9.09 | M32: 12.99 | N32: 12.99
B33: OFLC | C33: Select_Option | I33: =Table1[[#This Row],[FriendlyName]]&" - " &TEXT(Table1[[#This Row],[WholeSale]],"$0.00") & " USD" -> 27 - $9.44 USD | J33: =Table1[[#This Row],[FriendlyName]]&" - " &TEXT(Table1[[#This Row],[MSRP]],"$0.00") & " USD" -> 27 - $13.49 USD | K33: 27 | L33: 9.44 | M33: 13.49 | N33: 13.49
C34: G | I34: =Table1[[#This Row],[FriendlyName]]&" - " &TEXT(Table1[[#This Row],[WholeSale]],"$0.00") & " USD" -> 28 - $9.79 USD | J34: =Table1[[#This Row],[FriendlyName]]&" - " &TEXT(Table1[[#This Row],[MSRP]],"$0.00") & " USD" -> 28 - $13.99 USD | K34: 28 | L34: 9.79 | M34: 13.99 | N34: 13.99
C35: PG | I35: =Table1[[#This Row],[FriendlyName]]&" - " &TEXT(Table1[[#This Row],[WholeSale]],"$0.00") & " USD" -> 29 - $10.14 USD | J35: =Table1[[#This Row],[FriendlyName]]&" - " &TEXT(Table1[[#This Row],[MSRP]],"$0.00") & " USD" -> 29 - $14.49 USD | K35: 29 | L35: 10.14 | M35: 14.49 | N35: 14.49
C36: M | I36: =Table1[[#This Row],[FriendlyName]]&" - " &TEXT(Table1[[#This Row],[WholeSale]],"$0.00") & " USD" -> 30 - $10.49 USD | J36: =Table1[[#This Row],[FriendlyName]]&" - " &TEXT(Table1[[#This Row],[MSRP]],"$0.00") & " USD" -> 30 - $14.99 USD | K36: 30 | L36: 10.49 | M36: 14.99 | N36: 14.99
C37: R13+ | I37: =Table1[[#This Row],[FriendlyName]]&" - " &TEXT(Table1[[#This Row],[WholeSale]],"$0.00") & " USD" -> 31 - $10.84 USD | J37: =Table1[[#This Row],[FriendlyName]]&" - " &TEXT(Table1[[#This Row],[MSRP]],"$0.00") & " USD" -> 31 - $15.49 USD | K37: 31 | L37: 10.84 | M37: 15.49 | N37: 15.49
C38: R15+ | I38: =Table1[[#This Row],[FriendlyName]]&" - " &TEXT(Table1[[#This Row],[WholeSale]],"$0.00") & " USD" -> 32 - $11.19 USD | J38: =Table1[[#This Row],[FriendlyName]]&" - " &TEXT(Table1[[#This Row],[MSRP]],"$0.00") & " USD" -> 32 - $15.99 USD | K38: 32 | L38: 11.19 | M38: 15.99 | N38: 15.99
C39: R16+ | I39: =Table1[[#This Row],[FriendlyName]]&" - " &TEXT(Table1[[#This Row],[WholeSale]],"$0.00") & " USD" -> 33 - $11.54 USD | J39: =Table1[[#This Row],[FriendlyName]]&" - " &TEXT(Table1[[#This Row],[MSRP]],"$0.00") & " USD" -> 33 - $16.49 USD | K39: 33 | L39: 11.54 | M39: 16.49 | N39: 16.49
C40: R18+ | I40: =Table1[[#This Row],[FriendlyName]]&" - " &TEXT(Table1[[#This Row],[WholeSale]],"$0.00") & " USD" -> 34 - $11.89 USD | J40: =Table1[[#This Row],[FriendlyName]]&" - " &TEXT(Table1[[#This Row],[MSRP]],"$0.00") & " USD" -> 34 - $16.99 USD | K40: 34 | L40: 11.89 | M40: 16.99 | N40: 16.99
C41: Unrated | I41: =Table1[[#This Row],[FriendlyName]]&" - " &TEXT(Table1[[#This Row],[WholeSale]],"$0.00") & " USD" -> 35 - $12.24 USD | J41: =Table1[[#This Row],[FriendlyName]]&" - " &TEXT(Table1[[#This Row],[MSRP]],"$0.00") & " USD" -> 35 - $17.49 USD | K41: 35 | L41: 12.24 | M41: 17.49 | N41: 17.49
C42: None | I42: =Table1[[#This Row],[FriendlyName]]&" - " &TEXT(Table1[[#This Row],[WholeSale]],"$0.00") & " USD" -> 36 - $12.59 USD | J42: =Table1[[#This Row],[FriendlyName]]&" - " &TEXT(Table1[[#This Row],[MSRP]],"$0.00") & " USD" -> 36 - $17.99 USD | K42: 36 | L42: 12.59 | M42: 17.99 | N42: 17.99
I43: =Table1[[#This Row],[FriendlyName]]&" - " &TEXT(Table1[[#This Row],[WholeSale]],"$0.00") & " USD" -> 37 - $12.94 USD | J43: =Table1[[#This Row],[FriendlyName]]&" - " &TEXT(Table1[[#This Row],[MSRP]],"$0.00") & " USD" -> 37 - $18.49 USD | K43: 37 | L43: 12.94 | M43: 18.49 | N43: 18.49
B44: DJCTQ | C44: Select_Option | I44: =Table1[[#This Row],[FriendlyName]]&" - " &TEXT(Table1[[#This Row],[WholeSale]],"$0.00") & " USD" -> 38 - $13.29 USD | J44: =Table1[[#This Row],[FriendlyName]]&" - " &TEXT(Table1[[#This Row],[MSRP]],"$0.00") & " USD" -> 38 - $18.99 USD | K44: 38 | L44: 13.29 | M44: 18.99 | N44: 18.99
C45: ER | I45: =Table1[[#This Row],[FriendlyName]]&" - " &TEXT(Table1[[#This Row],[WholeSale]],"$0.00") & " USD" -> 39 - $13.64 USD | J45: =Table1[[#This Row],[FriendlyName]]&" - " &TEXT(Table1[[#This Row],[MSRP]],"$0.00") & " USD" -> 39 - $19.49 USD | K45: 39 | L45: 13.64 | M45: 19.49 | N45: 19.49
C46: L | I46: =Table1[[#This Row],[FriendlyName]]&" - " &TEXT(Table1[[#This Row],[WholeSale]],"$0.00") & " USD" -> 40 - $13.99 USD | J46: =Table1[[#This Row],[FriendlyName]]&" - " &TEXT(Table1[[#This Row],[MSRP]],"$0.00") & " USD" -> 40 - $19.99 USD | K46: 40 | L46: 13.99 | M46: 19.99 | N46: 19.99
C47: 10 | I47: =Table1[[#This Row],[FriendlyName]]&" - " &TEXT(Table1[[#This Row],[WholeSale]],"$0.00") & " USD" -> 41 - $14.34 USD | J47: =Table1[[#This Row],[FriendlyName]]&" - " &TEXT(Table1[[#This Row],[MSRP]],"$0.00") & " USD" -> 41 - $20.49 USD | K47: 41 | L47: 14.34 | M47: 20.49 | N47: 20.49
C48: 12 | I48: =Table1[[#This Row],[FriendlyName]]&" - " &TEXT(Table1[[#This Row],[WholeSale]],"$0.00") & " USD" -> 42 - $14.69 USD | J48: =Table1[[#This Row],[FriendlyName]]&" - " &TEXT(Table1[[#This Row],[MSRP]],"$0.00") & " USD" -> 42 - $20.99 USD | K48: 42 | L48: 14.69 | M48: 20.99 | N48: 20.99
C49: 14 | I49: =Table1[[#This Row],[FriendlyName]]&" - " &TEXT(Table1[[#This Row],[WholeSale]],"$0.00") & " USD" -> 43 - $15.04 USD | J49: =Table1[[#This Row],[FriendlyName]]&" - " &TEXT(Table1[[#This Row],[MSRP]],"$0.00") & " USD" -> 43 - $21.49 USD | K49: 43 | L49: 15.04 | M49: 21.49 | N49: 21.49
C50: 16 | I50: =Table1[[#This Row],[FriendlyName]]&" - " &TEXT(Table1[[#This Row],[WholeSale]],"$0.00") & " USD" -> 44 - $15.39 USD | J50: =Table1[[#This Row],[FriendlyName]]&" - " &TEXT(Table1[[#This Row],[MSRP]],"$0.00") & " USD" -> 44 - $21.99 USD | K50: 44 | L50: 15.39 | M50: 21.99 | N50: 21.99
C51: 18 | I51: =Table1[[#This Row],[FriendlyName]]&" - " &TEXT(Table1[[#This Row],[WholeSale]],"$0.00") & " USD" -> 45 - $15.74 USD | J51: =Table1[[#This Row],[FriendlyName]]&" - " &TEXT(Table1[[#This Row],[MSRP]],"$0.00") & " USD" -> 45 - $22.49 USD | K51: 45 | L51: 15.74 | M51: 22.49 | N51: 22.49
C52: Unrated | I52: =Table1[[#This Row],[FriendlyName]]&" - " &TEXT(Table1[[#This Row],[WholeSale]],"$0.00") & " USD" -> 46 - $16.09 USD | J52: =Table1[[#This Row],[FriendlyName]]&" - " &TEXT(Table1[[#This Row],[MSRP]],"$0.00") & " USD" -> 46 - $22.99 USD | K52: 46 | L52: 16.09 | M52: 22.99 | N52: 22.99
C53: None | I53: =Table1[[#This Row],[FriendlyName]]&" - " &TEXT(Table1[[#This Row],[WholeSale]],"$0.00") & " USD" -> 47 - $16.44 USD | J53: =Table1[[#This Row],[FriendlyName]]&" - " &TEXT(Table1[[#This Row],[MSRP]],"$0.00") & " USD" -> 47 - $23.49 USD | K53: 47 | L53: 16.44 | M53: 23.49 | N53: 23.49
B54: PEGI | C54: Select_Option | D54: PEGI Portugal | E54: Select_Option | I54: =Table1[[#This Row],[FriendlyName]]&" - " &TEXT(Table1[[#This Row],[WholeSale]],"$0.00") & " USD" -> 48 - $16.79 USD | J54: =Table1[[#This Row],[FriendlyName]]&" - " &TEXT(Table1[[#This Row],[MSRP]],"$0.00") & " USD" -> 48 - $23.99 USD | K54: 48 | L54: 16.79 | M54: 23.99 | N54: 23.99
C55: 3 | E55: 4 | I55: =Table1[[#This Row],[FriendlyName]]&" - " &TEXT(Table1[[#This Row],[WholeSale]],"$0.00") & " USD" -> 49 - $17.14 USD | J55: =Table1[[#This Row],[FriendlyName]]&" - " &TEXT(Table1[[#This Row],[MSRP]],"$0.00") & " USD" -> 49 - $24.49 USD | K55: 49 | L55: 17.14 | M55: 24.49 | N55: 24.49
C56: 7 | E56: 6 | I56: =Table1[[#This Row],[FriendlyName]]&" - " &TEXT(Table1[[#This Row],[WholeSale]],"$0.00") & " USD" -> 50 - $17.49 USD | J56: =Table1[[#This Row],[FriendlyName]]&" - " &TEXT(Table1[[#This Row],[MSRP]],"$0.00") & " USD" -> 50 - $24.99 USD | K56: 50 | L56: 17.49 | M56: 24.99 | N56: 24.99
C57: 12 | E57: 12 | I57: =Table1[[#This Row],[FriendlyName]]&" - " &TEXT(Table1[[#This Row],[WholeSale]],"$0.00") & " USD" -> 51 - $17.84 USD | J57: =Table1[[#This Row],[FriendlyName]]&" - " &TEXT(Table1[[#This Row],[MSRP]],"$0.00") & " USD" -> 51 - $25.49 USD | K57: 51 | L57: 17.84 | M57: 25.49 | N57: 25.49
C58: 16 | E58: 16 | I58: =Table1[[#This Row],[FriendlyName]]&" - " &TEXT(Table1[[#This Row],[WholeSale]],"$0.00") & " USD" -> 52 - $18.19 USD | J58: =Table1[[#This Row],[FriendlyName]]&" - " &TEXT(Table1[[#This Row],[MSRP]],"$0.00") & " USD" -> 52 - $25.99 USD | K58: 52 | L58: 18.19 | M58: 25.99 | N58: 25.99
C59: A18p | E59: 18 | I59: =Table1[[#This Row],[FriendlyName]]&" - " &TEXT(Table1[[#This Row],[WholeSale]],"$0.00") & " USD" -> 53 - $18.54 USD | J59: =Table1[[#This Row],[FriendlyName]]&" - " &TEXT(Table1[[#This Row],[MSRP]],"$0.00") & " USD" -> 53 - $26.49 USD | K59: 53 | L59: 18.54 | M59: 26.49 | N59: 26.49
C60: Unrated | E60: Unrated | I60: =Table1[[#This Row],[FriendlyName]]&" - " &TEXT(Table1[[#This Row],[WholeSale]],"$0.00") & " USD" -> 54 - $18.89 USD | J60: =Table1[[#This Row],[FriendlyName]]&" - " &TEXT(Table1[[#This Row],[MSRP]],"$0.00") & " USD" -> 54 - $26.99 USD | K60: 54 | L60: 18.89 | M60: 26.99 | N60: 26.99
C61: None | E61: None | I61: =Table1[[#This Row],[FriendlyName]]&" - " &TEXT(Table1[[#This Row],[WholeSale]],"$0.00") & " USD" -> 55 - $19.24 USD | J61: =Table1[[#This Row],[FriendlyName]]&" - " &TEXT(Table1[[#This Row],[MSRP]],"$0.00") & " USD" -> 55 - $27.49 USD | K61: 55 | L61: 19.24 | M61: 27.49 | N61: 27.49
I62: =Table1[[#This Row],[FriendlyName]]&" - " &TEXT(Table1[[#This Row],[WholeSale]],"$0.00") & " USD" -> 56 - $19.59 USD | J62: =Table1[[#This Row],[FriendlyName]]&" - " &TEXT(Table1[[#This Row],[MSRP]],"$0.00") & " USD" -> 56 - $27.99 USD | K62: 56 | L62: 19.59 | M62: 27.99 | N62: 27.99
I63: =Table1[[#This Row],[FriendlyName]]&" - " &TEXT(Table1[[#This Row],[WholeSale]],"$0.00") & " USD" -> 57 - $19.94 USD | J63: =Table1[[#This Row],[FriendlyName]]&" - " &TEXT(Table1[[#This Row],[MSRP]],"$0.00") & " USD" -> 57 - $28.49 USD | K63: 57 | L63: 19.94 | M63: 28.49 | N63: 28.49
I64: =Table1[[#This Row],[FriendlyName]]&" - " &TEXT(Table1[[#This Row],[WholeSale]],"$0.00") & " USD" -> 58 - $20.29 USD | J64: =Table1[[#This Row],[FriendlyName]]&" - " &TEXT(Table1[[#This Row],[MSRP]],"$0.00") & " USD" -> 58 - $28.99 USD | K64: 58 | L64: 20.29 | M64: 28.99 | N64: 28.99
I65: =Table1[[#This Row],[FriendlyName]]&" - " &TEXT(Table1[[#This Row],[WholeSale]],"$0.00") & " USD" -> 59 - $20.64 USD | J65: =Table1[[#This Row],[FriendlyName]]&" - " &TEXT(Table1[[#This Row],[MSRP]],"$0.00") & " USD" -> 59 - $29.49 USD | K65: 59 | L65: 20.64 | M65: 29.49 | N65: 29.49
I66: =Table1[[#This Row],[FriendlyName]]&" - " &TEXT(Table1[[#This Row],[WholeSale]],"$0.00") & " USD" -> 60 - $20.99 USD | J66: =Table1[[#This Row],[FriendlyName]]&" - " &TEXT(Table1[[#This Row],[MSRP]],"$0.00") & " USD" -> 60 - $29.99 USD | K66: 60 | L66: 20.99 | M66: 29.99 | N66: 29.99
I67: =Table1[[#This Row],[FriendlyName]]&" - " &TEXT(Table1[[#This Row],[WholeSale]],"$0.00") & " USD" -> 61 - $21.34 USD | J67: =Table1[[#This Row],[FriendlyName]]&" - " &TEXT(Table1[[#This Row],[MSRP]],"$0.00") & " USD" -> 61 - $30.49 USD | K67: 61 | L67: 21.34 | M67: 30.49 | N67: 30.49
I68: =Table1[[#This Row],[FriendlyName]]&" - " &TEXT(Table1[[#This Row],[WholeSale]],"$0.00") & " USD" -> 62 - $21.69 USD | J68: =Table1[[#This Row],[FriendlyName]]&" - " &TEXT(Table1[[#This Row],[MSRP]],"$0.00") & " USD" -> 62 - $30.99 USD | K68: 62 | L68: 21.69 | M68: 30.99 | N68: 30.99
B69: Type | C69: Select_Option | I69: =Table1[[#This Row],[FriendlyName]]&" - " &TEXT(Table1[[#This Row],[WholeSale]],"$0.00") & " USD" -> 63 - $22.04 USD | J69: =Table1[[#This Row],[FriendlyName]]&" - " &TEXT(Table1[[#This Row],[MSRP]],"$0.00") & " USD" -> 63 - $31.49 USD | K69: 63 | L69: 22.04 | M69: 31.49 | N69: 31.49
C70: AutoInstalledApplication | I70: =Table1[[#This Row],[FriendlyName]]&" - " &TEXT(Table1[[#This Row],[WholeSale]],"$0.00") & " USD" -> 64 - $22.39 USD | J70: =Table1[[#This Row],[FriendlyName]]&" - " &TEXT(Table1[[#This Row],[MSRP]],"$0.00") & " USD" -> 64 - $31.99 USD | K70: 64 | L70: 22.39 | M70: 31.99 | N70: 31.99
C71: CloudGame | I71: =Table1[[#This Row],[FriendlyName]]&" - " &TEXT(Table1[[#This Row],[WholeSale]],"$0.00") & " USD" -> 65 - $22.74 USD | J71: =Table1[[#This Row],[FriendlyName]]&" - " &TEXT(Table1[[#This Row],[MSRP]],"$0.00") & " USD" -> 65 - $32.49 USD | K71: 65 | L71: 22.74 | M71: 32.49 | N71: 32.49
C72: DGame | I72: =Table1[[#This Row],[FriendlyName]]&" - " &TEXT(Table1[[#This Row],[WholeSale]],"$0.00") & " USD" -> 66 - $23.09 USD | J72: =Table1[[#This Row],[FriendlyName]]&" - " &TEXT(Table1[[#This Row],[MSRP]],"$0.00") & " USD" -> 66 - $32.99 USD | K72: 66 | L72: 23.09 | M72: 32.99 | N72: 32.99
C73: DGameDemo | I73: =Table1[[#This Row],[FriendlyName]]&" - " &TEXT(Table1[[#This Row],[WholeSale]],"$0.00") & " USD" -> 67 - $23.44 USD | J73: =Table1[[#This Row],[FriendlyName]]&" - " &TEXT(Table1[[#This Row],[MSRP]],"$0.00") & " USD" -> 67 - $33.49 USD | K73: 67 | L73: 23.44 | M73: 33.49 | N73: 33.49
C74: DurangoConsumable | I74: =Table1[[#This Row],[FriendlyName]]&" - " &TEXT(Table1[[#This Row],[WholeSale]],"$0.00") & " USD" -> 68 - $23.79 USD | J74: =Table1[[#This Row],[FriendlyName]]&" - " &TEXT(Table1[[#This Row],[MSRP]],"$0.00") & " USD" -> 68 - $33.99 USD | K74: 68 | L74: 23.79 | M74: 33.99 | N74: 33.99
C75: DurangoDurable | I75: =Table1[[#This Row],[FriendlyName]]&" - " &TEXT(Table1[[#This Row],[WholeSale]],"$0.00") & " USD" -> 69 - $24.14 USD | J75: =Table1[[#This Row],[FriendlyName]]&" - " &TEXT(Table1[[#This Row],[MSRP]],"$0.00") & " USD" -> 69 - $34.49 USD | K75: 69 | L75: 24.14 | M75: 34.49 | N75: 34.49
C76: LiveApp | I76: =Table1[[#This Row],[FriendlyName]]&" - " &TEXT(Table1[[#This Row],[WholeSale]],"$0.00") & " USD" -> 70 - $24.49 USD | J76: =Table1[[#This Row],[FriendlyName]]&" - " &TEXT(Table1[[#This Row],[MSRP]],"$0.00") & " USD" -> 70 - $34.99 USD | K76: 70 | L76: 24.49 | M76: 34.99 | N76: 34.99
C77: SmartGlass Native App | I77: =Table1[[#This Row],[FriendlyName]]&" - " &TEXT(Table1[[#This Row],[WholeSale]],"$0.00") & " USD" -> 71 - $24.84 USD | J77: =Table1[[#This Row],[FriendlyName]]&" - " &TEXT(Table1[[#This Row],[MSRP]],"$0.00") & " USD" -> 71 - $35.49 USD | K77: 71 | L77: 24.84 | M77: 35.49 | N77: 35.49
C78: SmartGlass Companion | I78: =Table1[[#This Row],[FriendlyName]]&" - " &TEXT(Table1[[#This Row],[WholeSale]],"$0.00") & " USD" -> 72 - $25.19 USD | J78: =Table1[[#This Row],[FriendlyName]]&" - " &TEXT(Table1[[#This Row],[MSRP]],"$0.00") & " USD" -> 72 - $35.99 USD | K78: 72 | L78: 25.19 | M78: 35.99 | N78: 35.99
I79: =Table1[[#This Row],[FriendlyName]]&" - " &TEXT(Table1[[#This Row],[WholeSale]],"$0.00") & " USD" -> 73 - $25.54 USD | J79: =Table1[[#This Row],[FriendlyName]]&" - " &TEXT(Table1[[#This Row],[MSRP]],"$0.00") & " USD" -> 73 - $36.49 USD | K79: 73 | L79: 25.54 | M79: 36.49 | N79: 36.49
B80: SmartGlass Companion | C80: Select_Option | I80: =Table1[[#This Row],[FriendlyName]]&" - " &TEXT(Table1[[#This Row],[WholeSale]],"$0.00") & " USD" -> 74 - $25.89 USD | J80: =Table1[[#This Row],[FriendlyName]]&" - " &TEXT(Table1[[#This Row],[MSRP]],"$0.00") & " USD" -> 74 - $36.99 USD | K80: 74 | L80: 25.89 | M80: 36.99 | N80: 36.99
C81: HTML Surface | I81: =Table1[[#This Row],[FriendlyName]]&" - " &TEXT(Table1[[#This Row],[WholeSale]],"$0.00") & " USD" -> 75 - $26.24 USD | J81: =Table1[[#This Row],[FriendlyName]]&" - " &TEXT(Table1[[#This Row],[MSRP]],"$0.00") & " USD" -> 75 - $37.49 USD | K81: 75 | L81: 26.24 | M81: 37.49 | N81: 37.49
C82: Remote Rendering Surface | I82: =Table1[[#This Row],[FriendlyName]]&" - " &TEXT(Table1[[#This Row],[WholeSale]],"$0.00") & " USD" -> 76 - $26.59 USD | J82: =Table1[[#This Row],[FriendlyName]]&" - " &TEXT(Table1[[#This Row],[MSRP]],"$0.00") & " USD" -> 76 - $37.99 USD | K82: 76 | L82: 26.59 | M82: 37.99 | N82: 37.99
C83: Both | I83: =Table1[[#This Row],[FriendlyName]]&" - " &TEXT(Table1[[#This Row],[WholeSale]],"$0.00") & " USD" -> 77 - $26.94 USD | J83: =Table1[[#This Row],[FriendlyName]]&" - " &TEXT(Table1[[#This Row],[MSRP]],"$0.00") & " USD" -> 77 - $38.49 USD | K83: 77 | L83: 26.94 | M83: 38.49 | N83: 38.49
I84: =Table1[[#This Row],[FriendlyName]]&" - " &TEXT(Table1[[#This Row],[WholeSale]],"$0.00") & " USD" -> 78 - $27.29 USD | J84: =Table1[[#This Row],[FriendlyName]]&" - " &TEXT(Table1[[#This Row],[MSRP]],"$0.00") & " USD" -> 78 - $38.99 USD | K84: 78 | L84: 27.29 | M84: 38.99 | N84: 38.99
B85: visibility | C85: Select_Option | I85: =Table1[[#This Row],[FriendlyName]]&" - " &TEXT(Table1[[#This Row],[WholeSale]],"$0.00") & " USD" -> 79 - $27.64 USD | J85: =Table1[[#This Row],[FriendlyName]]&" - " &TEXT(Table1[[#This Row],[MSRP]],"$0.00") & " USD" -> 79 - $39.49 USD | K85: 79 | L85: 27.64 | M85: 39.49 | N85: 39.49
C86: Visible | I86: =Table1[[#This Row],[FriendlyName]]&" - " &TEXT(Table1[[#This Row],[WholeSale]],"$0.00") & " USD" -> 80 - $27.99 USD | J86: =Table1[[#This Row],[FriendlyName]]&" - " &TEXT(Table1[[#This Row],[MSRP]],"$0.00") & " USD" -> 80 - $39.99 USD | K86: 80 | L86: 27.99 | M86: 39.99 | N86: 39.99
C87: Hidden | I87: =Table1[[#This Row],[FriendlyName]]&" - " &TEXT(Table1[[#This Row],[WholeSale]],"$0.00") & " USD" -> 81 - $28.34 USD | J87: =Table1[[#This Row],[FriendlyName]]&" - " &TEXT(Table1[[#This Row],[MSRP]],"$0.00") & " USD" -> 81 - $40.49 USD | K87: 81 | L87: 28.34 | M87: 40.49 | N87: 40.49
I88: =Table1[[#This Row],[FriendlyName]]&" - " &TEXT(Table1[[#This Row],[WholeSale]],"$0.00") & " USD" -> 82 - $28.69 USD | J88: =Table1[[#This Row],[FriendlyName]]&" - " &TEXT(Table1[[#This Row],[MSRP]],"$0.00") & " USD" -> 82 - $40.99 USD | K88: 82 | L88: 28.69 | M88: 40.99 | N88: 40.99
I89: =Table1[[#This Row],[FriendlyName]]&" - " &TEXT(Table1[[#This Row],[WholeSale]],"$0.00") & " USD" -> 83 - $29.04 USD | J89: =Table1[[#This Row],[FriendlyName]]&" - " &TEXT(Table1[[#This Row],[MSRP]],"$0.00") & " USD" -> 83 - $41.49 USD | K89: 83 | L89: 29.04 | M89: 41.49 | N89: 41.49
B90: Product Status | C90: Select_Option | I90: =Table1[[#This Row],[FriendlyName]]&" - " &TEXT(Table1[[#This Row],[WholeSale]],"$0.00") & " USD" -> 84 - $29.39 USD | J90: =Table1[[#This Row],[FriendlyName]]&" - " &TEXT(Table1[[#This Row],[MSRP]],"$0.00") & " USD" -> 84 - $41.99 USD | K90: 84 | L90: 29.39 | M90: 41.99 | N90: 41.99
C91: Internal Development and Testing | I91: =Table1[[#This Row],[FriendlyName]]&" - " &TEXT(Table1[[#This Row],[WholeSale]],"$0.00") & " USD" -> 85 - $29.74 USD | J91: =Table1[[#This Row],[FriendlyName]]&" - " &TEXT(Table1[[#This Row],[MSRP]],"$0.00") & " USD" -> 85 - $42.49 USD | K91: 85 | L91: 29.74 | M91: 42.49 | N91: 42.49
C92: Publishing for Game Detail Page | I92: =Table1[[#This Row],[FriendlyName]]&" - " &TEXT(Table1[[#This Row],[WholeSale]],"$0.00") & " USD" -> 86 - $30.09 USD | J92: =Table1[[#This Row],[FriendlyName]]&" - " &TEXT(Table1[[#This Row],[MSRP]],"$0.00") & " USD" -> 86 - $42.99 USD | K92: 86 | L92: 30.09 | M92: 42.99 | N92: 42.99
C93: Publishing for Certification | I93: =Table1[[#This Row],[FriendlyName]]&" - " &TEXT(Table1[[#This Row],[WholeSale]],"$0.00") & " USD" -> 87 - $30.44 USD | J93: =Table1[[#This Row],[FriendlyName]]&" - " &TEXT(Table1[[#This Row],[MSRP]],"$0.00") & " USD" -> 87 - $43.49 USD | K93: 87 | L93: 30.44 | M93: 43.49 | N93: 43.49
C94: Publishing for Release to Internal BETA RETAIL Audience | I94: =Table1[[#This Row],[FriendlyName]]&" - " &TEXT(Table1[[#This Row],[WholeSale]],"$0.00") & " USD" -> 88 - $30.79 USD | J94: =Table1[[#This Row],[FriendlyName]]&" - " &TEXT(Table1[[#This Row],[MSRP]],"$0.00") & " USD" -> 88 - $43.99 USD | K94: 88 | L94: 30.79 | M94: 43.99 | N94: 43.99
C95: Publishing for Release to External BETA RETAIL Audience | I95: =Table1[[#This Row],[FriendlyName]]&" - " &TEXT(Table1[[#This Row],[WholeSale]],"$0.00") & " USD" -> 89 - $31.14 USD | J95: =Table1[[#This Row],[FriendlyName]]&" - " &TEXT(Table1[[#This Row],[MSRP]],"$0.00") & " USD" -> 89 - $44.49 USD | K95: 89 | L95: 31.14 | M95: 44.49 | N95: 44.49
C96: Publishing All Final Information for RETAIL Standard Release | I96: =Table1[[#This Row],[FriendlyName]]&" - " &TEXT(Table1[[#This Row],[WholeSale]],"$0.00") & " USD" -> 90 - $31.49 USD | J96: =Table1[[#This Row],[FriendlyName]]&" - " &TEXT(Table1[[#This Row],[MSRP]],"$0.00") & " USD" -> 90 - $44.99 USD | K96: 90 | L96: 31.49 | M96: 44.99 | N96: 44.99
I97: =Table1[[#This Row],[FriendlyName]]&" - " &TEXT(Table1[[#This Row],[WholeSale]],"$0.00") & " USD" -> 91 - $31.84 USD | J97: =Table1[[#This Row],[FriendlyName]]&" - " &TEXT(Table1[[#This Row],[MSRP]],"$0.00") & " USD" -> 91 - $45.49 USD | K97: 91 | L97: 31.84 | M97: 45.49 | N97: 45.49
I98: =Table1[[#This Row],[FriendlyName]]&" - " &TEXT(Table1[[#This Row],[WholeSale]],"$0.00") & " USD" -> 92 - $32.19 USD | J98: =Table1[[#This Row],[FriendlyName]]&" - " &TEXT(Table1[[#This Row],[MSRP]],"$0.00") & " USD" -> 92 - $45.99 USD | K98: 92 | L98: 32.19 | M98: 45.99 | N98: 45.99
I99: =Table1[[#This Row],[FriendlyName]]&" - " &TEXT(Table1[[#This Row],[WholeSale]],"$0.00") & " USD" -> 93 - $32.54 USD | J99: =Table1[[#This Row],[FriendlyName]]&" - " &TEXT(Table1[[#This Row],[MSRP]],"$0.00") & " USD" -> 93 - $46.49 USD | K99: 93 | L99: 32.54 | M99: 46.49 | N99: 46.49
I100: =Table1[[#This Row],[FriendlyName]]&" - " &TEXT(Table1[[#This Row],[WholeSale]],"$0.00") & " USD" -> 94 - $32.89 USD | J100: =Table1[[#This Row],[FriendlyName]]&" - " &TEXT(Table1[[#This Row],[MSRP]],"$0.00") & " USD" -> 94 - $46.99 USD | K100: 94 | L100: 32.89 | M100: 46.99 | N100: 46.99
...

Sheet AVAILABILITIES & BINARIES
B2: Binaries (XVC and EKB files) must be uploaded to the location specified on the "Product Details" tab.
B4: C | C4: AVAILABILITIES AND BINARIES
E5: AVAILABLE? | F5: CONTENT PACKAGE NAME | G5: XVC FILE NAME | H5: EKB FILE NAME | I5: SUPPORTED LANGUAGES | J5: WHOLESALE PRICE TIER | K5: WHOLESALE PRICE | L5: MSRP PRICE TIER OVERRIDE (MICROSOFT USE ONLY) | M5: MSRP PRICE | N5: RETAIL PRICE TIER (MICROSOFT USE ONLY) | O5: RETAIL PRICE (MICROSOFT USE ONLY) | P5: VISIBLE IN THE CATALOG? | Q5: HAS A TRIAL? | R5: TIME OF TRIAL (IN MINUTES) | S5: REQUIRES GOLD? | T5: VISIBILITY START DATE / TIME (UTC) | U5: VISIBILITY END DATE / TIME (UTC) | V5: SALE START DATE / TIME (UTC) | W5: SALE END DATE / TIME (UTC) | X5: TOKEN START DATE / TIME (UTC) | Y5: TOKEN END DATE / TIME (UTC)
C6: NORTH AMERICA
C7: United States | E7: YES | F7: Enter_Information_Here | G7: Enter_Information_Here | H7: Enter_Information_Here | I7: EN, IT, FR, DE, ES, DA, NL, NO, SV, FI, PT | J7: Select_Option | K7: {=IF((J7="Select_Option")+(J7=""),"",IF(J7="Test Tier 1 - $0.01 USD",0.01,IF(J7="Test Tier 2 - $0.02 USD",0.02,INDEX(WSP[#All],MATCH(J7,WSP[LOOKUP],0)+1,MATCH(C7,WSP[#Headers],0)))))} | L7: Select_Option | M7: {=IF((L7="Select_Option")*(J7="Select_Option"),"",IF((L7="Select_Option")*(J7<>"Select_Option"),INDEX(SRP[#All],MATCH(INDEX(_reference!$J$3:$J$406,MATCH(J7,_reference!$I$3:$I$406,0)),SRP[LOOKUP],0)+1,MATCH(C7,SRP[#Headers],0)),IF(L7="Test Tier 1 - $0.01 USD",0.01,IF(L7="Test Tier 2 - $0.02 USD",0.02,INDEX(SRP[#All],MATCH(L7,SRP[LOOKUP],0)+1,MATCH(C7,SRP[#Headers],0))))))} | N7: Select_Option | O7: {=IF((N7="Select_Option")+(N7=""),"",IF(N7="Test Tier 1 - $0.01 USD",0.01,IF(N7="Test Tier 2 - $0.02 USD",0.02,INDEX(SRP[#All],MATCH(N7,SRP[LOOKUP],0)+1,MATCH(C7,SRP[#Headers],0)))))} | P7: Visible | Q7: Select_Option | R7: 0 | S7: Select_Option | T7: ${dlcReleaseDateXOneNCSA}$ | U7: 73050 | V7: 41862 | W7: 73050 | X7: 41862 | Y7: 73050
C8: Canada | E8: YES | F8: Enter_Information_Here | G8: Enter_Information_Here | H8: Enter_Information_Here | I8: EN, IT, FR, DE, ES, DA, NL, NO, SV, FI, PT | J8: Select_Option | K8: {=IF((J8="Select_Option")+(J8=""),"",IF(J8="Test Tier 1 - $0.01 USD",0.01,IF(J8="Test Tier 2 - $0.02 USD",0.02,INDEX(WSP[#All],MATCH(J8,WSP[LOOKUP],0)+1,MATCH(C8,WSP[#Headers],0)))))} | L8: Select_Option | M8: {=IF((L8="Select_Option")*(J8="Select_Option"),"",IF((L8="Select_Option")*(J8<>"Select_Option"),INDEX(SRP[#All],MATCH(INDEX(_reference!$J$3:$J$406,MATCH(J8,_reference!$I$3:$I$406,0)),SRP[LOOKUP],0)+1,MATCH(C8,SRP[#Headers],0)),IF(L8="Test Tier 1 - $0.01 USD",0.01,IF(L8="Test Tier 2 - $0.02 USD",0.02,INDEX(SRP[#All],MATCH(L8,SRP[LOOKUP],0)+1,MATCH(C8,SRP[#Headers],0))))))} | N8: Select_Option | O8: {=IF((N8="Select_Option")+(N8=""),"",IF(N8="Test Tier 1 - $0.01 USD",0.01,IF(N8="Test Tier 2 - $0.02 USD",0.02,INDEX(SRP[#All],MATCH(N8,SRP[LOOKUP],0)+1,MATCH(C8,SRP[#Headers],0)))))} | P8: Visible | Q8: Select_Option | R8: 0 | S8: Select_Option | T8: ${dlcReleaseDateXOneNCSA}$ | U8: 73050 | V8: 41862 | W8: 73050 | X8: 41862 | Y8: 73050
C9: Mexico | E9: YES | F9: Enter_Information_Here | G9: Enter_Information_Here | H9: Enter_Information_Here | I9: EN, IT, FR, DE, ES, DA, NL, NO, SV, FI, PT | J9: Select_Option | K9: {=IF((J9="Select_Option")+(J9=""),"",IF(J9="Test Tier 1 - $0.01 USD",0.01,IF(J9="Test Tier 2 - $0.02 USD",0.02,INDEX(WSP[#All],MATCH(J9,WSP[LOOKUP],0)+1,MATCH(C9,WSP[#Headers],0)))))} | L9: Select_Option | M9: {=IF((L9="Select_Option")*(J9="Select_Option"),"",IF((L9="Select_Option")*(J9<>"Select_Option"),INDEX(SRP[#All],MATCH(INDEX(_reference!$J$3:$J$406,MATCH(J9,_reference!$I$3:$I$406,0)),SRP[LOOKUP],0)+1,MATCH(C9,SRP[#Headers],0)),IF(L9="Test Tier 1 - $0.01 USD",0.01,IF(L9="Test Tier 2 - $0.02 USD",0.02,INDEX(SRP[#All],MATCH(L9,SRP[LOOKUP],0)+1,MATCH(C9,SRP[#Headers],0))))))} | N9: Select_Option | O9: {=IF((N9="Select_Option")+(N9=""),"",IF(N9="Test Tier 1 - $0.01 USD",0.01,IF(N9="Test Tier 2 - $0.02 USD",0.02,INDEX(SRP[#All],MATCH(N9,SRP[LOOKUP],0)+1,MATCH(C9,SRP[#Headers],0)))))} | P9: Visible | Q9: Select_Option | R9: 0 | S9: Select_Option | T9: ${dlcReleaseDateXOneNCSA}$ | U9: 73050 | V9: 41862 | W9: 73050 | X9: 41862 | Y9: 73050
A10: =IF((J10="Select_Option")+(J10=""),"",IF(J10="Test Tier 1 - $0.01 USD",0.01,IF(J10="Test Tier 2 - $0.02 USD",0.02,INDEX(WSP[#All],MATCH(J10,WSP[LOOKUP],0)+1,MATCH(C10,WSP[#Headers],0))))) | C10: WESTERN EUROPE | K10: {=IF((J10="Select_Option")+(J10=""),"",IF(J10="Test Tier 1 - $0.01 USD",0.01,IF(J10="Test Tier 2 - $0.02 USD",0.02,INDEX(WSP[#All],MATCH(J10,WSP[LOOKUP],0)+1,MATCH(C10,WSP[#Headers],0)))))}
A11: =IF((J11="Select_Option")+(J11=""),"",IF(J11="Test Tier 1 - $0.01 USD",0.01,IF(J11="Test Tier 2 - $0.02 USD",0.02,INDEX(WSP[#All],MATCH(J11,WSP[LOOKUP],0)+1,MATCH(C11,WSP[#Headers],0))))) | C11: Austria | E11: YES | F11: Enter_Information_Here | G11: Enter_Information_Here | H11: Enter_Information_Here | I11: EN, IT, FR, DE, ES, DA, NL, NO, SV, FI, PT | J11: Select_Option | K11: {=IF((J11="Select_Option")+(J11=""),"",IF(J11="Test Tier 1 - $0.01 USD",0.01,IF(J11="Test Tier 2 - $0.02 USD",0.02,INDEX(WSP[#All],MATCH(J11,WSP[LOOKUP],0)+1,MATCH(C11,WSP[#Headers],0)))))} | L11: Select_Option | M11: {=IF((L11="Select_Option")*(J11="Select_Option"),"",IF((L11="Select_Option")*(J11<>"Select_Option"),INDEX(SRP[#All],MATCH(INDEX(_reference!$J$3:$J$406,MATCH(J11,_reference!$I$3:$I$406,0)),SRP[LOOKUP],0)+1,MATCH(C11,SRP[#Headers],0)),IF(L11="Test Tier 1 - $0.01 USD",0.01,IF(L11="Test Tier 2 - $0.02 USD",0.02,INDEX(SRP[#All],MATCH(L11,SRP[LOOKUP],0)+1,MATCH(C11,SRP[#Headers],0))))))} | N11: Select_Option | O11: {=IF((N11="Select_Option")+(N11=""),"",IF(N11="Test Tier 1 - $0.01 USD",0.01,IF(N11="Test Tier 2 - $0.02 USD",0.02,INDEX(SRP[#All],MATCH(N11,SRP[LOOKUP],0)+1,MATCH(C11,SRP[#Headers],0)))))} | P11: Visible | Q11: Select_Option | R11: 0 | S11: Select_Option | T11: ${dlcReleaseDateXOneNCSA}$ | U11: 73050 | V11: 41862 | W11: 73050 | X11: 41862 | Y11: 73050
A12: =IF((J12="Select_Option")+(J12=""),"",IF(J12="Test Tier 1 - $0.01 USD",0.01,IF(J12="Test Tier 2 - $0.02 USD",0.02,INDEX(WSP[#All],MATCH(J12,WSP[LOOKUP],0)+1,MATCH(C12,WSP[#Headers],0))))) | C12: Belgium | E12: YES | F12: Enter_Information_Here | G12: Enter_Information_Here | H12: Enter_Information_Here | I12: EN, IT, FR, DE, ES, DA, NL, NO, SV, FI, PT | J12: Select_Option | K12: {=IF((J12="Select_Option")+(J12=""),"",IF(J12="Test Tier 1 - $0.01 USD",0.01,IF(J12="Test Tier 2 - $0.02 USD",0.02,INDEX(WSP[#All],MATCH(J12,WSP[LOOKUP],0)+1,MATCH(C12,WSP[#Headers],0)))))} | L12: Select_Option | M12: {=IF((L12="Select_Option")*(J12="Select_Option"),"",IF((L12="Select_Option")*(J12<>"Select_Option"),INDEX(SRP[#All],MATCH(INDEX(_reference!$J$3:$J$406,MATCH(J12,_reference!$I$3:$I$406,0)),SRP[LOOKUP],0)+1,MATCH(C12,SRP[#Headers],0)),IF(L12="Test Tier 1 - $0.01 USD",0.01,IF(L12="Test Tier 2 - $0.02 USD",0.02,INDEX(SRP[#All],MATCH(L12,SRP[LOOKUP],0)+1,MATCH(C12,SRP[#Headers],0))))))} | N12: Select_Option | O12: {=IF((N12="Select_Option")+(N12=""),"",IF(N12="Test Tier 1 - $0.01 USD",0.01,IF(N12="Test Tier 2 - $0.02 USD",0.02,INDEX(SRP[#All],MATCH(N12,SRP[LOOKUP],0)+1,MATCH(C12,SRP[#Headers],0)))))} | P12: Visible | Q12: Select_Option | R12: 0 | S12: Select_Option | T12: ${dlcReleaseDateXOneNCSA}$ | U12: 73050 | V12: 41862 | W12: 73050 | X12: 41862 | Y12: 73050
A13: =IF((J13="Select_Option")+(J13=""),"",IF(J13="Test Tier 1 - $0.01 USD",0.01,IF(J13="Test Tier 2 - $0.02 USD",0.02,INDEX(WSP[#All],MATCH(J13,WSP[LOOKUP],0)+1,MATCH(C13,WSP[#Headers],0))))) | C13: Denmark | E13: YES | F13: Enter_Information_Here | G13: Enter_Information_Here | H13: Enter_Information_Here | I13: EN, IT, FR, DE, ES, DA, NL, NO, SV, FI, PT | J13: Select_Option | K13: {=IF((J13="Select_Option")+(J13=""),"",IF(J13="Test Tier 1 - $0.01 USD",0.01,IF(J13="Test Tier 2 - $0.02 USD",0.02,INDEX(WSP[#All],MATCH(J13,WSP[LOOKUP],0)+1,MATCH(C13,WSP[#Headers],0)))))} | L13: Select_Option | M13: {=IF((L13="Select_Option")*(J13="Select_Option"),"",IF((L13="Select_Option")*(J13<>"Select_Option"),INDEX(SRP[#All],MATCH(INDEX(_reference!$J$3:$J$406,MATCH(J13,_reference!$I$3:$I$406,0)),SRP[LOOKUP],0)+1,MATCH(C13,SRP[#Headers],0)),IF(L13="Test Tier 1 - $0.01 USD",0.01,IF(L13="Test Tier 2 - $0.02 USD",0.02,INDEX(SRP[#All],MATCH(L13,SRP[LOOKUP],0)+1,MATCH(C13,SRP[#Headers],0))))))} | N13: Select_Option | O13: {=IF((N13="Select_Option")+(N13=""),"",IF(N13="Test Tier 1 - $0.01 USD",0.01,IF(N13="Test Tier 2 - $0.02 USD",0.02,INDEX(SRP[#All],MATCH(N13,SRP[LOOKUP],0)+1,MATCH(C13,SRP[#Headers],0)))))} | P13: Visible | Q13: Select_Option | R13: 0 | S13: Select_Option | T13: ${dlcReleaseDateXOneNCSA}$ | U13: 73050 | V13: 41862 | W13: 73050 | X13: 41862 | Y13: 73050
A14: =IF((J14="Select_Option")+(J14=""),"",IF(J14="Test Tier 1 - $0.01 USD",0.01,IF(J14="Test Tier 2 - $0.02 USD",0.02,INDEX(WSP[#All],MATCH(J14,WSP[LOOKUP],0)+1,MATCH(C14,WSP[#Headers],0))))) | C14: Finland | E14: YES | F14: Enter_Information_Here | G14: Enter_Information_Here | H14: Enter_Information_Here | I14: EN, IT, FR, DE, ES, DA, NL, NO, SV, FI, PT | J14: Select_Option | K14: {=IF((J14="Select_Option")+(J14=""),"",IF(J14="Test Tier 1 - $0.01 USD",0.01,IF(J14="Test Tier 2 - $0.02 USD",0.02,INDEX(WSP[#All],MATCH(J14,WSP[LOOKUP],0)+1,MATCH(C14,WSP[#Headers],0)))))} | L14: Select_Option | M14: {=IF((L14="Select_Option")*(J14="Select_Option"),"",IF((L14="Select_Option")*(J14<>"Select_Option"),INDEX(SRP[#All],MATCH(INDEX(_reference!$J$3:$J$406,MATCH(J14,_reference!$I$3:$I$406,0)),SRP[LOOKUP],0)+1,MATCH(C14,SRP[#Headers],0)),IF(L14="Test Tier 1 - $0.01 USD",0.01,IF(L14="Test Tier 2 - $0.02 USD",0.02,INDEX(SRP[#All],MATCH(L14,SRP[LOOKUP],0)+1,MATCH(C14,SRP[#Headers],0))))))} | N14: Select_Option | O14: {=IF((N14="Select_Option")+(N14=""),"",IF(N14="Test Tier 1 - $0.01 USD",0.01,IF(N14="Test Tier 2 - $0.02 USD",0.02,INDEX(SRP[#All],MATCH(N14,SRP[LOOKUP],0)+1,MATCH(C14,SRP[#Headers],0)))))} | P14: Visible | Q14: Select_Option | R14: 0 | S14: Select_Option | T14: ${dlcReleaseDateXOneNCSA}$ | U14: 73050 | V14: 41862 | W14: 73050 | X14: 41862 | Y14: 73050
A15: =IF((J15="Select_Option")+(J15=""),"",IF(J15="Test Tier 1 - $0.01 USD",0.01,IF(J15="Test Tier 2 - $0.02 USD",0.02,INDEX(WSP[#All],MATCH(J15,WSP[LOOKUP],0)+1,MATCH(C15,WSP[#Headers],0))))) | C15: France | E15: YES | F15: Enter_Information_Here | G15: Enter_Information_Here | H15: Enter_Information_Here | I15: EN, IT, FR, DE, ES, DA, NL, NO, SV, FI, PT | J15: Select_Option | K15: {=IF((J15="Select_Option")+(J15=""),"",IF(J15="Test Tier 1 - $0.01 USD",0.01,IF(J15="Test Tier 2 - $0.02 USD",0.02,INDEX(WSP[#All],MATCH(J15,WSP[LOOKUP],0)+1,MATCH(C15,WSP[#Headers],0)))))} | L15: Select_Option | M15: {=IF((L15="Select_Option")*(J15="Select_Option"),"",IF((L15="Select_Option")*(J15<>"Select_Option"),INDEX(SRP[#All],MATCH(INDEX(_reference!$J$3:$J$406,MATCH(J15,_reference!$I$3:$I$406,0)),SRP[LOOKUP],0)+1,MATCH(C15,SRP[#Headers],0)),IF(L15="Test Tier 1 - $0.01 USD",0.01,IF(L15="Test Tier 2 - $0.02 USD",0.02,INDEX(SRP[#All],MATCH(L15,SRP[LOOKUP],0)+1,MATCH(C15,SRP[#Headers],0))))))} | N15: Select_Option | O15: {=IF((N15="Select_Option")+(N15=""),"",IF(N15="Test Tier 1 - $0.01 USD",0.01,IF(N15="Test Tier 2 - $0.02 USD",0.02,INDEX(SRP[#All],MATCH(N15,SRP[LOOKUP],0)+1,MATCH(C15,SRP[#Headers],0)))))} | P15: Visible | Q15: Select_Option | R15: 0 | S15: Select_Option | T15: ${dlcReleaseDateXOneNCSA}$ | U15: 73050 | V15: 41862 | W15: 73050 | X15: 41862 | Y15: 73050
A16: =IF((J16="Select_Option")+(J16=""),"",IF(J16="Test Tier 1 - $0.01 USD",0.01,IF(J16="Test Tier 2 - $0.02 USD",0.02,INDEX(WSP[#All],MATCH(J16,WSP[LOOKUP],0)+1,MATCH(C16,WSP[#Headers],0))))) | C16: Germany | E16: YES | F16: Enter_Information_Here | G16: Enter_Information_Here | H16: Enter_Information_Here | I16: EN, IT, FR, DE, ES, DA, NL, NO, SV, FI, PT | J16: Select_Option | K16: {=IF((J16="Select_Option")+(J16=""),"",IF(J16="Test Tier 1 - $0.01 USD",0.01,IF(J16="Test Tier 2 - $0.02 USD",0.02,INDEX(WSP[#All],MATCH(J16,WSP[LOOKUP],0)+1,MATCH(C16,WSP[#Headers],0)))))} | L16: Select_Option | M16: {=IF((L16="Select_Option")*(J16="Select_Option"),"",IF((L16="Select_Option")*(J16<>"Select_Option"),INDEX(SRP[#All],MATCH(INDEX(_reference!$J$3:$J$406,MATCH(J16,_reference!$I$3:$I$406,0)),SRP[LOOKUP],0)+1,MATCH(C16,SRP[#Headers],0)),IF(L16="Test Tier 1 - $0.01 USD",0.01,IF(L16="Test Tier 2 - $0.02 USD",0.02,INDEX(SRP[#All],MATCH(L16,SRP[LOOKUP],0)+1,MATCH(C16,SRP[#Headers],0))))))} | N16: Select_Option | O16: {=IF((N16="Select_Option")+(N16=""),"",IF(N16="Test Tier 1 - $0.01 USD",0.01,IF(N16="Test Tier 2 - $0.02 USD",0.02,INDEX(SRP[#All],MATCH(N16,SRP[LOOKUP],0)+1,MATCH(C16,SRP[#Headers],0)))))} | P16: Visible | Q16: Select_Option | R16: 0 | S16: Select_Option | T16: ${dlcReleaseDateXOneNCSA}$ | U16: 73050 | V16: 41862 | W16: 73050 | X16: 41862 | Y16: 73050
A17: =IF((J17="Select_Option")+(J17=""),"",IF(J17="Test Tier 1 - $0.01 USD",0.01,IF(J17="Test Tier 2 - $0.02 USD",0.02,INDEX(WSP[#All],MATCH(J17,WSP[LOOKUP],0)+1,MATCH(C17,WSP[#Headers],0))))) | C17: Ireland | E17: YES | F17: Enter_Information_Here | G17: Enter_Information_Here | H17: Enter_Information_Here | I17: EN, IT, FR, DE, ES, DA, NL, NO, SV, FI, PT | J17: Select_Option | K17: {=IF((J17="Select_Option")+(J17=""),"",IF(J17="Test Tier 1 - $0.01 USD",0.01,IF(J17="Test Tier 2 - $0.02 USD",0.02,INDEX(WSP[#All],MATCH(J17,WSP[LOOKUP],0)+1,MATCH(C17,WSP[#Headers],0)))))} | L17: Select_Option | M17: {=IF((L17="Select_Option")*(J17="Select_Option"),"",IF((L17="Select_Option")*(J17<>"Select_Option"),INDEX(SRP[#All],MATCH(INDEX(_reference!$J$3:$J$406,MATCH(J17,_reference!$I$3:$I$406,0)),SRP[LOOKUP],0)+1,MATCH(C17,SRP[#Headers],0)),IF(L17="Test Tier 1 - $0.01 USD",0.01,IF(L17="Test Tier 2 - $0.02 USD",0.02,INDEX(SRP[#All],MATCH(L17,SRP[LOOKUP],0)+1,MATCH(C17,SRP[#Headers],0))))))} | N17: Select_Option | O17: {=IF((N17="Select_Option")+(N17=""),"",IF(N17="Test Tier 1 - $0.01 USD",0.01,IF(N17="Test Tier 2 - $0.02 USD",0.02,INDEX(SRP[#All],MATCH(N17,SRP[LOOKUP],0)+1,MATCH(C17,SRP[#Headers],0)))))} | P17: Visible | Q17: Select_Option | R17: 0 | S17: Select_Option | T17: ${dlcReleaseDateXOneNCSA}$ | U17: 73050 | V17: 41862 | W17: 73050 | X17: 41862 | Y17: 73050
A18: =IF((J18="Select_Option")+(J18=""),"",IF(J18="Test Tier 1 - $0.01 USD",0.01,IF(J18="Test Tier 2 - $0.02 USD",0.02,INDEX(WSP[#All],MATCH(J18,WSP[LOOKUP],0)+1,MATCH(C18,WSP[#Headers],0))))) | C18: Italy | E18: YES | F18: Enter_Information_Here | G18: Enter_Information_Here | H18: Enter_Information_Here | I18: EN, IT, FR, DE, ES, DA, NL, NO, SV, FI, PT | J18: Select_Option | K18: {=IF((J18="Select_Option")+(J18=""),"",IF(J18="Test Tier 1 - $0.01 USD",0.01,IF(J18="Test Tier 2 - $0.02 USD",0.02,INDEX(WSP[#All],MATCH(J18,WSP[LOOKUP],0)+1,MATCH(C18,WSP[#Headers],0)))))} | L18: Select_Option | M18: {=IF((L18="Select_Option")*(J18="Select_Option"),"",IF((L18="Select_Option")*(J18<>"Select_Option"),INDEX(SRP[#All],MATCH(INDEX(_reference!$J$3:$J$406,MATCH(J18,_reference!$I$3:$I$406,0)),SRP[LOOKUP],0)+1,MATCH(C18,SRP[#Headers],0)),IF(L18="Test Tier 1 - $0.01 USD",0.01,IF(L18="Test Tier 2 - $0.02 USD",0.02,INDEX(SRP[#All],MATCH(L18,SRP[LOOKUP],0)+1,MATCH(C18,SRP[#Headers],0))))))} | N18: Select_Option | O18: {=IF((N18="Select_Option")+(N18=""),"",IF(N18="Test Tier 1 - $0.01 USD",0.01,IF(N18="Test Tier 2 - $0.02 USD",0.02,INDEX(SRP[#All],MATCH(N18,SRP[LOOKUP],0)+1,MATCH(C18,SRP[#Headers],0)))))} | P18: Visible | Q18: Select_Option | R18: 0 | S18: Select_Option | T18: ${dlcReleaseDateXOneNCSA}$ | U18: 73050 | V18: 41862 | W18: 73050 | X18: 41862 | Y18: 73050
A19: =IF((J19="Select_Option")+(J19=""),"",IF(J19="Test Tier 1 - $0.01 USD",0.01,IF(J19="Test Tier 2 - $0.02 USD",0.02,INDEX(WSP[#All],MATCH(J19,WSP[LOOKUP],0)+1,MATCH(C19,WSP[#Headers],0))))) | C19: Netherlands | E19: YES | F19: Enter_Information_Here | G19: Enter_Information_Here | H19: Enter_Information_Here | I19: EN, IT, FR, DE, ES, DA, NL, NO, SV, FI, PT | J19: Select_Option | K19: {=IF((J19="Select_Option")+(J19=""),"",IF(J19="Test Tier 1 - $0.01 USD",0.01,IF(J19="Test Tier 2 - $0.02 USD",0.02,INDEX(WSP[#All],MATCH(J19,WSP[LOOKUP],0)+1,MATCH(C19,WSP[#Headers],0)))))} | L19: Select_Option | M19: {=IF((L19="Select_Option")*(J19="Select_Option"),"",IF((L19="Select_Option")*(J19<>"Select_Option"),INDEX(SRP[#All],MATCH(INDEX(_reference!$J$3:$J$406,MATCH(J19,_reference!$I$3:$I$406,0)),SRP[LOOKUP],0)+1,MATCH(C19,SRP[#Headers],0)),IF(L19="Test Tier 1 - $0.01 USD",0.01,IF(L19="Test Tier 2 - $0.02 USD",0.02,INDEX(SRP[#All],MATCH(L19,SRP[LOOKUP],0)+1,MATCH(C19,SRP[#Headers],0))))))} | N19: Select_Option | O19: {=IF((N19="Select_Option")+(N19=""),"",IF(N19="Test Tier 1 - $0.01 USD",0.01,IF(N19="Test Tier 2 - $0.02 USD",0.02,INDEX(SRP[#All],MATCH(N19,SRP[LOOKUP],0)+1,MATCH(C19,SRP[#Headers],0)))))} | P19: Visible | Q19: Select_Option | R19: 0 | S19: Select_Option | T19: ${dlcReleaseDateXOneNCSA}$ | U19: 73050 | V19: 41862 | W19: 73050 | X19: 41862 | Y19: 73050
A20: =IF((J20="Select_Option")+(J20=""),"",IF(J20="Test Tier 1 - $0.01 USD",0.01,IF(J20="Test Tier 2 - $0.02 USD",0.02,INDEX(WSP[#All],MATCH(J20,WSP[LOOKUP],0)+1,MATCH(C20,WSP[#Headers],0))))) | C20: Norway | E20: YES | F20: Enter_Information_Here | G20: Enter_Information_Here | H20: Enter_Information_Here | I20: EN, IT, FR, DE, ES, DA, NL, NO, SV, FI, PT | J20: Select_Option | K20: {=IF((J20="Select_Option")+(J20=""),"",IF(J20="Test Tier 1 - $0.01 USD",0.01,IF(J20="Test Tier 2 - $0.02 USD",0.02,INDEX(WSP[#All],MATCH(J20,WSP[LOOKUP],0)+1,MATCH(C20,WSP[#Headers],0)))))} | L20: Select_Option | M20: {=IF((L20="Select_Option")*(J20="Select_Option"),"",IF((L20="Select_Option")*(J20<>"Select_Option"),INDEX(SRP[#All],MATCH(INDEX(_reference!$J$3:$J$406,MATCH(J20,_reference!$I$3:$I$406,0)),SRP[LOOKUP],0)+1,MATCH(C20,SRP[#Headers],0)),IF(L20="Test Tier 1 - $0.01 USD",0.01,IF(L20="Test Tier 2 - $0.02 USD",0.02,INDEX(SRP[#All],MATCH(L20,SRP[LOOKUP],0)+1,MATCH(C20,SRP[#Headers],0))))))} | N20: Select_Option | O20: {=IF((N20="Select_Option")+(N20=""),"",IF(N20="Test Tier 1 - $0.01 USD",0.01,IF(N20="Test Tier 2 - $0.02 USD",0.02,INDEX(SRP[#All],MATCH(N20,SRP[LOOKUP],0)+1,MATCH(C20,SRP[#Headers],0)))))} | P20: Visible | Q20: Select_Option | R20: 0 | S20: Select_Option | T20: ${dlcReleaseDateXOneNCSA}$ | U20: 73050 | V20: 41862 | W20: 73050 | X20: 41862 | Y20: 73050
A21: =IF((J21="Select_Option")+(J21=""),"",IF(J21="Test Tier 1 - $0.01 USD",0.01,IF(J21="Test Tier 2 - $0.02 USD",0.02,INDEX(WSP[#All],MATCH(J21,WSP[LOOKUP],0)+1,MATCH(C21,WSP[#Headers],0))))) | C21: Portugal | E21: YES | F21: Enter_Information_Here | G21: Enter_Information_Here | H21: Enter_Information_Here | I21: EN, IT, FR, DE, ES, DA, NL, NO, SV, FI, PT | J21: Select_Option | K21: {=IF((J21="Select_Option")+(J21=""),"",IF(J21="Test Tier 1 - $0.01 USD",0.01,IF(J21="Test Tier 2 - $0.02 USD",0.02,INDEX(WSP[#All],MATCH(J21,WSP[LOOKUP],0)+1,MATCH(C21,WSP[#Headers],0)))))} | L21: Select_Option | M21: {=IF((L21="Select_Option")*(J21="Select_Option"),"",IF((L21="Select_Option")*(J21<>"Select_Option"),INDEX(SRP[#All],MATCH(INDEX(_reference!$J$3:$J$406,MATCH(J21,_reference!$I$3:$I$406,0)),SRP[LOOKUP],0)+1,MATCH(C21,SRP[#Headers],0)),IF(L21="Test Tier 1 - $0.01 USD",0.01,IF(L21="Test Tier 2 - $0.02 USD",0.02,INDEX(SRP[#All],MATCH(L21,SRP[LOOKUP],0)+1,MATCH(C21,SRP[#Headers],0))))))} | N21: Select_Option | O21: {=IF((N21="Select_Option")+(N21=""),"",IF(N21="Test Tier 1 - $0.01 USD",0.01,IF(N21="Test Tier 2 - $0.02 USD",0.02,INDEX(SRP[#All],MATCH(N21,SRP[LOOKUP],0)+1,MATCH(C21,SRP[#Headers],0)))))} | P21: Visible | Q21: Select_Option | R21: 0 | S21: Select_Option | T21: ${dlcReleaseDateXOneNCSA}$ | U21: 73050 | V21: 41862 | W21: 73050 | X21: 41862 | Y21: 73050
A22: =IF((J22="Select_Option")+(J22=""),"",IF(J22="Test Tier 1 - $0.01 USD",0.01,IF(J22="Test Tier 2 - $0.02 USD",0.02,INDEX(WSP[#All],MATCH(J22,WSP[LOOKUP],0)+1,MATCH(C22,WSP[#Headers],0))))) | C22: Spain | E22: YES | F22: Enter_Information_Here | G22: Enter_Information_Here | H22: Enter_Information_Here | I22: EN, IT, FR, DE, ES, DA, NL, NO, SV, FI, PT | J22: Select_Option | K22: {=IF((J22="Select_Option")+(J22=""),"",IF(J22="Test Tier 1 - $0.01 USD",0.01,IF(J22="Test Tier 2 - $0.02 USD",0.02,INDEX(WSP[#All],MATCH(J22,WSP[LOOKUP],0)+1,MATCH(C22,WSP[#Headers],0)))))} | L22: Select_Option | M22: {=IF((L22="Select_Option")*(J22="Select_Option"),"",IF((L22="Select_Option")*(J22<>"Select_Option"),INDEX(SRP[#All],MATCH(INDEX(_reference!$J$3:$J$406,MATCH(J22,_reference!$I$3:$I$406,0)),SRP[LOOKUP],0)+1,MATCH(C22,SRP[#Headers],0)),IF(L22="Test Tier 1 - $0.01 USD",0.01,IF(L22="Test Tier 2 - $0.02 USD",0.02,INDEX(SRP[#All],MATCH(L22,SRP[LOOKUP],0)+1,MATCH(C22,SRP[#Headers],0))))))} | N22: Select_Option | O22: {=IF((N22="Select_Option")+(N22=""),"",IF(N22="Test Tier 1 - $0.01 USD",0.01,IF(N22="Test Tier 2 - $0.02 USD",0.02,INDEX(SRP[#All],MATCH(N22,SRP[LOOKUP],0)+1,MATCH(C22,SRP[#Headers],0)))))} | P22: Visible | Q22: Select_Option | R22: 0 | S22: Select_Option | T22: ${dlcReleaseDateXOneNCSA}$ | U22: 73050 | V22: 41862 | W22: 73050 | X22: 41862 | Y22: 73050
A23: =IF((J23="Select_Option")+(J23=""),"",IF(J23="Test Tier 1 - $0.01 USD",0.01,IF(J23="Test Tier 2 - $0.02 USD",0.02,INDEX(WSP[#All],MATCH(J23,WSP[LOOKUP],0)+1,MATCH(C23,WSP[#Headers],0))))) | C23: Sweden | E23: YES | F23: Enter_Information_Here | G23: Enter_Information_Here | H23: Enter_Information_Here | I23: EN, IT, FR, DE, ES, DA, NL, NO, SV, FI, PT | J23: Select_Option | K23: {=IF((J23="Select_Option")+(J23=""),"",IF(J23="Test Tier 1 - $0.01 USD",0.01,IF(J23="Test Tier 2 - $0.02 USD",0.02,INDEX(WSP[#All],MATCH(J23,WSP[LOOKUP],0)+1,MATCH(C23,WSP[#Headers],0)))))} | L23: Select_Option | M23: {=IF((L23="Select_Option")*(J23="Select_Option"),"",IF((L23="Select_Option")*(J23<>"Select_Option"),INDEX(SRP[#All],MATCH(INDEX(_reference!$J$3:$J$406,MATCH(J23,_reference!$I$3:$I$406,0)),SRP[LOOKUP],0)+1,MATCH(C23,SRP[#Headers],0)),IF(L23="Test Tier 1 - $0.01 USD",0.01,IF(L23="Test Tier 2 - $0.02 USD",0.02,INDEX(SRP[#All],MATCH(L23,SRP[LOOKUP],0)+1,MATCH(C23,SRP[#Headers],0))))))} | N23: Select_Option | O23: {=IF((N23="Select_Option")+(N23=""),"",IF(N23="Test Tier 1 - $0.01 USD",0.01,IF(N23="Test Tier 2 - $0.02 USD",0.02,INDEX(SRP[#All],MATCH(N23,SRP[LOOKUP],0)+1,MATCH(C23,SRP[#Headers],0)))))} | P23: Visible | Q23: Select_Option | R23: 0 | S23: Select_Option | T23: ${dlcReleaseDateXOneNCSA}$ | U23: 73050 | V23: 41862 | W23: 73050 | X23: 41862 | Y23: 73050
C24: Switzerland | E24: YES | F24: Enter_Information_Here | G24: Enter_Information_Here | H24: Enter_Information_Here | I24: EN, IT, FR, DE, ES, DA, NL, NO, SV, FI, PT | J24: Select_Option | K24: {=IF((J24="Select_Option")+(J24=""),"",IF(J24="Test Tier 1 - $0.01 USD",0.01,IF(J24="Test Tier 2 - $0.02 USD",0.02,INDEX(WSP[#All],MATCH(J24,WSP[LOOKUP],0)+1,MATCH(C24,WSP[#Headers],0)))))} | L24: Select_Option | M24: {=IF((L24="Select_Option")*(J24="Select_Option"),"",IF((L24="Select_Option")*(J24<>"Select_Option"),INDEX(SRP[#All],MATCH(INDEX(_reference!$J$3:$J$406,MATCH(J24,_reference!$I$3:$I$406,0)),SRP[LOOKUP],0)+1,MATCH(C24,SRP[#Headers],0)),IF(L24="Test Tier 1 - $0.01 USD",0.01,IF(L24="Test Tier 2 - $0.02 USD",0.02,INDEX(SRP[#All],MATCH(L24,SRP[LOOKUP],0)+1,MATCH(C24,SRP[#Headers],0))))))} | N24: Select_Option | O24: {=IF((N24="Select_Option")+(N24=""),"",IF(N24="Test Tier 1 - $0.01 USD",0.01,IF(N24="Test Tier 2 - $0.02 USD",0.02,INDEX(SRP[#All],MATCH(N24,SRP[LOOKUP],0)+1,MATCH(C24,SRP[#Headers],0)))))} | P24: Visible | Q24: Select_Option | R24: 0 | S24: Select_Option | T24: ${dlcReleaseDateXOneNCSA}$ | U24: 73050 | V24: 41862 | W24: 73050 | X24: 41862 | Y24: 73050
C25: United Kingdom | E25: YES | F25: Enter_Information_Here | G25: Enter_Information_Here | H25: Enter_Information_Here | I25: EN, IT, FR, DE, ES, DA, NL, NO, SV, FI, PT | J25: Select_Option | K25: {=IF((J25="Select_Option")+(J25=""),"",IF(J25="Test Tier 1 - $0.01 USD",0.01,IF(J25="Test Tier 2 - $0.02 USD",0.02,INDEX(WSP[#All],MATCH(J25,WSP[LOOKUP],0)+1,MATCH(C25,WSP[#Headers],0)))))} | L25: Select_Option | M25: {=IF((L25="Select_Option")*(J25="Select_Option"),"",IF((L25="Select_Option")*(J25<>"Select_Option"),INDEX(SRP[#All],MATCH(INDEX(_reference!$J$3:$J$406,MATCH(J25,_reference!$I$3:$I$406,0)),SRP[LOOKUP],0)+1,MATCH(C25,SRP[#Headers],0)),IF(L25="Test Tier 1 - $0.01 USD",0.01,IF(L25="Test Tier 2 - $0.02 USD",0.02,INDEX(SRP[#All],MATCH(L25,SRP[LOOKUP],0)+1,MATCH(C25,SRP[#Headers],0))))))} | N25: Select_Option | O25: {=IF((N25="Select_Option")+(N25=""),"",IF(N25="Test Tier 1 - $0.01 USD",0.01,IF(N25="Test Tier 2 - $0.02 USD",0.02,INDEX(SRP[#All],MATCH(N25,SRP[LOOKUP],0)+1,MATCH(C25,SRP[#Headers],0)))))} | P25: Visible | Q25: Select_Option | R25: 0 | S25: Select_Option | T25: ${dlcReleaseDateXOneNCSA}$ | U25: 73050 | V25: 41862 | W25: 73050 | X25: 41862 | Y25: 73050
C26: CENTRAL & EASTERN EUROPE | K26: {=IF((J26="Select_Option")+(J26=""),"",IF(J26="Test Tier 1 - $0.01 USD",0.01,IF(J26="Test Tier 2 - $0.02 USD",0.02,INDEX(WSP[#All],MATCH(J26,WSP[LOOKUP],0)+1,MATCH(C26,WSP[#Headers],0)))))} | L26: Select_Option
C27: Czech Republic | E27: YES | F27: Enter_Information_Here | G27: Enter_Information_Here | H27: Enter_Information_Here | I27: EN, IT, FR, DE, ES, DA, NL, NO, SV, FI, PT | J27: Select_Option | K27: {=IF((J27="Select_Option")+(J27=""),"",IF(J27="Test Tier 1 - $0.01 USD",0.01,IF(J27="Test Tier 2 - $0.02 USD",0.02,INDEX(WSP[#All],MATCH(J27,WSP[LOOKUP],0)+1,MATCH(C27,WSP[#Headers],0)))))} | L27: Select_Option | M27: {=IF((L27="Select_Option")*(J27="Select_Option"),"",IF((L27="Select_Option")*(J27<>"Select_Option"),INDEX(SRP[#All],MATCH(INDEX(_reference!$J$3:$J$406,MATCH(J27,_reference!$I$3:$I$406,0)),SRP[LOOKUP],0)+1,MATCH(C27,SRP[#Headers],0)),IF(L27="Test Tier 1 - $0.01 USD",0.01,IF(L27="Test Tier 2 - $0.02 USD",0.02,INDEX(SRP[#All],MATCH(L27,SRP[LOOKUP],0)+1,MATCH(C27,SRP[#Headers],0))))))} | N27: Select_Option | O27: {=IF((N27="Select_Option")+(N27=""),"",IF(N27="Test Tier 1 - $0.01 USD",0.01,IF(N27="Test Tier 2 - $0.02 USD",0.02,INDEX(SRP[#All],MATCH(N27,SRP[LOOKUP],0)+1,MATCH(C27,SRP[#Headers],0)))))} | P27: Visible | Q27: Select_Option | R27: 0 | S27: Select_Option | T27: ${dlcReleaseDateXOneNCSA}$ | U27: 73050 | V27: 41862 | W27: 73050 | X27: 41862 | Y27: 73050
C28: Greece | E28: YES | F28: Enter_Information_Here | G28: Enter_Information_Here | H28: Enter_Information_Here | I28: EN, IT, FR, DE, ES, DA, NL, NO, SV, FI, PT | J28: Select_Option | K28: {=IF((J28="Select_Option")+(J28=""),"",IF(J28="Test Tier 1 - $0.01 USD",0.01,IF(J28="Test Tier 2 - $0.02 USD",0.02,INDEX(WSP[#All],MATCH(J28,WSP[LOOKUP],0)+1,MATCH(C28,WSP[#Headers],0)))))} | L28: Select_Option | M28: {=IF((L28="Select_Option")*(J28="Select_Option"),"",IF((L28="Select_Option")*(J28<>"Select_Option"),INDEX(SRP[#All],MATCH(INDEX(_reference!$J$3:$J$406,MATCH(J28,_reference!$I$3:$I$406,0)),SRP[LOOKUP],0)+1,MATCH(C28,SRP[#Headers],0)),IF(L28="Test Tier 1 - $0.01 USD",0.01,IF(L28="Test Tier 2 - $0.02 USD",0.02,INDEX(SRP[#All],MATCH(L28,SRP[LOOKUP],0)+1,MATCH(C28,SRP[#Headers],0))))))} | N28: Select_Option | O28: {=IF((N28="Select_Option")+(N28=""),"",IF(N28="Test Tier 1 - $0.01 USD",0.01,IF(N28="Test Tier 2 - $0.02 USD",0.02,INDEX(SRP[#All],MATCH(N28,SRP[LOOKUP],0)+1,MATCH(C28,SRP[#Headers],0)))))} | P28: Visible | Q28: Select_Option | R28: 0 | S28: Select_Option | T28: ${dlcReleaseDateXOneNCSA}$ | U28: 73050 | V28: 41862 | W28: 73050 | X28: 41862 | Y28: 73050
C29: Hungary | E29: YES | F29: Enter_Information_Here | G29: Enter_Information_Here | H29: Enter_Information_Here | I29: EN, IT, FR, DE, ES, DA, NL, NO, SV, FI, PT | J29: Select_Option | K29: {=IF((J29="Select_Option")+(J29=""),"",IF(J29="Test Tier 1 - $0.01 USD",0.01,IF(J29="Test Tier 2 - $0.02 USD",0.02,INDEX(WSP[#All],MATCH(J29,WSP[LOOKUP],0)+1,MATCH(C29,WSP[#Headers],0)))))} | L29: Select_Option | M29: {=IF((L29="Select_Option")*(J29="Select_Option"),"",IF((L29="Select_Option")*(J29<>"Select_Option"),INDEX(SRP[#All],MATCH(INDEX(_reference!$J$3:$J$406,MATCH(J29,_reference!$I$3:$I$406,0)),SRP[LOOKUP],0)+1,MATCH(C29,SRP[#Headers],0)),IF(L29="Test Tier 1 - $0.01 USD",0.01,IF(L29="Test Tier 2 - $0.02 USD",0.02,INDEX(SRP[#All],MATCH(L29,SRP[LOOKUP],0)+1,MATCH(C29,SRP[#Headers],0))))))} | N29: Select_Option | O29: {=IF((N29="Select_Option")+(N29=""),"",IF(N29="Test Tier 1 - $0.01 USD",0.01,IF(N29="Test Tier 2 - $0.02 USD",0.02,INDEX(SRP[#All],MATCH(N29,SRP[LOOKUP],0)+1,MATCH(C29,SRP[#Headers],0)))))} | P29: Visible | Q29: Select_Option | R29: 0 | S29: Select_Option | T29: ${dlcReleaseDateXOneNCSA}$ | U29: 73050 | V29: 41862 | W29: 73050 | X29: 41862 | Y29: 73050
C30: Poland | E30: YES | F30: Enter_Information_Here | G30: Enter_Information_Here | H30: Enter_Information_Here | I30: EN, IT, FR, DE, ES, DA, NL, NO, SV, FI, PT | J30: Select_Option | K30: {=IF((J30="Select_Option")+(J30=""),"",IF(J30="Test Tier 1 - $0.01 USD",0.01,IF(J30="Test Tier 2 - $0.02 USD",0.02,INDEX(WSP[#All],MATCH(J30,WSP[LOOKUP],0)+1,MATCH(C30,WSP[#Headers],0)))))} | L30: Select_Option | M30: {=IF((L30="Select_Option")*(J30="Select_Option"),"",IF((L30="Select_Option")*(J30<>"Select_Option"),INDEX(SRP[#All],MATCH(INDEX(_reference!$J$3:$J$406,MATCH(J30,_reference!$I$3:$I$406,0)),SRP[LOOKUP],0)+1,MATCH(C30,SRP[#Headers],0)),IF(L30="Test Tier 1 - $0.01 USD",0.01,IF(L30="Test Tier 2 - $0.02 USD",0.02,INDEX(SRP[#All],MATCH(L30,SRP[LOOKUP],0)+1,MATCH(C30,SRP[#Headers],0))))))} | N30: Select_Option | O30: {=IF((N30="Select_Option")+(N30=""),"",IF(N30="Test Tier 1 - $0.01 USD",0.01,IF(N30="Test Tier 2 - $0.02 USD",0.02,INDEX(SRP[#All],MATCH(N30,SRP[LOOKUP],0)+1,MATCH(C30,SRP[#Headers],0)))))} | P30: Visible | Q30: Select_Option | R30: 0 | S30: Select_Option | T30: ${dlcReleaseDateXOneNCSA}$ | U30: 73050 | V30: 41862 | W30: 73050 | X30: 41862 | Y30: 73050
C31: Russia | E31: YES | F31: Enter_Information_Here | G31: Enter_Information_Here | H31: Enter_Information_Here | I31: EN, IT, FR, DE, ES, DA, NL, NO, SV, FI, PT | J31: Select_Option | K31: {=IF((J31="Select_Option")+(J31=""),"",IF(J31="Test Tier 1 - $0.01 USD",0.01,IF(J31="Test Tier 2 - $0.02 USD",0.02,INDEX(WSP[#All],MATCH(J31,WSP[LOOKUP],0)+1,MATCH(C31,WSP[#Headers],0)))))} | L31: Select_Option | M31: {=IF((L31="Select_Option")*(J31="Select_Option"),"",IF((L31="Select_Option")*(J31<>"Select_Option"),INDEX(SRP[#All],MATCH(INDEX(_reference!$J$3:$J$406,MATCH(J31,_reference!$I$3:$I$406,0)),SRP[LOOKUP],0)+1,MATCH(C31,SRP[#Headers],0)),IF(L31="Test Tier 1 - $0.01 USD",0.01,IF(L31="Test Tier 2 - $0.02 USD",0.02,INDEX(SRP[#All],MATCH(L31,SRP[LOOKUP],0)+1,MATCH(C31,SRP[#Headers],0))))))} | N31: Select_Option | O31: {=IF((N31="Select_Option")+(N31=""),"",IF(N31="Test Tier 1 - $0.01 USD",0.01,IF(N31="Test Tier 2 - $0.02 USD",0.02,INDEX(SRP[#All],MATCH(N31,SRP[LOOKUP],0)+1,MATCH(C31,SRP[#Headers],0)))))} | P31: Visible | Q31: Select_Option | R31: 0 | S31: Select_Option | T31: ${dlcReleaseDateXOneNCSA}$ | U31: 73050 | V31: 41862 | W31: 73050 | X31: 41862 | Y31: 73050
C32: Slovakia | E32: YES | F32: Enter_Information_Here | G32: Enter_Information_Here | H32: Enter_Information_Here | I32: EN, IT, FR, DE, ES, DA, NL, NO, SV, FI, PT | J32: Select_Option | K32: {=IF((J32="Select_Option")+(J32=""),"",IF(J32="Test Tier 1 - $0.01 USD",0.01,IF(J32="Test Tier 2 - $0.02 USD",0.02,INDEX(WSP[#All],MATCH(J32,WSP[LOOKUP],0)+1,MATCH(C32,WSP[#Headers],0)))))} | L32: Select_Option | M32: {=IF((L32="Select_Option")*(J32="Select_Option"),"",IF((L32="Select_Option")*(J32<>"Select_Option"),INDEX(SRP[#All],MATCH(INDEX(_reference!$J$3:$J$406,MATCH(J32,_reference!$I$3:$I$406,0)),SRP[LOOKUP],0)+1,MATCH(C32,SRP[#Headers],0)),IF(L32="Test Tier 1 - $0.01 USD",0.01,IF(L32="Test Tier 2 - $0.02 USD",0.02,INDEX(SRP[#All],MATCH(L32,SRP[LOOKUP],0)+1,MATCH(C32,SRP[#Headers],0))))))} | N32: Select_Option | O32: {=IF((N32="Select_Option")+(N32=""),"",IF(N32="Test Tier 1 - $0.01 USD",0.01,IF(N32="Test Tier 2 - $0.02 USD",0.02,INDEX(SRP[#All],MATCH(N32,SRP[LOOKUP],0)+1,MATCH(C32,SRP[#Headers],0)))))} | P32: Visible | Q32: Select_Option | R32: 0 | S32: Select_Option | T32: ${dlcReleaseDateXOneNCSA}$ | U32: 73050 | V32: 41862 | W32: 73050 | X32: 41862 | Y32: 73050
C33: AUSTRALIA & NEW ZEALAND | L33: Select_Option
C34: Australia | E34: YES | F34: Enter_Information_Here | G34: Enter_Information_Here | H34: Enter_Information_Here | I34: EN, IT, FR, DE, ES, DA, NL, NO, SV, FI, PT | J34: Select_Option | K34: {=IF((J34="Select_Option")+(J34=""),"",IF(J34="Test Tier 1 - $0.01 USD",0.01,IF(J34="Test Tier 2 - $0.02 USD",0.02,INDEX(WSP[#All],MATCH(J34,WSP[LOOKUP],0)+1,MATCH(C34,WSP[#Headers],0)))))} | L34: Select_Option | M34: {=IF((L34="Select_Option")*(J34="Select_Option"),"",IF((L34="Select_Option")*(J34<>"Select_Option"),INDEX(SRP[#All],MATCH(INDEX(_reference!$J$3:$J$406,MATCH(J34,_reference!$I$3:$I$406,0)),SRP[LOOKUP],0)+1,MATCH(C34,SRP[#Headers],0)),IF(L34="Test Tier 1 - $0.01 USD",0.01,IF(L34="Test Tier 2 - $0.02 USD",0.02,INDEX(SRP[#All],MATCH(L34,SRP[LOOKUP],0)+1,MATCH(C34,SRP[#Headers],0))))))} | N34: Select_Option | O34: {=IF((N34="Select_Option")+(N34=""),"",IF(N34="Test Tier 1 - $0.01 USD",0.01,IF(N34="Test Tier 2 - $0.02 USD",0.02,INDEX(SRP[#All],MATCH(N34,SRP[LOOKUP],0)+1,MATCH(C34,SRP[#Headers],0)))))} | P34: Visible | Q34: Select_Option | R34: 0 | S34: Select_Option | T34: ${dlcReleaseDateXOneNCSA}$ | U34: 73050 | V34: 41862 | W34: 73050 | X34: 41862 | Y34: 73050
C35: New Zealand | E35: YES | F35: Enter_Information_Here | G35: Enter_Information_Here | H35: Enter_Information_Here | I35: EN, IT, FR, DE, ES, DA, NL, NO, SV, FI, PT | J35: Select_Option | K35: {=IF((J35="Select_Option")+(J35=""),"",IF(J35="Test Tier 1 - $0.01 USD",0.01,IF(J35="Test Tier 2 - $0.02 USD",0.02,INDEX(WSP[#All],MATCH(J35,WSP[LOOKUP],0)+1,MATCH(C35,WSP[#Headers],0)))))} | L35: Select_Option | M35: {=IF((L35="Select_Option")*(J35="Select_Option"),"",IF((L35="Select_Option")*(J35<>"Select_Option"),INDEX(SRP[#All],MATCH(INDEX(_reference!$J$3:$J$406,MATCH(J35,_reference!$I$3:$I$406,0)),SRP[LOOKUP],0)+1,MATCH(C35,SRP[#Headers],0)),IF(L35="Test Tier 1 - $0.01 USD",0.01,IF(L35="Test Tier 2 - $0.02 USD",0.02,INDEX(SRP[#All],MATCH(L35,SRP[LOOKUP],0)+1,MATCH(C35,SRP[#Headers],0))))))} | N35: Select_Option | O35: {=IF((N35="Select_Option")+(N35=""),"",IF(N35="Test Tier 1 - $0.01 USD",0.01,IF(N35="Test Tier 2 - $0.02 USD",0.02,INDEX(SRP[#All],MATCH(N35,SRP[LOOKUP],0)+1,MATCH(C35,SRP[#Headers],0)))))} | P35: Visible | Q35: Select_Option | R35: 0 | S35: Select_Option | T35: ${dlcReleaseDateXOneNCSA}$ | U35: 73050 | V35: 41862 | W35: 73050 | X35: 41862 | Y35: 73050
C36: LATIN AMERICA | L36: Select_Option
C37: Argentina | E37: YES | F37: Enter_Information_Here | G37: Enter_Information_Here | H37: Enter_Information_Here | I37: EN, IT, FR, DE, ES, DA, NL, NO, SV, FI, PT | J37: Select_Option | K37: {=IF((J37="Select_Option")+(J37=""),"",IF(J37="Test Tier 1 - $0.01 USD",0.01,IF(J37="Test Tier 2 - $0.02 USD",0.02,INDEX(WSP[#All],MATCH(J37,WSP[LOOKUP],0)+1,MATCH(C37,WSP[#Headers],0)))))} | L37: Select_Option | M37: {=IF((L37="Select_Option")*(J37="Select_Option"),"",IF((L37="Select_Option")*(J37<>"Select_Option"),INDEX(SRP[#All],MATCH(INDEX(_reference!$J$3:$J$406,MATCH(J37,_reference!$I$3:$I$406,0)),SRP[LOOKUP],0)+1,MATCH(C37,SRP[#Headers],0)),IF(L37="Test Tier 1 - $0.01 USD",0.01,IF(L37="Test Tier 2 - $0.02 USD",0.02,INDEX(SRP[#All],MATCH(L37,SRP[LOOKUP],0)+1,MATCH(C37,SRP[#Headers],0))))))} | N37: Select_Option | O37: {=IF((N37="Select_Option")+(N37=""),"",IF(N37="Test Tier 1 - $0.01 USD",0.01,IF(N37="Test Tier 2 - $0.02 USD",0.02,INDEX(SRP[#All],MATCH(N37,SRP[LOOKUP],0)+1,MATCH(C37,SRP[#Headers],0)))))} | P37: Visible | Q37: Select_Option | R37: 0 | S37: Select_Option | T37: ${dlcReleaseDateXOneNCSA}$ | U37: 73050 | V37: 41862 | W37: 73050 | X37: 41862 | Y37: 73050
C38: Brazil | E38: YES | F38: Enter_Information_Here | G38: Enter_Information_Here | H38: Enter_Information_Here | I38: EN, IT, FR, DE, ES, DA, NL, NO, SV, FI, PT | J38: Select_Option | K38: {=IF((J38="Select_Option")+(J38=""),"",IF(J38="Test Tier 1 - $0.01 USD",0.01,IF(J38="Test Tier 2 - $0.02 USD",0.02,INDEX(WSP[#All],MATCH(J38,WSP[LOOKUP],0)+1,MATCH(C38,WSP[#Headers],0)))))} | L38: Select_Option | M38: {=IF((L38="Select_Option")*(J38="Select_Option"),"",IF((L38="Select_Option")*(J38<>"Select_Option"),INDEX(SRP[#All],MATCH(INDEX(_reference!$J$3:$J$406,MATCH(J38,_reference!$I$3:$I$406,0)),SRP[LOOKUP],0)+1,MATCH(C38,SRP[#Headers],0)),IF(L38="Test Tier 1 - $0.01 USD",0.01,IF(L38="Test Tier 2 - $0.02 USD",0.02,INDEX(SRP[#All],MATCH(L38,SRP[LOOKUP],0)+1,MATCH(C38,SRP[#Headers],0))))))} | N38: Select_Option | O38: {=IF((N38="Select_Option")+(N38=""),"",IF(N38="Test Tier 1 - $0.01 USD",0.01,IF(N38="Test Tier 2 - $0.02 USD",0.02,INDEX(SRP[#All],MATCH(N38,SRP[LOOKUP],0)+1,MATCH(C38,SRP[#Headers],0)))))} | P38: Visible | Q38: Select_Option | R38: 0 | S38: Select_Option | T38: ${dlcReleaseDateXOneNCSA}$ | U38: 73050 | V38: 41862 | W38: 73050 | X38: 41862 | Y38: 73050
C39: Chile | E39: YES | F39: Enter_Information_Here | G39: Enter_Information_Here | H39: Enter_Information_Here | I39: EN, IT, FR, DE, ES, DA, NL, NO, SV, FI, PT | J39: Select_Option | K39: {=IF((J39="Select_Option")+(J39=""),"",IF(J39="Test Tier 1 - $0.01 USD",0.01,IF(J39="Test Tier 2 - $0.02 USD",0.02,INDEX(WSP[#All],MATCH(J39,WSP[LOOKUP],0)+1,MATCH(C39,WSP[#Headers],0)))))} | L39: Select_Option | M39: {=IF((L39="Select_Option")*(J39="Select_Option"),"",IF((L39="Select_Option")*(J39<>"Select_Option"),INDEX(SRP[#All],MATCH(INDEX(_reference!$J$3:$J$406,MATCH(J39,_reference!$I$3:$I$406,0)),SRP[LOOKUP],0)+1,MATCH(C39,SRP[#Headers],0)),IF(L39="Test Tier 1 - $0.01 USD",0.01,IF(L39="Test Tier 2 - $0.02 USD",0.02,INDEX(SRP[#All],MATCH(L39,SRP[LOOKUP],0)+1,MATCH(C39,SRP[#Headers],0))))))} | N39: Select_Option | O39: {=IF((N39="Select_Option")+(N39=""),"",IF(N39="Test Tier 1 - $0.01 USD",0.01,IF(N39="Test Tier 2 - $0.02 USD",0.02,INDEX(SRP[#All],MATCH(N39,SRP[LOOKUP],0)+1,MATCH(C39,SRP[#Headers],0)))))} | P39: Visible | Q39: Select_Option | R39: 0 | S39: Select_Option | T39: ${dlcReleaseDateXOneNCSA}$ | U39: 73050 | V39: 41862 | W39: 73050 | X39: 41862 | Y39: 73050
C40: Colombia | E40: YES | F40: Enter_Information_Here | G40: Enter_Information_Here | H40: Enter_Information_Here | I40: EN, IT, FR, DE, ES, DA, NL, NO, SV, FI, PT | J40: Select_Option | K40: {=IF((J40="Select_Option")+(J40=""),"",IF(J40="Test Tier 1 - $0.01 USD",0.01,IF(J40="Test Tier 2 - $0.02 USD",0.02,INDEX(WSP[#All],MATCH(J40,WSP[LOOKUP],0)+1,MATCH(C40,WSP[#Headers],0)))))} | L40: Select_Option | M40: {=IF((L40="Select_Option")*(J40="Select_Option"),"",IF((L40="Select_Option")*(J40<>"Select_Option"),INDEX(SRP[#All],MATCH(INDEX(_reference!$J$3:$J$406,MATCH(J40,_reference!$I$3:$I$406,0)),SRP[LOOKUP],0)+1,MATCH(C40,SRP[#Headers],0)),IF(L40="Test Tier 1 - $0.01 USD",0.01,IF(L40="Test Tier 2 - $0.02 USD",0.02,INDEX(SRP[#All],MATCH(L40,SRP[LOOKUP],0)+1,MATCH(C40,SRP[#Headers],0))))))} | N40: Select_Option | O40: {=IF((N40="Select_Option")+(N40=""),"",IF(N40="Test Tier 1 - $0.01 USD",0.01,IF(N40="Test Tier 2 - $0.02 USD",0.02,INDEX(SRP[#All],MATCH(N40,SRP[LOOKUP],0)+1,MATCH(C40,SRP[#Headers],0)))))} | P40: Visible | Q40: Select_Option | R40: 0 | S40: Select_Option | T40: ${dlcReleaseDateXOneNCSA}$ | U40: 73050 | V40: 41862 | W40: 73050 | X40: 41862 | Y40: 73050
C41: JAPAN | L41: Select_Option
C42: Japan | E42: NO | F42: Enter_Information_Here | G42: Enter_Information_Here | H42: Enter_Information_Here | I42: Enter_Information_Here | J42: Select_Option | K42: {=IF((J42="Select_Option")+(J42=""),"",IF(J42="Test Tier 1 - $0.01 USD",0.01,IF(J42="Test Tier 2 - $0.02 USD",0.02,INDEX(WSP[#All],MATCH(J42,WSP[LOOKUP],0)+1,MATCH(C42,WSP[#Headers],0)))))} | L42: Select_Option | M42: {=IF((L42="Select_Option")*(J42="Select_Option"),"",IF((L42="Select_Option")*(J42<>"Select_Option"),INDEX(SRP[#All],MATCH(INDEX(_reference!$J$3:$J$406,MATCH(J42,_reference!$I$3:$I$406,0)),SRP[LOOKUP],0)+1,MATCH(C42,SRP[#Headers],0)),IF(L42="Test Tier 1 - $0.01 USD",0.01,IF(L42="Test Tier 2 - $0.02 USD",0.02,INDEX(SRP[#All],MATCH(L42,SRP[LOOKUP],0)+1,MATCH(C42,SRP[#Headers],0))))))} | N42: Select_Option | O42: {=IF((N42="Select_Option")+(N42=""),"",IF(N42="Test Tier 1 - $0.01 USD",0.01,IF(N42="Test Tier 2 - $0.02 USD",0.02,INDEX(SRP[#All],MATCH(N42,SRP[LOOKUP],0)+1,MATCH(C42,SRP[#Headers],0)))))} | P42: Select_Option | Q42: Select_Option | R42: 0 | S42: Select_Option | T42: Enter_Information_Here | U42: Enter_Information_Here | V42: Enter_Information_Here | W42: Enter_Information_Here | X42: Enter_Information_Here | Y42: Enter_Information_Here
C43: ASIA | L43: Select_Option
C44: China | E44: NO | F44: Enter_Information_Here | G44: Enter_Information_Here | H44: Enter_Information_Here | I44: Enter_Information_Here | J44: Select_Option | K44: {=IF((J44="Select_Option")+(J44=""),"",IF(J44="Test Tier 1 - $0.01 USD",0.01,IF(J44="Test Tier 2 - $0.02 USD",0.02,INDEX(WSP[#All],MATCH(J44,WSP[LOOKUP],0)+1,MATCH(C44,WSP[#Headers],0)))))} | L44: Select_Option | M44: {=IF((L44="Select_Option")*(J44="Select_Option"),"",IF((L44="Select_Option")*(J44<>"Select_Option"),INDEX(SRP[#All],MATCH(INDEX(_reference!$J$3:$J$406,MATCH(J44,_reference!$I$3:$I$406,0)),SRP[LOOKUP],0)+1,MATCH(C44,SRP[#Headers],0)),IF(L44="Test Tier 1 - $0.01 USD",0.01,IF(L44="Test Tier 2 - $0.02 USD",0.02,INDEX(SRP[#All],MATCH(L44,SRP[LOOKUP],0)+1,MATCH(C44,SRP[#Headers],0))))))} | N44: Select_Option | O44: {=IF((N44="Select_Option")+(N44=""),"",IF(N44="Test Tier 1 - $0.01 USD",0.01,IF(N44="Test Tier 2 - $0.02 USD",0.02,INDEX(SRP[#All],MATCH(N44,SRP[LOOKUP],0)+1,MATCH(C44,SRP[#Headers],0)))))} | P44: Select_Option | Q44: Select_Option | R44: 0 | S44: Select_Option | T44: Enter_Information_Here | U44: Enter_Information_Here | V44: Enter_Information_Here | W44: Enter_Information_Here | X44: Enter_Information_Here | Y44: Enter_Information_Here
C45: Hong Kong | E45: NO | F45: Enter_Information_Here | G45: Enter_Information_Here | H45: Enter_Information_Here | I45: Enter_Information_Here | J45: Select_Option | K45: {=IF((J45="Select_Option")+(J45=""),"",IF(J45="Test Tier 1 - $0.01 USD",0.01,IF(J45="Test Tier 2 - $0.02 USD",0.02,INDEX(WSP[#All],MATCH(J45,WSP[LOOKUP],0)+1,MATCH(C45,WSP[#Headers],0)))))} | L45: Select_Option | M45: {=IF((L45="Select_Option")*(J45="Select_Option"),"",IF((L45="Select_Option")*(J45<>"Select_Option"),INDEX(SRP[#All],MATCH(INDEX(_reference!$J$3:$J$406,MATCH(J45,_reference!$I$3:$I$406,0)),SRP[LOOKUP],0)+1,MATCH(C45,SRP[#Headers],0)),IF(L45="Test Tier 1 - $0.01 USD",0.01,IF(L45="Test Tier 2 - $0.02 USD",0.02,INDEX(SRP[#All],MATCH(L45,SRP[LOOKUP],0)+1,MATCH(C45,SRP[#Headers],0))))))} | N45: Select_Option | O45: {=IF((N45="Select_Option")+(N45=""),"",IF(N45="Test Tier 1 - $0.01 USD",0.01,IF(N45="Test Tier 2 - $0.02 USD",0.02,INDEX(SRP[#All],MATCH(N45,SRP[LOOKUP],0)+1,MATCH(C45,SRP[#Headers],0)))))} | P45: Select_Option | Q45: Select_Option | R45: 0 | S45: Select_Option | T45: Enter_Information_Here | U45: Enter_Information_Here | V45: Enter_Information_Here | W45: Enter_Information_Here | X45: Enter_Information_Here | Y45: Enter_Information_Here
C46: India | E46: NO | F46: Enter_Information_Here | G46: Enter_Information_Here | H46: Enter_Information_Here | I46: Enter_Information_Here | J46: Select_Option | K46: {=IF((J46="Select_Option")+(J46=""),"",IF(J46="Test Tier 1 - $0.01 USD",0.01,IF(J46="Test Tier 2 - $0.02 USD",0.02,INDEX(WSP[#All],MATCH(J46,WSP[LOOKUP],0)+1,MATCH(C46,WSP[#Headers],0)))))} | L46: Select_Option | M46: {=IF((L46="Select_Option")*(J46="Select_Option"),"",IF((L46="Select_Option")*(J46<>"Select_Option"),INDEX(SRP[#All],MATCH(INDEX(_reference!$J$3:$J$406,MATCH(J46,_reference!$I$3:$I$406,0)),SRP[LOOKUP],0)+1,MATCH(C46,SRP[#Headers],0)),IF(L46="Test Tier 1 - $0.01 USD",0.01,IF(L46="Test Tier 2 - $0.02 USD",0.02,INDEX(SRP[#All],MATCH(L46,SRP[LOOKUP],0)+1,MATCH(C46,SRP[#Headers],0))))))} | N46: Select_Option | O46: {=IF((N46="Select_Option")+(N46=""),"",IF(N46="Test Tier 1 - $0.01 USD",0.01,IF(N46="Test Tier 2 - $0.02 USD",0.02,INDEX(SRP[#All],MATCH(N46,SRP[LOOKUP],0)+1,MATCH(C46,SRP[#Headers],0)))))} | P46: Select_Option | Q46: Select_Option | R46: 0 | S46: Select_Option | T46: Enter_Information_Here | U46: Enter_Information_Here | V46: Enter_Information_Here | W46: Enter_Information_Here | X46: Enter_Information_Here | Y46: Enter_Information_Here
C47: Singapore | E47: YES | F47: Enter_Information_Here | G47: Enter_Information_Here | H47: Enter_Information_Here | I47: EN, IT, FR, DE, ES, DA, NL, NO, SV, FI, PT | J47: Select_Option | K47: {=IF((J47="Select_Option")+(J47=""),"",IF(J47="Test Tier 1 - $0.01 USD",0.01,IF(J47="Test Tier 2 - $0.02 USD",0.02,INDEX(WSP[#All],MATCH(J47,WSP[LOOKUP],0)+1,MATCH(C47,WSP[#Headers],0)))))} | L47: Select_Option | M47: {=IF((L47="Select_Option")*(J47="Select_Option"),"",IF((L47="Select_Option")*(J47<>"Select_Option"),INDEX(SRP[#All],MATCH(INDEX(_reference!$J$3:$J$406,MATCH(J47,_reference!$I$3:$I$406,0)),SRP[LOOKUP],0)+1,MATCH(C47,SRP[#Headers],0)),IF(L47="Test Tier 1 - $0.01 USD",0.01,IF(L47="Test Tier 2 - $0.02 USD",0.02,INDEX(SRP[#All],MATCH(L47,SRP[LOOKUP],0)+1,MATCH(C47,SRP[#Headers],0))))))} | N47: Select_Option | O47: {=IF((N47="Select_Option")+(N47=""),"",IF(N47="Test Tier 1 - $0.01 USD",0.01,IF(N47="Test Tier 2 - $0.02 USD",0.02,INDEX(SRP[#All],MATCH(N47,SRP[LOOKUP],0)+1,MATCH(C47,SRP[#Headers],0)))))} | P47: Visible | Q47: Select_Option | R47: 0 | S47: Select_Option | T47: ${dlcReleaseDateXOneNCSA}$ | U47: 73050 | V47: 41862 | W47: 73050 | X47: 41862 | Y47: 73050
C48: South Korea | E48: NO | F48: Enter_Information_Here | G48: Enter_Information_Here | H48: Enter_Information_Here | I48: Enter_Information_Here | J48: Select_Option | K48: {=IF((J48="Select_Option")+(J48=""),"",IF(J48="Test Tier 1 - $0.01 USD",0.01,IF(J48="Test Tier 2 - $0.02 USD",0.02,INDEX(WSP[#All],MATCH(J48,WSP[LOOKUP],0)+1,MATCH(C48,WSP[#Headers],0)))))} | L48: Select_Option | M48: {=IF((L48="Select_Option")*(J48="Select_Option"),"",IF((L48="Select_Option")*(J48<>"Select_Option"),INDEX(SRP[#All],MATCH(INDEX(_reference!$J$3:$J$406,MATCH(J48,_reference!$I$3:$I$406,0)),SRP[LOOKUP],0)+1,MATCH(C48,SRP[#Headers],0)),IF(L48="Test Tier 1 - $0.01 USD",0.01,IF(L48="Test Tier 2 - $0.02 USD",0.02,INDEX(SRP[#All],MATCH(L48,SRP[LOOKUP],0)+1,MATCH(C48,SRP[#Headers],0))))))} | N48: Select_Option | O48: {=IF((N48="Select_Option")+(N48=""),"",IF(N48="Test Tier 1 - $0.01 USD",0.01,IF(N48="Test Tier 2 - $0.02 USD",0.02,INDEX(SRP[#All],MATCH(N48,SRP[LOOKUP],0)+1,MATCH(C48,SRP[#Headers],0)))))} | P48: Select_Option | Q48: Select_Option | R48: 0 | S48: Select_Option | T48: Enter_Information_Here | U48: Enter_Information_Here | V48: Enter_Information_Here | W48: Enter_Information_Here | X48: Enter_Information_Here | Y48: Enter_Information_Here
C49: Taiwan | E49: NO | F49: Enter_Information_Here | G49: Enter_Information_Here | H49: Enter_Information_Here | I49: Enter_Information_Here | J49: Select_Option | K49: {=IF((J49="Select_Option")+(J49=""),"",IF(J49="Test Tier 1 - $0.01 USD",0.01,IF(J49="Test Tier 2 - $0.02 USD",0.02,INDEX(WSP[#All],MATCH(J49,WSP[LOOKUP],0)+1,MATCH(C49,WSP[#Headers],0)))))} | L49: Select_Option | M49: {=IF((L49="Select_Option")*(J49="Select_Option"),"",IF((L49="Select_Option")*(J49<>"Select_Option"),INDEX(SRP[#All],MATCH(INDEX(_reference!$J$3:$J$406,MATCH(J49,_reference!$I$3:$I$406,0)),SRP[LOOKUP],0)+1,MATCH(C49,SRP[#Headers],0)),IF(L49="Test Tier 1 - $0.01 USD",0.01,IF(L49="Test Tier 2 - $0.02 USD",0.02,INDEX(SRP[#All],MATCH(L49,SRP[LOOKUP],0)+1,MATCH(C49,SRP[#Headers],0))))))} | N49: Select_Option | O49: {=IF((N49="Select_Option")+(N49=""),"",IF(N49="Test Tier 1 - $0.01 USD",0.01,IF(N49="Test Tier 2 - $0.02 USD",0.02,INDEX(SRP[#All],MATCH(N49,SRP[LOOKUP],0)+1,MATCH(C49,SRP[#Headers],0)))))} | P49: Select_Option | Q49: Select_Option | R49: 0 | S49: Select_Option | T49: Enter_Information_Here | U49: Enter_Information_Here | V49: Enter_Information_Here | W49: Enter_Information_Here | X49: Enter_Information_Here | Y49: Enter_Information_Here
C50: MIDDLE EAST & AFRICA | L50: Select_Option
C51: Israel | E51: NO | F51: Enter_Information_Here | G51: Enter_Information_Here | H51: Enter_Information_Here | I51: Enter_Information_Here | J51: Select_Option | K51: {=IF((J51="Select_Option")+(J51=""),"",IF(J51="Test Tier 1 - $0.01 USD",0.01,IF(J51="Test Tier 2 - $0.02 USD",0.02,INDEX(WSP[#All],MATCH(J51,WSP[LOOKUP],0)+1,MATCH(C51,WSP[#Headers],0)))))} | L51: Select_Option | M51: {=IF((L51="Select_Option")*(J51="Select_Option"),"",IF((L51="Select_Option")*(J51<>"Select_Option"),INDEX(SRP[#All],MATCH(INDEX(_reference!$J$3:$J$406,MATCH(J51,_reference!$I$3:$I$406,0)),SRP[LOOKUP],0)+1,MATCH(C51,SRP[#Headers],0)),IF(L51="Test Tier 1 - $0.01 USD",0.01,IF(L51="Test Tier 2 - $0.02 USD",0.02,INDEX(SRP[#All],MATCH(L51,SRP[LOOKUP],0)+1,MATCH(C51,SRP[#Headers],0))))))} | N51: Select_Option | O51: {=IF((N51="Select_Option")+(N51=""),"",IF(N51="Test Tier 1 - $0.01 USD",0.01,IF(N51="Test Tier 2 - $0.02 USD",0.02,INDEX(SRP[#All],MATCH(N51,SRP[LOOKUP],0)+1,MATCH(C51,SRP[#Headers],0)))))} | P51: Select_Option | Q51: Select_Option | R51: 0 | S51: Select_Option | T51: Enter_Information_Here | U51: Enter_Information_Here | V51: Enter_Information_Here | W51: Enter_Information_Here | X51: Enter_Information_Here | Y51: Enter_Information_Here
C52: Saudi Arabia | E52: NO | F52: Enter_Information_Here | G52: Enter_Information_Here | H52: Enter_Information_Here | I52: Enter_Information_Here | J52: Select_Option | K52: {=IF((J52="Select_Option")+(J52=""),"",IF(J52="Test Tier 1 - $0.01 USD",0.01,IF(J52="Test Tier 2 - $0.02 USD",0.02,INDEX(WSP[#All],MATCH(J52,WSP[LOOKUP],0)+1,MATCH(C52,WSP[#Headers],0)))))} | L52: Select_Option | M52: {=IF((L52="Select_Option")*(J52="Select_Option"),"",IF((L52="Select_Option")*(J52<>"Select_Option"),INDEX(SRP[#All],MATCH(INDEX(_reference!$J$3:$J$406,MATCH(J52,_reference!$I$3:$I$406,0)),SRP[LOOKUP],0)+1,MATCH(C52,SRP[#Headers],0)),IF(L52="Test Tier 1 - $0.01 USD",0.01,IF(L52="Test Tier 2 - $0.02 USD",0.02,INDEX(SRP[#All],MATCH(L52,SRP[LOOKUP],0)+1,MATCH(C52,SRP[#Headers],0))))))} | N52: Select_Option | O52: {=IF((N52="Select_Option")+(N52=""),"",IF(N52="Test Tier 1 - $0.01 USD",0.01,IF(N52="Test Tier 2 - $0.02 USD",0.02,INDEX(SRP[#All],MATCH(N52,SRP[LOOKUP],0)+1,MATCH(C52,SRP[#Headers],0)))))} | P52: Select_Option | Q52: Select_Option | R52: 0 | S52: Select_Option | T52: Enter_Information_Here | U52: Enter_Information_Here | V52: Enter_Information_Here | W52: Enter_Information_Here | X52: Enter_Information_Here | Y52: Enter_Information_Here
C53: South Africa | E53: NO | F53: Enter_Information_Here | G53: Enter_Information_Here | H53: Enter_Information_Here | I53: Enter_Information_Here | J53: Select_Option | K53: {=IF((J53="Select_Option")+(J53=""),"",IF(J53="Test Tier 1 - $0.01 USD",0.01,IF(J53="Test Tier 2 - $0.02 USD",0.02,INDEX(WSP[#All],MATCH(J53,WSP[LOOKUP],0)+1,MATCH(C53,WSP[#Headers],0)))))} | L53: Select_Option | M53: {=IF((L53="Select_Option")*(J53="Select_Option"),"",IF((L53="Select_Option")*(J53<>"Select_Option"),INDEX(SRP[#All],MATCH(INDEX(_reference!$J$3:$J$406,MATCH(J53,_reference!$I$3:$I$406,0)),SRP[LOOKUP],0)+1,MATCH(C53,SRP[#Headers],0)),IF(L53="Test Tier 1 - $0.01 USD",0.01,IF(L53="Test Tier 2 - $0.02 USD",0.02,INDEX(SRP[#All],MATCH(L53,SRP[LOOKUP],0)+1,MATCH(C53,SRP[#Headers],0))))))} | N53: Select_Option | O53: {=IF((N53="Select_Option")+(N53=""),"",IF(N53="Test Tier 1 - $0.01 USD",0.01,IF(N53="Test Tier 2 - $0.02 USD",0.02,INDEX(SRP[#All],MATCH(N53,SRP[LOOKUP],0)+1,MATCH(C53,SRP[#Headers],0)))))} | P53: Select_Option | Q53: Select_Option | R53: 0 | S53: Select_Option | T53: Enter_Information_Here | U53: Enter_Information_Here | V53: Enter_Information_Here | W53: Enter_Information_Here | X53: Enter_Information_Here | Y53: Enter_Information_Here
C54: Turkey | E54: NO | F54: Enter_Information_Here | G54: Enter_Information_Here | H54: Enter_Information_Here | I54: Enter_Information_Here | J54: Select_Option | K54: {=IF((J54="Select_Option")+(J54=""),"",IF(J54="Test Tier 1 - $0.01 USD",0.01,IF(J54="Test Tier 2 - $0.02 USD",0.02,INDEX(WSP[#All],MATCH(J54,WSP[LOOKUP],0)+1,MATCH(C54,WSP[#Headers],0)))))} | L54: Select_Option | M54: {=IF((L54="Select_Option")*(J54="Select_Option"),"",IF((L54="Select_Option")*(J54<>"Select_Option"),INDEX(SRP[#All],MATCH(INDEX(_reference!$J$3:$J$406,MATCH(J54,_reference!$I$3:$I$406,0)),SRP[LOOKUP],0)+1,MATCH(C54,SRP[#Headers],0)),IF(L54="Test Tier 1 - $0.01 USD",0.01,IF(L54="Test Tier 2 - $0.02 USD",0.02,INDEX(SRP[#All],MATCH(L54,SRP[LOOKUP],0)+1,MATCH(C54,SRP[#Headers],0))))))} | N54: Select_Option | O54: {=IF((N54="Select_Option")+(N54=""),"",IF(N54="Test Tier 1 - $0.01 USD",0.01,IF(N54="Test Tier 2 - $0.02 USD",0.02,INDEX(SRP[#All],MATCH(N54,SRP[LOOKUP],0)+1,MATCH(C54,SRP[#Headers],0)))))} | P54: Select_Option | Q54: Select_Option | R54: 0 | S54: Select_Option | T54: Enter_Information_Here | U54: Enter_Information_Here | V54: Enter_Information_Here | W54: Enter_Information_Here | X54: Enter_Information_Here | Y54: Enter_Information_Here
C55: United Arab Emirates | E55: NO | F55: Enter_Information_Here | G55: Enter_Information_Here | H55: Enter_Information_Here | I55: Enter_Information_Here | J55: Select_Option | K55: {=IF((J55="Select_Option")+(J55=""),"",IF(J55="Test Tier 1 - $0.01 USD",0.01,IF(J55="Test Tier 2 - $0.02 USD",0.02,INDEX(WSP[#All],MATCH(J55,WSP[LOOKUP],0)+1,MATCH(C55,WSP[#Headers],0)))))} | L55: Select_Option | M55: {=IF((L55="Select_Option")*(J55="Select_Option"),"",IF((L55="Select_Option")*(J55<>"Select_Option"),INDEX(SRP[#All],MATCH(INDEX(_reference!$J$3:$J$406,MATCH(J55,_reference!$I$3:$I$406,0)),SRP[LOOKUP],0)+1,MATCH(C55,SRP[#Headers],0)),IF(L55="Test Tier 1 - $0.01 USD",0.01,IF(L55="Test Tier 2 - $0.02 USD",0.02,INDEX(SRP[#All],MATCH(L55,SRP[LOOKUP],0)+1,MATCH(C55,SRP[#Headers],0))))))} | N55: Select_Option | O55: {=IF((N55="Select_Option")+(N55=""),"",IF(N55="Test Tier 1 - $0.01 USD",0.01,IF(N55="Test Tier 2 - $0.02 USD",0.02,INDEX(SRP[#All],MATCH(N55,SRP[LOOKUP],0)+1,MATCH(C55,SRP[#Headers],0)))))} | P55: Select_Option | Q55: Select_Option | R55: 0 | S55: Select_Option | T55: Enter_Information_Here | U55: Enter_Information_Here | V55: Enter_Information_Here | W55: Enter_Information_Here | X55: Enter_Information_Here | Y55: Enter_Information_Here

Sheet MARKETING INFO
B2: D | C2: GENRE
C3: Select up to 5 Genres
D4: GENRE 1 | E4: GENRE 2 | F4: GENRE 3 | G4: GENRE 4 | H4: GENRE 5
D5: Music | E5: Family | F5: Select_Option | G5: Select_Option | H5: Select_Option
B7: MARKETING INFO
E9: TITLE (255 char.) | F9: ALTERNATE TITLES | G9: SHORT TITLE (50 char.) | H9: SORT TITLE (255 char.) | I9: VOICE TITLE (25 char.) | J9: DESCRIPTION (4000 char.) | K9: SHORT DESCRIPTION (500 char.) | L9: PUBLISHER NAME | M9: DEVELOPER STUDIO
B10: REQUIRED LANGUAGES | C10: Default | E10: "${songName}$" by ${artistName}$ | F10: ${songName}$ by ${artistName}$ | G10: ${songName}$ | H10: ${songName}$ by ${artistName}$ | I10: Just Dance 2015 | J10: Share the power of dance and download all-new moves from "${songName}$" by ${artistName}$! | K10: ${credits}$ | L10: Enter_Information_Here | M10: Ubisoft
C11: Chinese (Simplified) | E11: Enter_Information_Here | F11: Enter_Information_Here | G11: Enter_Information_Here | H11: Enter_Information_Here | I11: Enter_Information_Here | J11: Enter_Information_Here | K11: Enter_Information_Here | L11: Enter_Information_Here | M11: Enter_Information_Here
C12: English | E12: "${songName}$" by ${artistName}$ | F12: ${songName}$ by ${artistName}$ | G12: ${songName}$ | H12: ${songName}$ by ${artistName}$ | I12: Just Dance 2015 | J12: Share the power of dance and download all-new moves from "${songName}$" by ${artistName}$! | K12: ${credits}$ | L12: Enter_Information_Here | M12: Ubisoft
D13: English (Australia) override | E13: "${songName}$" by ${artistName}$ | F13: ${songName}$ by ${artistName}$ | G13: ${songName}$ | H13: ${songName}$ by ${artistName}$ | I13: Just Dance 2015 | J13: Share the power of dance and download all-new moves from "${songName}$" by ${artistName}$! | K13: ${credits}$ | L13: Enter_Information_Here | M13: Ubisoft
D14: English (Canada) override | E14: "${songName}$" by ${artistName}$ | F14: ${songName}$ by ${artistName}$ | G14: ${songName}$ | H14: ${songName}$ by ${artistName}$ | I14: Just Dance 2015 | J14: Share the power of dance and download all-new moves from "${songName}$" by ${artistName}$! | K14: ${credits}$ | L14: Enter_Information_Here | M14: Ubisoft
D15: English (Czech Republic) override | E15: Enter_Information_Here | F15: Enter_Information_Here | G15: Enter_Information_Here | H15: Enter_Information_Here | I15: Enter_Information_Here | J15: Enter_Information_Here | K15: Enter_Information_Here | L15: Enter_Information_Here | M15: Enter_Information_Here
D16: English (Greece) override | E16: Enter_Information_Here | F16: Enter_Information_Here | G16: Enter_Information_Here | H16: Enter_Information_Here | I16: Enter_Information_Here | J16: Enter_Information_Here | K16: Enter_Information_Here | L16: Enter_Information_Here | M16: Enter_Information_Here
D17: English (Hong Kong) override | E17: "${songName}$" by ${artistName}$ | F17: ${songName}$ by ${artistName}$ | G17: ${songName}$ | H17: ${songName}$ by ${artistName}$ | I17: Just Dance 2015 | J17: Share the power of dance and download all-new moves from "${songName}$" by ${artistName}$! | K17: ${credits}$ | L17: Enter_Information_Here | M17: Ubisoft
D18: English (Hungary) override | E18: Enter_Information_Here | F18: Enter_Information_Here | G18: Enter_Information_Here | H18: Enter_Information_Here | I18: Enter_Information_Here | J18: Enter_Information_Here | K18: Enter_Information_Here | L18: Enter_Information_Here | M18: Enter_Information_Here
D19: English (India) override | E19: Enter_Information_Here | F19: Enter_Information_Here | G19: Enter_Information_Here | H19: Enter_Information_Here | I19: Enter_Information_Here | J19: Enter_Information_Here | K19: Enter_Information_Here | L19: Enter_Information_Here | M19: Enter_Information_Here
D20: English (Ireland) override | E20: "${songName}$" by ${artistName}$ | F20: ${songName}$ by ${artistName}$ | G20: ${songName}$ | H20: ${songName}$ by ${artistName}$ | I20: Just Dance 2015 | J20: Share the power of dance and download all-new moves from "${songName}$" by ${artistName}$! | K20: ${credits}$ | L20: Enter_Information_Here | M20: Ubisoft
D21: English (Israel) override | E21: Enter_Information_Here | F21: Enter_Information_Here | G21: Enter_Information_Here | H21: Enter_Information_Here | I21: Enter_Information_Here | J21: Enter_Information_Here | K21: Enter_Information_Here | L21: Enter_Information_Here | M21: Enter_Information_Here
D22: English (New Zealand) override | E22: "${songName}$" by ${artistName}$ | F22: ${songName}$ by ${artistName}$ | G22: ${songName}$ | H22: ${songName}$ by ${artistName}$ | I22: Just Dance 2015 | J22: Share the power of dance and download all-new moves from "${songName}$" by ${artistName}$! | K22: ${credits}$ | L22: Enter_Information_Here | M22: Ubisoft
D23: English (Saudi Arabia) override | E23: "${songName}$" by ${artistName}$ | F23: ${songName}$ by ${artistName}$ | G23: ${songName}$ | H23: ${songName}$ by ${artistName}$ | I23: Just Dance 2015 | J23: Share the power of dance and download all-new moves from "${songName}$" by ${artistName}$! | K23: ${credits}$ | L23: Enter_Information_Here | M23: Ubisoft
D24: English (Singapore) override | E24: "${songName}$" by ${artistName}$ | F24: ${songName}$ by ${artistName}$ | G24: ${songName}$ | H24: ${songName}$ by ${artistName}$ | I24: Just Dance 2015 | J24: Share the power of dance and download all-new moves from "${songName}$" by ${artistName}$! | K24: ${credits}$ | L24: Enter_Information_Here | M24: Ubisoft
... D29: English (United States) override | E29: "${songName}$" by ${artistName}$ | F29: ${songName}$ by ${artistName}$ | G29: ${songName}$ | H29: ${songName}$ by ${artistName}$ | I29: Just Dance 2015 | J29: Share the power of dance and download all-new moves from "${songName}$" by ${artistName}$! | K29: ${credits}$ | L29: Enter_Information_Here | M29: Ubisoft
C30: French | E30: "${songName}$" by ${artistName}$ | F30: ${songName}$ by ${artistName}$ | G30: ${songName}$ | H30: ${songName}$ by ${artistName}$ | I30: Just Dance 2015 | J30: Partagez de nouvelles émotions en téléchargeant la nouvelle choré de "${songName}$" par ${artistName}$ ! | K30: ${credits}$ | L30: Enter_Information_Here | M30: Ubisoft
D31: French (Belgium) override | E31: "${songName}$" by ${artistName}$ | F31: ${songName}$ by ${artistName}$ | G31: ${songName}$ | H31: ${songName}$ by ${artistName}$ | I31: Just Dance 2015 | J31: Partagez de nouvelles émotions en téléchargeant la nouvelle choré de "${songName}$" par ${artistName}$ ! | K31: ${credits}$ | L31: Enter_Information_Here | M31: Ubisoft
D32: French (Canada) override | E32: "${songName}$" by ${artistName}$ | F32: ${songName}$ by ${artistName}$ | G32: ${songName}$ | H32: ${songName}$ by ${artistName}$ | I32: Just Dance 2015 | J32: Partagez de nouvelles émotions en téléchargeant la nouvelle choré de "${songName}$" par ${artistName}$ ! | K32: ${credits}$ | L32: Enter_Information_Here | M32: Ubisoft
D33: French (France) override | E33: "${songName}$" by ${artistName}$ | F33: ${songName}$ by ${artistName}$ | G33: ${songName}$ | H33: ${songName}$ by ${artistName}$ | I33: Just Dance 2015 | J33: Partagez de nouvelles émotions en téléchargeant la nouvelle choré de "${songName}$" par ${artistName}$ ! | K33: ${credits}$ | L33: Enter_Information_Here | M33: Ubisoft
D34: French (Switzerland) override | E34: "${songName}$" by ${artistName}$ | F34: ${songName}$ by ${artistName}$ | G34: ${songName}$ | H34: ${songName}$ by ${artistName}$ | I34: Just Dance 2015 | J34: Partagez de nouvelles émotions en téléchargeant la nouvelle choré de "${songName}$" par ${artistName}$ ! | K34: ${credits}$ | L34: Enter_Information_Here | M34: Ubisoft
C35: German | E35: "${songName}$" by ${artistName}$ | F35: ${songName}$ by ${artistName}$ | G35: ${songName}$ | H35: ${songName}$ by ${artistName}$ | I35: Just Dance 2015 | J35: Teilen neue Emotionen und lade dir alle neuen Moves zu "${songName}$" von ${artistName}$ für Just Dance® 2015 herunter! | K35: ${credits}$ | L35: Enter_Information_Here | M35: Ubisoft
D36: German (Austria) override | E36: "${songName}$" by ${artistName}$ | F36: ${songName}$ by ${artistName}$ | G36: ${songName}$ | H36: ${songName}$ by ${artistName}$ | I36: Just Dance 2015 | J36: Teilen neue Emotionen und lade dir alle neuen Moves zu "${songName}$" von ${artistName}$ für Just Dance® 2015 herunter! | K36: ${credits}$ | L36: Enter_Information_Here | M36: Ubisoft
D37: German (Germany) override | E37: "${songName}$" by ${artistName}$ | F37: ${songName}$ by ${artistName}$ | G37: ${songName}$ | H37: ${songName}$ by ${artistName}$ | I37: Just Dance 2015 | J37: Teilen neue Emotionen und lade dir alle neuen Moves zu "${songName}$" von ${artistName}$ für Just Dance® 2015 herunter! | K37: ${credits}$ | L37: Enter_Information_Here | M37: Ubisoft
D38: German (Switzerland) override | E38: "${songName}$" by ${artistName}$ | F38: ${songName}$ by ${artistName}$ | G38: ${songName}$ | H38: ${songName}$ by ${artistName}$ | I38: Just Dance 2015 | J38: Teilen neue Emotionen und lade dir alle neuen Moves zu "${songName}$" von ${artistName}$ für Just Dance® 2015 herunter! | K38: ${credits}$ | L38: Enter_Information_Here | M38: Ubisoft
C39: Italian | E39: "${songName}$" by ${artistName}$ | F39: ${songName}$ by ${artistName}$ | G39: ${songName}$ | H39: ${songName}$ by ${artistName}$ | I39: Just Dance 2015 | J39: Scatena la festa scaricando tutte le nuove coreografie di "${songName}$" di ${artistName}$ per Just Dance® 2015! | K39: ${credits}$ | L39: Enter_Information_Here | M39: Ubisoft
C40: Japanese | E40: Enter_Information_Here | F40: Enter_Information_Here | G40: Enter_Information_Here | H40: Enter_Information_Here | I40: Enter_Information_Here | J40: Enter_Information_Here | K40: Enter_Information_Here | L40: Enter_Information_Here | M40: Enter_Information_Here
C41: Spanish | E41: "${songName}$" by ${artistName}$ | F41: ${songName}$ by ${artistName}$ | G41: ${songName}$ | H41: ${songName}$ by ${artistName}$ | I41: Just Dance 2015 | J41: Demuestra el Just Dance que llevas dentro, descárgate las nuevas coreografias de "${songName}$" de ${artistName}$ en Just Dance® 2015! | K41: ${credits}$ | L41: Enter_Information_Here | M41: Ubisoft
D42: Spanish (Argentina) override | E42: "${songName}$" by ${artistName}$ | F42: ${songName}$ by ${artistName}$ | G42: ${songName}$ | H42: ${songName}$ by ${artistName}$ | I42: Just Dance 2015 | J42: Demuestra el Just Dance que llevas dentro, descárgate las nuevas coreografias de "${songName}$" de ${artistName}$ en Just Dance® 2015! | K42: ${credits}$ | L42: Enter_Information_Here | M42: Ubisoft
D43: Spanish (Chile) override | E43: "${songName}$" by ${artistName}$ | F43: ${songName}$ by ${artistName}$ | G43: ${songName}$ | H43: ${songName}$ by ${artistName}$ | I43: Just Dance 2015 | J43: Demuestra el Just Dance que llevas dentro, descárgate las nuevas coreografias de "${songName}$" de ${artistName}$ en Just Dance® 2015! | K43: ${credits}$ | L43: Enter_Information_Here | M43: Ubisoft
D44: Spanish (Columbia) override | E44: "${songName}$" by ${artistName}$ | F44: ${songName}$ by ${artistName}$ | G44: ${songName}$ | H44: ${songName}$ by ${artistName}$ | I44: Just Dance 2015 | J44: Demuestra el Just Dance que llevas dentro, descárgate las nuevas coreografias de "${songName}$" de ${artistName}$ en Just Dance® 2015! | K44: ${credits}$ | L44: Enter_Information_Here | M44: Ubisoft
D45: Spanish (Mexico) override | E45: "${songName}$" by ${artistName}$ | F45: ${songName}$ by ${artistName}$ | G45: ${songName}$ | H45: ${songName}$ by ${artistName}$ | I45: Just Dance 2015 | J45: Demuestra el Just Dance que llevas dentro, descárgate las nuevas coreografias de "${songName}$" de ${artistName}$ en Just Dance® 2015! | K45: ${credits}$ | L45: Enter_Information_Here | M45: Ubisoft
D46: Spanish (Spain) override | E46: "${songName}$" by ${artistName}$ | F46: ${songName}$ by ${artistName}$ | G46: ${songName}$ | H46: ${songName}$ by ${artistName}$ | I46: Just Dance 2015 | J46: Demuestra el Just Dance que llevas dentro, descárgate las nuevas coreografias de "${songName}$" de ${artistName}$ en Just Dance® 2015! | K46: ${credits}$ | L46: Enter_Information_Here | M46: Ubisoft
D47: Spanish (United States) override | E47: "${songName}$" by ${artistName}$ | F47: ${songName}$ by ${artistName}$ | G47: ${songName}$ | H47: ${songName}$ by ${artistName}$ | I47: Just Dance 2015 | J47: Demuestra el Just Dance que llevas dentro, descárgate las nuevas coreografias de "${songName}$" de ${artistName}$ en Just Dance® 2015! | K47: ${credits}$ | L47: Enter_Information_Here | M47: Ubisoft
C48: Portuguese | E48: "${songName}$" by ${artistName}$ | F48: ${songName}$ by ${artistName}$ | G48: ${songName}$ | H48: ${songName}$ by ${artistName}$ | I48: Just Dance 2015 | J48: Partilha a magia da dança e transfere os novos movimentos de "${songName}$" by ${artistName}$ para o Just Dance® 2015! | K48: ${credits}$ | L48: Enter_Information_Here | M48: Ubisoft
D49: Portuguese (Brazil) override | E49: "${songName}$" by ${artistName}$ | F49: ${songName}$ by ${artistName}$ | G49: ${songName}$ | H49: ${songName}$ by ${artistName}$ | I49: Just Dance 2015 | J49: Partilha a magia da dança e transfere os novos movimentos de "${songName}$" by ${artistName}$ para o Just Dance® 2015! | K49: ${credits}$ | L49: Enter_Information_Here | M49: Ubisoft
D50: Portuguese (Portugal) override | E50: "${songName}$" by ${artistName}$ | F50: ${songName}$ by ${artistName}$ | G50: ${songName}$ | H50: ${songName}$ by ${artistName}$ | I50: Just Dance 2015 | J50: Partilha a magia da dança e transfere os novos movimentos de "${songName}$" by ${artistName}$ para o Just Dance® 2015! | K50: ${credits}$ | L50: Enter_Information_Here | M50: Ubisoft
B51: OPTIONAL LANGUAGES | C51: Danish | E51: "${songName}$" by ${artistName}$ | F51: ${songName}$ by ${artistName}$ | G51: ${songName}$ | H51: ${songName}$ by ${artistName}$ | I51: Just Dance 2015 | J51: Del dansens kraft og download helt nye trin fra "${songName}$" af ${artistName}$! | K51: ${credits}$ | L51: Enter_Information_Here | M51: Ubisoft
C52: Dutch | E52: "${songName}$" by ${artistName}$ | F52: ${songName}$ by ${artistName}$ | G52: ${songName}$ | H52: ${songName}$ by ${artistName}$ | I52: Just Dance 2015 | J52: Download alle nieuwe dansmoves voor '${songName}$' van ${artistName}$ in Just Dance 2015! | K52: ${credits}$ | L52: Enter_Information_Here | M52: Ubisoft
D53: Dutch (Belgium) override | E53: "${songName}$" by ${artistName}$ | F53: ${songName}$ by ${artistName}$ | G53: ${songName}$ | H53: ${songName}$ by ${artistName}$ | I53: Just Dance 2015 | J53: Download alle nieuwe dansmoves voor '${songName}$' van ${artistName}$ in Just Dance 2015! | K53: ${credits}$ | L53: Enter_Information_Here | M53: Ubisoft
D54: Dutch (Netherlands) override | E54: "${songName}$" by ${artistName}$ | F54: ${songName}$ by ${artistName}$ | G54: ${songName}$ | H54: ${songName}$ by ${artistName}$ | I54: Just Dance 2015 | J54: Download alle nieuwe dansmoves voor '${songName}$' van ${artistName}$ in Just Dance 2015! | K54: ${credits}$ | L54: Enter_Information_Here | M54: Ubisoft
C55: Finnish | E55: "${songName}$" by ${artistName}$ | F55: ${songName}$ by ${artistName}$ | G55: ${songName}$ | H55: ${songName}$ by ${artistName}$ | I55: Just Dance 2015 | J55: Pistä bileet käyntiin ja lataa upouudet liikkeet, "${songName}$" by ${artistName}$ raikuvat Just Dance® 2015 -pelissä! | K55: ${credits}$ | L55: Enter_Information_Here | M55: Ubisoft
C56: Korean | E56: Enter_Information_Here | F56: Enter_Information_Here | G56: Enter_Information_Here | H56: Enter_Information_Here | I56: Enter_Information_Here | J56: Enter_Information_Here | K56: Enter_Information_Here | L56: Enter_Information_Here | M56: Enter_Information_Here
C57: Norwegian | E57: "${songName}$" by ${artistName}$ | F57: ${songName}$ by ${artistName}$ | G57: ${songName}$ | H57: ${songName}$ by ${artistName}$ | I57: Just Dance 2015 | J57: Få i gang festen og last ned alle de nye bevegelsene fra "${songName}$" by ${artistName}$ på Just Dance® 2015! | K57: ${credits}$ | L57: Enter_Information_Here | M57: Ubisoft
C58: Polish | E58: "${songName}$" by ${artistName}$ | F58: ${songName}$ by ${artistName}$ | G58: ${songName}$ | H58: ${songName}$ by ${artistName}$ | I58: Just Dance 2015 | J58: Poczuj moc tańca i pobierz nowe ruchy do utworu "${songName}$", którego autorem jest ${artistName}$! | K58: ${credits}$ | L58: Enter_Information_Here | M58: Ubisoft
C59: Russian | E59: "${songName}$" by ${artistName}$ | F59: ${songName}$ by ${artistName}$ | G59: ${songName}$ | H59: ${songName}$ by ${artistName}$ | I59: Just Dance 2015 | J59: Окажитесь во власти танца и загрузите новые видеоролики для композиции "${songName}$" (исполнитель — ${artistName}$)! | K59: ${credits}$ | L59: Enter_Information_Here | M59: Ubisoft
C60: Swedish | E60: "${songName}$" by ${artistName}$ | F60: ${songName}$ by ${artistName}$ | G60: ${songName}$ | H60: ${songName}$ by ${artistName}$ | I60: Just Dance 2015 | J60: Få fart på festen och ladda ned helt nya danssteg från "${songName}$" by ${artistName}$ till Just Dance® 2015! | K60: ${credits}$ | L60: Enter_Information_Here | M60: Ubisoft
C61: Traditional Chinese | E61: Enter_Information_Here | F61: Enter_Information_Here | G61: Enter_Information_Here | H61: Enter_Information_Here | I61: Enter_Information_Here | J61: Enter_Information_Here | K61: Enter_Information_Here | L61: Enter_Information_Here | M61: Enter_Information_Here
D62: Traditional Chinese (Hong Kong) override | E62: Enter_Information_Here | F62: Enter_Information_Here | G62: Enter_Information_Here | H62: Enter_Information_Here | I62: Enter_Information_Here | J62: Enter_Information_Here | K62: Enter_Information_Here | L62: Enter_Information_Here | M62: Enter_Information_Here
D63: Traditional Chinese (Taiwan) override | E63: Enter_Information_Here | F63: Enter_Information_Here | G63: Enter_Information_Here | H63: Enter_Information_Here | I63: Enter_Information_Here | J63: Enter_Information_Here | K63: Enter_Information_Here | L63: Enter_Information_Here | M63: Enter_Information_Here
C64: Turkish | E64: Enter_Information_Here | F64: Enter_Information_Here | G64: Enter_Information_Here | H64: Enter_Information_Here | I64: Enter_Information_Here | J64: Enter_Information_Here | K64: Enter_Information_Here | L64: Enter_Information_Here | M64: Enter_Information_Here

Sheet ARTWORK
B2: Artwork files must be uploaded via Signiant to the location specified on the "Product Details" tab.
B4: H | C4: ARTWORK
C5: BOX ART (1080x1080 .PNG)
C6: Language (Country) | E6: File Name
C7: Default | E7: JD2014_DLC_BEAUTY&BEAT_BOX_ART_1080px.png
C8: Chinese Simplified (PRC) | E8: Enter_File_Name_Here
C9: Chinese Simplified (Singapore) | E9: Enter_File_Name_Here
C10: Chinese Traditional (Hong Kong) | E10: Enter_File_Name_Here
C11: Chinese Traditional (Taiwan) | E11: Enter_File_Name_Here
C12: Danish (Denmark) | E12: Enter_File_Name_Here
C13: Dutch (Belgium) | E13: Enter_File_Name_Here
C14: Dutch (Netherlands) | E14: Enter_File_Name_Here
C15: English (Australia) | E15: Enter_File_Name_Here
C16: English (Canada) | E16: Enter_File_Name_Here
C17: English (Czech Republic) | E17: Enter_File_Name_Here
... C55: Turkish (Turkey) | E55: Enter_File_Name_Here
C57: FEATURE PROMOTIONAL SQUARE ART (1080x1080 .PNG)
C58: Language (Country) | E58: File Name
C59: Default | E59: JD2014_DLC_BEAUTY&BEAT_FEATURE_SQUARE_1080px.png
C60: Chinese Simplified (PRC) | E60: Enter_File_Name_Here
C61: Chinese Simplified (Singapore) | E61: Enter_File_Name_Here
C62: Chinese Traditional (Hong Kong) | E62: Enter_File_Name_Here
C63: Chinese Traditional (Taiwan) | E63: Enter_File_Name_Here
C64: Danish (Denmark) | E64: Enter_File_Name_Here
C65: Dutch (Belgium) | E65: Enter_File_Name_Here
C66: Dutch (Netherlands) | E66: Enter_File_Name_Here
C67: English (Australia) | E67: Enter_File_Name_Here
C68: English (Canada) | E68: Enter_File_Name_Here
C69: English (Czech Republic) | E69: Enter_File_Name_Here
... C107: Turkish (Turkey) | E107: Enter_File_Name_Here
C109: POSTER ART (720x1080 .PNG)
C110: Language (Country) | E110: File Name
C111: Default | E111: JD2014_DLC_BEAUTY&BEAT_POSTER_ART.png
C112: Chinese Simplified (PRC) | E112: Enter_File_Name_Here
C113: Chinese Simplified (Singapore) | E113: Enter_File_Name_Here
C114: Chinese Traditional (Hong Kong) | E114: Enter_File_Name_Here
C115: Chinese Traditional (Taiwan) | E115: Enter_File_Name_Here
C116: Danish (Denmark) | E116: Enter_File_Name_Here
C117: Dutch (Belgium) | E117: Enter_File_Name_Here
C118: Dutch (Netherlands) | E118: Enter_File_Name_Here
C119: English (Australia) | E119: Enter_File_Name_Here
C120: English (Canada) | E120: Enter_File_Name_Here
C121: English (Czech Republic) | E121: Enter_File_Name_Here
... C159: Turkish (Turkey) | E159: Enter_File_Name_Here
C161: SUPER HERO ART (1920x1080 .PNG)
C162: Language (Country) | E162: File Name
C163: Default | E163: JD2014_DLC_BEAUTY&BEAT_SUPER_HEROS_ART.png
C164: Chinese Simplified (PRC) | E164: Enter_File_Name_Here
C165: Chinese Simplified (Singapore) | E165: Enter_File_Name_Here
C166: Chinese Traditional (Hong Kong) | E166: Enter_File_Name_Here
C167: Chinese Traditional (Taiwan) | E167: Enter_File_Name_Here
C168: Danish (Denmark) | E168: Enter_File_Name_Here
C169: Dutch (Belgium) | E169: Enter_File_Name_Here
C170: Dutch (Netherlands) | E170: Enter_File_Name_Here
C171: English (Australia) | E171: Enter_File_Name_Here
C172: English (Canada) | E172: Enter_File_Name_Here
C173: English (Czech Republic) | E173: Enter_File_Name_Here
... C211: Turkish (Turkey) | E211: Enter_File_Name_Here
C213: TITLED HERO ART (1920x1080 .PNG)
C214: Language (Country) | E214: File Name
C215: Default | E215: JD2014_DLC_BEAUTY&BEAT_TITLE_HEROS_ART.png
C216: Chinese Simplified (PRC) | E216: Enter_File_Name_Here
C217: Chinese Simplified (Singapore) | E217: Enter_File_Name_Here
C218: Chinese Traditional (Hong Kong) | E218: Enter_File_Name_Here
C219: Chinese Traditional (Taiwan) | E219: Enter_File_Name_Here
C220: Danish (Denmark) | E220: Enter_File_Name_Here
C221: Dutch (Belgium) | E221: Enter_File_Name_Here
C222: Dutch (Netherlands) | E222: Enter_File_Name_Here
C223: English (Australia) | E223: Enter_File_Name_Here
C224: English (Canada) | E224: Enter_File_Name_Here
C225: English (Czech Republic) | E225: Enter_File_Name_Here
... C263: Turkish (Turkey) | E263: Enter_File_Name_Here
C265: IMAGE GALLERY
C266: Language (Country) | E266: File Name
C267: Default | E267: JD2014_SCREENSHOT_BEAUTY&BEAT_XBOX_ONE.zip
C268: Chinese Simplified (PRC) | E268: Enter_File_Name_Here
C269: Chinese Simplified (Singapore) | E269: Enter_File_Name_Here
C270: Chinese Traditional (Hong Kong) | E270: Enter_File_Name_Here
C271: Chinese Traditional (Taiwan) | E271: Enter_File_Name_Here
C272: Danish (Denmark) | E272: Enter_File_Name_Here
C273: Dutch (Belgium) | E273: Enter_File_Name_Here
C274: Dutch (Netherlands) | E274: Enter_File_Name_Here
C275: English (Australia) | E275: Enter_File_Name_Here
C276: English (Canada) | E276: Enter_File_Name_Here
C277: English (Czech Republic) | E277: Enter_File_Name_Here
... C315: Turkish (Turkey) | E315: Enter_File_Name_Here
C317: BRANDED KEY ART (584x800 .PNG)
C318: Language (Country) | E318: File Name
C319: Default | E319: JD2014_DLC_BEAUTY&BEAT_XBOX_ONE_BANNER.png
C320: Chinese Simplified (PRC) | E320: Enter_File_Name_Here
C321: Chinese Simplified (Singapore) | E321: Enter_File_Name_Here
C322: Chinese Traditional (Hong Kong) | E322: Enter_File_Name_Here
C323: Chinese Traditional (Taiwan) | E323: Enter_File_Name_Here
C324: Danish (Denmark) | E324: Enter_File_Name_Here
C325: Dutch (Belgium) | E325: Enter_File_Name_Here
C326: Dutch (Netherlands) | E326: Enter_File_Name_Here
C327: English (Australia) | E327: Enter_File_Name_Here
C328: English (Canada) | E328: Enter_File_Name_Here
C329: English (Czech Republic) | E329: Enter_File_Name_Here
... C367: Turkish (Turkey) | E367: Enter_File_Name_Here
...

Sheet TRAILERS
C2: Trailers and associated artwork must be uploaded to the location specified on the "Product Details" tab.
C4: Are trailers embargo'd? | E4: Select_Option
C5: Embargo Date / Time (UTC): | E5: Enter_Information_Here
B7: I | C7: GAME TRAILERS
C9: TRAILER 1
C10: ESRB REGIONS | E10: TRAILER TITLE | F10: TRAILER FILE NAME | G10: TRAILER IMAGE
C11: English (Canada) | E11: Enter_Information_Here | F11: Enter_File_Name_Here | G11: Enter_File_Name_Here
C12: English (US) | E12: Enter_Information_Here | F12: Enter_File_Name_Here | G12: Enter_File_Name_Here
C13: French (Canada) | E13: Enter_Information_Here | F13: Enter_File_Name_Here | G13: Enter_File_Name_Here
C14: PEGI REGIONS
C15: Danish (Denmark) | E15: Enter_Information_Here | F15: Enter_File_Name_Here | G15: Enter_File_Name_Here
C16: Dutch (Belgium) | E16: Enter_Information_Here | F16: Enter_File_Name_Here | G16: Enter_File_Name_Here
C17: Dutch (Netherlands) | E17: Enter_Information_Here | F17: Enter_File_Name_Here | G17: Enter_File_Name_Here
C18: English (Czech Republic) | E18: Enter_Information_Here | F18: Enter_File_Name_Here | G18: Enter_File_Name_Here
C19: English (Greece) | E19: Enter_Information_Here | F19: Enter_File_Name_Here | G19: Enter_File_Name_Here
C20: English (Hungary) | E20: Enter_Information_Here | F20: Enter_File_Name_Here | G20: Enter_File_Name_Here
C21: English (Ireland) | E21: Enter_Information_Here | F21: Enter_File_Name_Here | G21: Enter_File_Name_Here
C22: English (Slovakia) | E22: Enter_Information_Here | F22: Enter_File_Name_Here | G22: Enter_File_Name_Here
C23: English (United Kingdom) | E23: Enter_Information_Here | F23: Enter_File_Name_Here | G23: Enter_File_Name_Here
C24: Finnish (Finland) | E24: Enter_Information_Here | F24: Enter_File_Name_Here | G24: Enter_File_Name_Here
C25: French (Belgium) | E25: Enter_Information_Here | F25: Enter_File_Name_Here | G25: Enter_File_Name_Here
C26: French (France) | E26: Enter_Information_Here | F26: Enter_File_Name_Here | G26: Enter_File_Name_Here
... C36: Turkish (Turkey) | E36: Enter_Information_Here | F36: Enter_File_Name_Here | G36: Enter_File_Name_Here
C37: REST OF WORLD REGIONS
C38: Default | E38: Enter_Information_Here | F38: Enter_File_Name_Here | G38: Enter_File_Name_Here
C39: Chinese Simplified (PRC) | E39: Enter_Information_Here | F39: Enter_File_Name_Here | G39: Enter_File_Name_Here
C40: Chinese Simplified (Singapore) | E40: Enter_Information_Here | F40: Enter_File_Name_Here | G40: Enter_File_Name_Here
C41: Chinese Traditional (Hong Kong) | E41: Enter_Information_Here | F41: Enter_File_Name_Here | G41: Enter_File_Name_Here
C42: Chinese Traditional (Taiwan) | E42: Enter_Information_Here | F42: Enter_File_Name_Here | G42: Enter_File_Name_Here
C43: English (Australia) | E43: Enter_Information_Here | F43: Enter_File_Name_Here | G43: Enter_File_Name_Here
C44: English (Hong Kong) | E44: Enter_Information_Here | F44: Enter_File_Name_Here | G44: Enter_File_Name_Here
C45: English (India) | E45: Enter_Information_Here | F45: Enter_File_Name_Here | G45: Enter_File_Name_Here
C46: English (Israel) | E46: Enter_Information_Here | F46: Enter_File_Name_Here | G46: Enter_File_Name_Here
C47: English (New Zealand) | E47: Enter_Information_Here | F47: Enter_File_Name_Here | G47: Enter_File_Name_Here
C48: English (Saudi Arabia) | E48: Enter_Information_Here | F48: Enter_File_Name_Here | G48: Enter_File_Name_Here
C49: English (Singapore) | E49: Enter_Information_Here | F49: Enter_File_Name_Here | G49: Enter_File_Name_Here
... C60: Spanish (Mexico) | E60: Enter_Information_Here | F60: Enter_File_Name_Here | G60: Enter_File_Name_Here
C62: TRAILER 2
C63: ESRB REGIONS | E63: TRAILER TITLE | F63: TRAILER FILE NAME | G63: TRAILER IMAGE
C64: English (Canada) | E64: Enter_Information_Here | F64: Enter_File_Name_Here | G64: Enter_File_Name_Here
C65: English (US) | E65: Enter_Information_Here | F65: Enter_File_Name_Here | G65: Enter_File_Name_Here
C66: French (Canada) | E66: Enter_Information_Here | F66: Enter_File_Name_Here | G66: Enter_File_Name_Here
C67: PEGI REGIONS
C68: Danish (Denmark) | E68: Enter_Information_Here | F68: Enter_File_Name_Here | G68: Enter_File_Name_Here
C69: Dutch (Belgium) | E69: Enter_Information_Here | F69: Enter_File_Name_Here | G69: Enter_File_Name_Here
C70: Dutch (Netherlands) | E70: Enter_Information_Here | F70: Enter_File_Name_Here | G70: Enter_File_Name_Here
C71: English (Czech Republic) | E71: Enter_Information_Here | F71: Enter_File_Name_Here | G71: Enter_File_Name_Here
C72: English (Greece) | E72: Enter_Information_Here | F72: Enter_File_Name_Here | G72: Enter_File_Name_Here
C73: English (Hungary) | E73: Enter_Information_Here | F73: Enter_File_Name_Here | G73: Enter_File_Name_Here
C74: English (Ireland) | E74: Enter_Information_Here | F74: Enter_File_Name_Here | G74: Enter_File_Name_Here
C75: English (Slovakia) | E75: Enter_Information_Here | F75: Enter_File_Name_Here | G75: Enter_File_Name_Here
C76: English (United Kingdom) | E76: Enter_Information_Here | F76: Enter_File_Name_Here | G76: Enter_File_Name_Here
C77: Finnish (Finland) | E77: Enter_Information_Here | F77: Enter_File_Name_Here | G77: Enter_File_Name_Here
C78: French (Belgium) | E78: Enter_Information_Here | F78: Enter_File_Name_Here | G78: Enter_File_Name_Here
C79: French (France) | E79: Enter_Information_Here | F79: Enter_File_Name_Here | G79: Enter_File_Name_Here
... C89: Turkish (Turkey) | E89: Enter_Information_Here | F89: Enter_File_Name_Here | G89: Enter_File_Name_Here
C90: REST OF WORLD REGIONS
C91: Default | E91: Enter_Information_Here | F91: Enter_File_Name_Here | G91: Enter_File_Name_Here
C92: Chinese Simplified (PRC) | E92: Enter_Information_Here | F92: Enter_File_Name_Here | G92: Enter_File_Name_Here
C93: Chinese Simplified (Singapore) | E93: Enter_Information_Here | F93: Enter_File_Name_Here | G93: Enter_File_Name_Here
C94: Chinese Traditional (Hong Kong) | E94: Enter_Information_Here | F94: Enter_File_Name_Here | G94: Enter_File_Name_Here
C95: Chinese Traditional (Taiwan) | E95: Enter_Information_Here | F95: Enter_File_Name_Here | G95: Enter_File_Name_Here
C96: English (Australia) | E96: Enter_Information_Here | F96: Enter_File_Name_Here | G96: Enter_File_Name_Here
C97: English (Hong Kong) | E97: Enter_Information_Here | F97: Enter_File_Name_Here | G97: Enter_File_Name_Here
C98: English (India) | E98: Enter_Information_Here | F98: Enter_File_Name_Here | G98: Enter_File_Name_Here
C99: English (Israel) | E99: Enter_Information_Here | F99: Enter_File_Name_Here | G99: Enter_File_Name_Here
C100: English (New Zealand) | E100: Enter_Information_Here | F100: Enter_File_Name_Here | G100: Enter_File_Name_Here
C101: English (Saudi Arabia) | E101: Enter_Information_Here | F101: Enter_File_Name_Here | G101: Enter_File_Name_Here
C102: English (Singapore) | E102: Enter_Information_Here | F102: Enter_File_Name_Here | G102: Enter_File_Name_Here
... C113: Spanish (Mexico) | E113: Enter_Information_Here | F113: Enter_File_Name_Here | G113: Enter_File_Name_Here
C115: TRAILER 3
C116: ESRB REGIONS | E116: TRAILER TITLE | F116: TRAILER FILE NAME | G116: TRAILER IMAGE
C117: English (Canada) | E117: Enter_Information_Here | F117: Enter_File_Name_Here | G117: Enter_File_Name_Here
C118: English (US) | E118: Enter_Information_Here | F118: Enter_File_Name_Here | G118: Enter_File_Name_Here
C119: French (Canada) | E119: Enter_Information_Here | F119: Enter_File_Name_Here | G119: Enter_File_Name_Here
C120: PEGI REGIONS
C121: Danish (Denmark) | E121: Enter_Information_Here | F121: Enter_File_Name_Here | G121: Enter_File_Name_Here
C122: Dutch (Belgium) | E122: Enter_Information_Here | F122: Enter_File_Name_Here | G122: Enter_File_Name_Here
C123: Dutch (Netherlands) | E123: Enter_Information_Here | F123: Enter_File_Name_Here | G123: Enter_File_Name_Here
C124: English (Czech Republic) | E124: Enter_Information_Here | F124: Enter_File_Name_Here | G124: Enter_File_Name_Here
C125: English (Greece) | E125: Enter_Information_Here | F125: Enter_File_Name_Here | G125: Enter_File_Name_Here
C126: English (Hungary) | E126: Enter_Information_Here | F126: Enter_File_Name_Here | G126: Enter_File_Name_Here
C127: English (Ireland) | E127: Enter_Information_Here | F127: Enter_File_Name_Here | G127: Enter_File_Name_Here
C128: English (Slovakia) | E128: Enter_Information_Here | F128: Enter_File_Name_Here | G128: Enter_File_Name_Here
C129: English (United Kingdom) | E129: Enter_Information_Here | F129: Enter_File_Name_Here | G129: Enter_File_Name_Here
C130: Finnish (Finland) | E130: Enter_Information_Here | F130: Enter_File_Name_Here | G130: Enter_File_Name_Here
C131: French (Belgium) | E131: Enter_Information_Here | F131: Enter_File_Name_Here | G131: Enter_File_Name_Here
C132: French (France) | E132: Enter_Information_Here | F132: Enter_File_Name_Here | G132: Enter_File_Name_Here
... C142: Turkish (Turkey) | E142: Enter_Information_Here | F142: Enter_File_Name_Here | G142: Enter_File_Name_Here
C143: REST OF WORLD REGIONS
C144: Default | E144: Enter_Information_Here | F144: Enter_File_Name_Here | G144: Enter_File_Name_Here
C145: Chinese Simplified (PRC) | E145: Enter_Information_Here | F145: Enter_File_Name_Here | G145: Enter_File_Name_Here
C146: Chinese Simplified (Singapore) | E146: Enter_Information_Here | F146: Enter_File_Name_Here | G146: Enter_File_Name_Here
C147: Chinese Traditional (Hong Kong) | E147: Enter_Information_Here | F147: Enter_File_Name_Here | G147: Enter_File_Name_Here
C148: Chinese Traditional (Taiwan) | E148: Enter_Information_Here | F148: Enter_File_Name_Here | G148: Enter_File_Name_Here
C149: English (Australia) | E149: Enter_Information_Here | F149: Enter_File_Name_Here | G149: Enter_File_Name_Here
C150: English (Hong Kong) | E150: Enter_Information_Here | F150: Enter_File_Name_Here | G150: Enter_File_Name_Here
C151: English (India) | E151: Enter_Information_Here | F151: Enter_File_Name_Here | G151: Enter_File_Name_Here
C152: English (Israel) | E152: Enter_Information_Here | F152: Enter_File_Name_Here | G152: Enter_File_Name_Here
C153: English (New Zealand) | E153: Enter_Information_Here | F153: Enter_File_Name_Here | G153: Enter_File_Name_Here
...

Sheet CONSUMABLE INFO
B2: A Consumable Product can have multiple Availabilities in the same region. In order for these to be differentiated, you must supply a localized description, which will appear to the end user. In the 'Consumable Quantity' field, please enter the quantity of each consumable. In each language field, enter the Consumable Description that the user will see.
B4: J | C4: CONSUMABLE DESCRIPTION (CONSUMABLES ONLY)
E5: EXAMPLE | F5: AVAILABILITY 1 | G5: AVAILABILITY 2 | H5: AVAILABILITY 3 | I5: AVAILABILITY 4 | J5: AVAILABILITY 5 | K5: AVAILABILITY 6 | L5: AVAILABILITY 7 | M5: AVAILABILITY 8 | N5: AVAILABILITY 9 | O5: AVAILABILITY 10 | P5: AVAILABILITY 11 | Q5: AVAILABILITY 12 | R5: AVAILABILITY 13 | S5: AVAILABILITY 14 | T5: AVAILABILITY 15 | U5: AVAILABILITY 16 | V5: AVAILABILITY 17 | W5: AVAILABILITY 18 | X5: AVAILABILITY 19 | Y5: AVAILABILITY 20
C6: Consumable Quantity | E6: 10 | F6: Enter_Quantity_Here | G6: Enter_Quantity_Here | H6: Enter_Quantity_Here | I6: Enter_Quantity_Here | J6: Enter_Quantity_Here | K6: Enter_Quantity_Here | L6: Enter_Quantity_Here | M6: Enter_Quantity_Here | N6: Enter_Quantity_Here | O6: Enter_Quantity_Here | P6: Enter_Quantity_Here | Q6: Enter_Quantity_Here | R6: Enter_Quantity_Here | S6: Enter_Quantity_Here | T6: Enter_Quantity_Here | U6: Enter_Quantity_Here | V6: Enter_Quantity_Here | W6: Enter_Quantity_Here | X6: Enter_Quantity_Here | Y6: Enter_Quantity_Here
C7: Wholsale Price Tier | F7: Select_Option | G7: Select_Option | H7: Select_Option | I7: Select_Option | J7: Select_Option | K7: Select_Option | L7: Select_Option | M7: Select_Option | N7: Select_Option | O7: Select_Option | P7: Select_Option | Q7: Select_Option | R7: Select_Option | S7: Select_Option | T7: Select_Option | U7: Select_Option | V7: Select_Option | W7: Select_Option | X7: Select_Option | Y7: Select_Option
C8: US Wholesale Price | F8: =IF((F7="Select_Option")+(F7=""),"",IF(F7="Test Tier 1 - $0.01 USD",0.01,IF(F7="Test Tier 2 - $0.02 USD",0.02,INDEX(WSP[#All],MATCH(F7,WSP[LOOKUP],0)+1,MATCH("United States",WSP[#Headers],0))))) | G8: =IF((G7="Select_Option")+(G7=""),"",IF(G7="Test Tier 1 - $0.01 USD",0.01,IF(G7="Test Tier 2 - $0.02 USD",0.02,INDEX(WSP[#All],MATCH(G7,WSP[LOOKUP],0)+1,MATCH("United States",WSP[#Headers],0))))) | H8: =IF((H7="Select_Option")+(H7=""),"",IF(H7="Test Tier 1 - $0.01 USD",0.01,IF(H7="Test Tier 2 - $0.02 USD",0.02,INDEX(WSP[#All],MATCH(H7,WSP[LOOKUP],0)+1,MATCH("United States",WSP[#Headers],0))))) | I8: =IF((I7="Select_Option")+(I7=""),"",IF(I7="Test Tier 1 - $0.01 USD",0.01,IF(I7="Test Tier 2 - $0.02 USD",0.02,INDEX(WSP[#All],MATCH(I7,WSP[LOOKUP],0)+1,MATCH("United States",WSP[#Headers],0))))) | J8: =IF((J7="Select_Option")+(J7=""),"",IF(J7="Test Tier 1 - $0.01 USD",0.01,IF(J7="Test Tier 2 - $0.02 USD",0.02,INDEX(WSP[#All],MATCH(J7,WSP[LOOKUP],0)+1,MATCH("United States",WSP[#Headers],0))))) | K8: =IF((K7="Select_Option")+(K7=""),"",IF(K7="Test Tier 1 - $0.01 USD",0.01,IF(K7="Test Tier 2 - $0.02 USD",0.02,INDEX(WSP[#All],MATCH(K7,WSP[LOOKUP],0)+1,MATCH("United States",WSP[#Headers],0))))) | L8: {=IF((L7="Select_Option")+(L7=""),"",IF(L7="Test Tier 1 - $0.01 USD",0.01,IF(L7="Test Tier 2 - $0.02 USD",0.02,INDEX(WSP[#All],MATCH(L7,WSP[LOOKUP],0)+1,MATCH("United States",WSP[#Headers],0)))))} | M8: {=IF((M7="Select_Option")+(M7=""),"",IF(M7="Test Tier 1 - $0.01 USD",0.01,IF(M7="Test Tier 2 - $0.02 USD",0.02,INDEX(WSP[#All],MATCH(M7,WSP[LOOKUP],0)+1,MATCH("United States",WSP[#Headers],0)))))} | N8: {=IF((N7="Select_Option")+(N7=""),"",IF(N7="Test Tier 1 - $0.01 USD",0.01,IF(N7="Test Tier 2 - $0.02 USD",0.02,INDEX(WSP[#All],MATCH(N7,WSP[LOOKUP],0)+1,MATCH("United States",WSP[#Headers],0)))))} | O8: {=IF((O7="Select_Option")+(O7=""),"",IF(O7="Test Tier 1 - $0.01 USD",0.01,IF(O7="Test Tier 2 - $0.02 USD",0.02,INDEX(WSP[#All],MATCH(O7,WSP[LOOKUP],0)+1,MATCH("United States",WSP[#Headers],0)))))} | P8: {=IF((P7="Select_Option")+(P7=""),"",IF(P7="Test Tier 1 - $0.01 USD",0.01,IF(P7="Test Tier 2 - $0.02 USD",0.02,INDEX(WSP[#All],MATCH(P7,WSP[LOOKUP],0)+1,MATCH("United States",WSP[#Headers],0)))))} | Q8: {=IF((Q7="Select_Option")+(Q7=""),"",IF(Q7="Test Tier 1 - $0.01 USD",0.01,IF(Q7="Test Tier 2 - $0.02 USD",0.02,INDEX(WSP[#All],MATCH(Q7,WSP[LOOKUP],0)+1,MATCH("United States",WSP[#Headers],0)))))} | R8: {=IF((R7="Select_Option")+(R7=""),"",IF(R7="Test Tier 1 - $0.01 USD",0.01,IF(R7="Test Tier 2 - $0.02 USD",0.02,INDEX(WSP[#All],MATCH(R7,WSP[LOOKUP],0)+1,MATCH("United States",WSP[#Headers],0)))))} | S8: {=IF((S7="Select_Option")+(S7=""),"",IF(S7="Test Tier 1 - $0.01 USD",0.01,IF(S7="Test Tier 2 - $0.02 USD",0.02,INDEX(WSP[#All],MATCH(S7,WSP[LOOKUP],0)+1,MATCH("United States",WSP[#Headers],0)))))} | ... Y8: {=IF((Y7="Select_Option")+(Y7=""),"",IF(Y7="Test Tier 1 - $0.01 USD",0.01,IF(Y7="Test Tier 2 - $0.02 USD",0.02,INDEX(WSP[#All],MATCH(Y7,WSP[LOOKUP],0)+1,MATCH("United States",WSP[#Headers],0)))))}
C9: MSRP Price Tier (MICROSOFT USE ONLY) | F9: Select_Option | G9: Select_Option | H9: Select_Option | I9: Select_Option | J9: Select_Option | K9: Select_Option | L9: Select_Option | M9: Select_Option | N9: Select_Option | O9: Select_Option | P9: Select_Option | Q9: Select_Option | R9: Select_Option | S9: Select_Option | T9: Select_Option | U9: Select_Option | V9: Select_Option | W9: Select_Option | X9: Select_Option | Y9: Select_Option
C10: US MSRP | F10: =IF((F9="Select_Option")*(F7="Select_Option"),"",IF((F9="Select_Option")*(F7<>"Select_Option"),INDEX(SRP[#All],MATCH(INDEX(_reference!$J$3:$J$406,MATCH(F7,_reference!$I$3:$I$406,0)),SRP[LOOKUP],0)+1,MATCH("United States",SRP[#Headers],0)),IF(F9="Test Tier 1 - $0.01 USD",0.01,IF(F9="Test Tier 2 - $0.02 USD",0.02,INDEX(SRP[#All],MATCH(F9,SRP[LOOKUP],0)+1,MATCH("United States",SRP[#Headers],0)))))) | G10: =IF((G9="Select_Option")*(G7="Select_Option"),"",IF((G9="Select_Option")*(G7<>"Select_Option"),INDEX(SRP[#All],MATCH(INDEX(_reference!$J$3:$J$406,MATCH(G7,_reference!$I$3:$I$406,0)),SRP[LOOKUP],0)+1,MATCH("United States",SRP[#Headers],0)),IF(G9="Test Tier 1 - $0.01 USD",0.01,IF(G9="Test Tier 2 - $0.02 USD",0.02,INDEX(SRP[#All],MATCH(G9,SRP[LOOKUP],0)+1,MATCH("United States",SRP[#Headers],0)))))) | H10: =IF((H9="Select_Option")*(H7="Select_Option"),"",IF((H9="Select_Option")*(H7<>"Select_Option"),INDEX(SRP[#All],MATCH(INDEX(_reference!$J$3:$J$406,MATCH(H7,_reference!$I$3:$I$406,0)),SRP[LOOKUP],0)+1,MATCH("United States",SRP[#Headers],0)),IF(H9="Test Tier 1 - $0.01 USD",0.01,IF(H9="Test Tier 2 - $0.02 USD",0.02,INDEX(SRP[#All],MATCH(H9,SRP[LOOKUP],0)+1,MATCH("United States",SRP[#Headers],0)))))) | I10: =IF((I9="Select_Option")*(I7="Select_Option"),"",IF((I9="Select_Option")*(I7<>"Select_Option"),INDEX(SRP[#All],MATCH(INDEX(_reference!$J$3:$J$406,MATCH(I7,_reference!$I$3:$I$406,0)),SRP[LOOKUP],0)+1,MATCH("United States",SRP[#Headers],0)),IF(I9="Test Tier 1 - $0.01 USD",0.01,IF(I9="Test Tier 2 - $0.02 USD",0.02,INDEX(SRP[#All],MATCH(I9,SRP[LOOKUP],0)+1,MATCH("United States",SRP[#Headers],0)))))) | J10: =IF((J9="Select_Option")*(J7="Select_Option"),"",IF((J9="Select_Option")*(J7<>"Select_Option"),INDEX(SRP[#All],MATCH(INDEX(_reference!$J$3:$J$406,MATCH(J7,_reference!$I$3:$I$406,0)),SRP[LOOKUP],0)+1,MATCH("United States",SRP[#Headers],0)),IF(J9="Test Tier 1 - $0.01 USD",0.01,IF(J9="Test Tier 2 - $0.02 USD",0.02,INDEX(SRP[#All],MATCH(J9,SRP[LOOKUP],0)+1,MATCH("United States",SRP[#Headers],0)))))) | K10: =IF((K9="Select_Option")*(K7="Select_Option"),"",IF((K9="Select_Option")*(K7<>"Select_Option"),INDEX(SRP[#All],MATCH(INDEX(_reference!$J$3:$J$406,MATCH(K7,_reference!$I$3:$I$406,0)),SRP[LOOKUP],0)+1,MATCH("United States",SRP[#Headers],0)),IF(K9="Test Tier 1 - $0.01 USD",0.01,IF(K9="Test Tier 2 - $0.02 USD",0.02,INDEX(SRP[#All],MATCH(K9,SRP[LOOKUP],0)+1,MATCH("United States",SRP[#Headers],0)))))) | L10: {=IF((L9="Select_Option")+(L9=""),"",IF(L9="Test Tier 1 - $0.01 USD",0.01,IF(L9="Test Tier 2 - $0.02 USD",0.02,INDEX(SRP[#All],MATCH(L9,SRP[LOOKUP],0)+1,MATCH("United States",SRP[#Headers],0)))))} | M10: {=IF((M9="Select_Option")+(M9=""),"",IF(M9="Test Tier 1 - $0.01 USD",0.01,IF(M9="Test Tier 2 - $0.02 USD",0.02,INDEX(SRP[#All],MATCH(M9,SRP[LOOKUP],0)+1,MATCH("United States",SRP[#Headers],0)))))} | N10: {=IF((N9="Select_Option")+(N9=""),"",IF(N9="Test Tier 1 - $0.01 USD",0.01,IF(N9="Test Tier 2 - $0.02 USD",0.02,INDEX(SRP[#All],MATCH(N9,SRP[LOOKUP],0)+1,MATCH("United States",SRP[#Headers],0)))))} | O10: {=IF((O9="Select_Option")+(O9=""),"",IF(O9="Test Tier 1 - $0.01 USD",0.01,IF(O9="Test Tier 2 - $0.02 USD",0.02,INDEX(SRP[#All],MATCH(O9,SRP[LOOKUP],0)+1,MATCH("United States",SRP[#Headers],0)))))} | P10: {=IF((P9="Select_Option")+(P9=""),"",IF(P9="Test Tier 1 - $0.01 USD",0.01,IF(P9="Test Tier 2 - $0.02 USD",0.02,INDEX(SRP[#All],MATCH(P9,SRP[LOOKUP],0)+1,MATCH("United States",SRP[#Headers],0)))))} | Q10: {=IF((Q9="Select_Option")+(Q9=""),"",IF(Q9="Test Tier 1 - $0.01 USD",0.01,IF(Q9="Test Tier 2 - $0.02 USD",0.02,INDEX(SRP[#All],MATCH(Q9,SRP[LOOKUP],0)+1,MATCH("United States",SRP[#Headers],0)))))} | R10: {=IF((R9="Select_Option")+(R9=""),"",IF(R9="Test Tier 1 - $0.01 USD",0.01,IF(R9="Test Tier 2 - $0.02 USD",0.02,INDEX(SRP[#All],MATCH(R9,SRP[LOOKUP],0)+1,MATCH("United States",SRP[#Headers],0)))))} | S10: {=IF((S9="Select_Option")+(S9=""),"",IF(S9="Test Tier 1 - $0.01 USD",0.01,IF(S9="Test Tier 2 - $0.02 USD",0.02,INDEX(SRP[#All],MATCH(S9,SRP[LOOKUP],0)+1,MATCH("United States",SRP[#Headers],0)))))} | ... Y10: {=IF((Y9="Select_Option")+(Y9=""),"",IF(Y9="Test Tier 1 - $0.01 USD",0.01,IF(Y9="Test Tier 2 - $0.02 USD",0.02,INDEX(SRP[#All],MATCH(Y9,SRP[LOOKUP],0)+1,MATCH("United States",SRP[#Headers],0)))))}
C11: Retail Price Tier (MICROSOFT USE ONLY) | F11: Select_Option | G11: Select_Option | H11: Select_Option | I11: Select_Option | J11: Select_Option | K11: Select_Option
C12: US RETAIL PRICE | F12: {=IF((F11="Select_Option")+(F11=""),"",IF(F11="Test Tier 1 - $0.01 USD",0.01,IF(F11="Test Tier 2 - $0.02 USD",0.02,INDEX(SRP[#All],MATCH(F11,SRP[LOOKUP],0)+1,MATCH("United States",SRP[#Headers],0)))))} | G12: {=IF((G11="Select_Option")+(G11=""),"",IF(G11="Test Tier 1 - $0.01 USD",0.01,IF(G11="Test Tier 2 - $0.02 USD",0.02,INDEX(SRP[#All],MATCH(G11,SRP[LOOKUP],0)+1,MATCH("United States",SRP[#Headers],0)))))} | H12: {=IF((H11="Select_Option")+(H11=""),"",IF(H11="Test Tier 1 - $0.01 USD",0.01,IF(H11="Test Tier 2 - $0.02 USD",0.02,INDEX(SRP[#All],MATCH(H11,SRP[LOOKUP],0)+1,MATCH("United States",SRP[#Headers],0)))))} | I12: {=IF((I11="Select_Option")+(I11=""),"",IF(I11="Test Tier 1 - $0.01 USD",0.01,IF(I11="Test Tier 2 - $0.02 USD",0.02,INDEX(SRP[#All],MATCH(I11,SRP[LOOKUP],0)+1,MATCH("United States",SRP[#Headers],0)))))} | J12: {=IF((J11="Select_Option")+(J11=""),"",IF(J11="Test Tier 1 - $0.01 USD",0.01,IF(J11="Test Tier 2 - $0.02 USD",0.02,INDEX(SRP[#All],MATCH(J11,SRP[LOOKUP],0)+1,MATCH("United States",SRP[#Headers],0)))))} | K12: {=IF((K11="Select_Option")+(K11=""),"",IF(K11="Test Tier 1 - $0.01 USD",0.01,IF(K11="Test Tier 2 - $0.02 USD",0.02,INDEX(SRP[#All],MATCH(K11,SRP[LOOKUP],0)+1,MATCH("United States",SRP[#Headers],0)))))} | L12: =IF(L11="Select_Option","",VLOOKUP(L11,Table1[],3,FALSE)) -> 0 | M12: =IF(M11="Select_Option","",VLOOKUP(M11,Table1[],3,FALSE)) -> 0 | N12: =IF(N11="Select_Option","",VLOOKUP(N11,Table1[],3,FALSE)) -> 0 | O12: =IF(O11="Select_Option","",VLOOKUP(O11,Table1[],3,FALSE)) -> 0 | P12: =IF(P11="Select_Option","",VLOOKUP(P11,Table1[],3,FALSE)) -> 0 | Q12: =IF(Q11="Select_Option","",VLOOKUP(Q11,Table1[],3,FALSE)) -> 0 | R12: =IF(R11="Select_Option","",VLOOKUP(R11,Table1[],3,FALSE)) -> 0 | S12: =IF(S11="Select_Option","",VLOOKUP(S11,Table1[],3,FALSE)) -> 0 | ... Y12: =IF(Y11="Select_Option","",VLOOKUP(Y11,Table1[],3,FALSE)) -> 0
B13: REQUIRED LANGUAGES | C13: Default | E13: 10 Coins | F13: Enter_Information_Here | G13: Enter_Information_Here | H13: Enter_Information_Here | I13: Enter_Information_Here | J13: Enter_Information_Here | K13: Enter_Information_Here | L13: Enter_Information_Here | M13: Enter_Information_Here | N13: Enter_Information_Here | O13: Enter_Information_Here | P13: Enter_Information_Here | Q13: Enter_Information_Here | R13: Enter_Information_Here | S13: Enter_Information_Here | T13: Enter_Information_Here | U13: Enter_Information_Here | V13: Enter_Information_Here | W13: Enter_Information_Here | X13: Enter_Information_Here | Y13: Enter_Information_Here
C14: Chinese (Simplified) | F14: Enter_Information_Here | G14: Enter_Information_Here | H14: Enter_Information_Here | I14: Enter_Information_Here | J14: Enter_Information_Here | K14: Enter_Information_Here
C15: English | E15: 10 Coins | F15: Enter_Information_Here | G15: Enter_Information_Here | H15: Enter_Information_Here | I15: Enter_Information_Here | J15: Enter_Information_Here | K15: Enter_Information_Here | L15: Enter_Information_Here | M15: Enter_Information_Here | N15: Enter_Information_Here | O15: Enter_Information_Here | P15: Enter_Information_Here | Q15: Enter_Information_Here | R15: Enter_Information_Here | S15: Enter_Information_Here | T15: Enter_Information_Here | U15: Enter_Information_Here | V15: Enter_Information_Here | W15: Enter_Information_Here | X15: Enter_Information_Here | Y15: Enter_Information_Here
D16: English (Australia) override | F16: Enter_Information_Here | G16: Enter_Information_Here | H16: Enter_Information_Here | I16: Enter_Information_Here | J16: Enter_Information_Here | K16: Enter_Information_Here | L16: Enter_Information_Here | M16: Enter_Information_Here | N16: Enter_Information_Here | O16: Enter_Information_Here | P16: Enter_Information_Here | Q16: Enter_Information_Here | R16: Enter_Information_Here | S16: Enter_Information_Here | T16: Enter_Information_Here | U16: Enter_Information_Here | V16: Enter_Information_Here | W16: Enter_Information_Here | X16: Enter_Information_Here | Y16: Enter_Information_Here
D17: English (Canada) override | F17: Enter_Information_Here | G17: Enter_Information_Here | H17: Enter_Information_Here | I17: Enter_Information_Here | J17: Enter_Information_Here | K17: Enter_Information_Here | L17: Enter_Information_Here | M17: Enter_Information_Here | N17: Enter_Information_Here | O17: Enter_Information_Here | P17: Enter_Information_Here | Q17: Enter_Information_Here | R17: Enter_Information_Here | S17: Enter_Information_Here | T17: Enter_Information_Here | U17: Enter_Information_Here | V17: Enter_Information_Here | W17: Enter_Information_Here | X17: Enter_Information_Here | Y17: Enter_Information_Here
D18: English (Czech Republic) override | F18: Enter_Information_Here | G18: Enter_Information_Here | H18: Enter_Information_Here | I18: Enter_Information_Here | J18: Enter_Information_Here | K18: Enter_Information_Here | L18: Enter_Information_Here | M18: Enter_Information_Here | N18: Enter_Information_Here | O18: Enter_Information_Here | P18: Enter_Information_Here | Q18: Enter_Information_Here | R18: Enter_Information_Here | S18: Enter_Information_Here | T18: Enter_Information_Here | U18: Enter_Information_Here | V18: Enter_Information_Here | W18: Enter_Information_Here | X18: Enter_Information_Here | Y18: Enter_Information_Here
D19: English (Greece) override | F19: Enter_Information_Here | G19: Enter_Information_Here | H19: Enter_Information_Here | I19: Enter_Information_Here | J19: Enter_Information_Here | K19: Enter_Information_Here | L19: Enter_Information_Here | M19: Enter_Information_Here | N19: Enter_Information_Here | O19: Enter_Information_Here | P19: Enter_Information_Here | Q19: Enter_Information_Here | R19: Enter_Information_Here | S19: Enter_Information_Here | T19: Enter_Information_Here | U19: Enter_Information_Here | V19: Enter_Information_Here | W19: Enter_Information_Here | X19: Enter_Information_Here | Y19: Enter_Information_Here
D20: English (Hong Kong) override | F20: Enter_Information_Here | G20: Enter_Information_Here | H20: Enter_Information_Here | I20: Enter_Information_Here | J20: Enter_Information_Here | K20: Enter_Information_Here | L20: Enter_Information_Here | M20: Enter_Information_Here | N20: Enter_Information_Here | O20: Enter_Information_Here | P20: Enter_Information_Here | Q20: Enter_Information_Here | R20: Enter_Information_Here | S20: Enter_Information_Here | T20: Enter_Information_Here | U20: Enter_Information_Here | V20: Enter_Information_Here | W20: Enter_Information_Here | X20: Enter_Information_Here | Y20: Enter_Information_Here
D21: English (Hungary) override | F21: Enter_Information_Here | G21: Enter_Information_Here | H21: Enter_Information_Here | I21: Enter_Information_Here | J21: Enter_Information_Here | K21: Enter_Information_Here | L21: Enter_Information_Here | M21: Enter_Information_Here | N21: Enter_Information_Here | O21: Enter_Information_Here | P21: Enter_Information_Here | Q21: Enter_Information_Here | R21: Enter_Information_Here | S21: Enter_Information_Here | T21: Enter_Information_Here | U21: Enter_Information_Here | V21: Enter_Information_Here | W21: Enter_Information_Here | X21: Enter_Information_Here | Y21: Enter_Information_Here
D22: English (India) override | F22: Enter_Information_Here | G22: Enter_Information_Here | H22: Enter_Information_Here | I22: Enter_Information_Here | J22: Enter_Information_Here | K22: Enter_Information_Here | L22: Enter_Information_Here | M22: Enter_Information_Here | N22: Enter_Information_Here | O22: Enter_Information_Here | P22: Enter_Information_Here | Q22: Enter_Information_Here | R22: Enter_Information_Here | S22: Enter_Information_Here | T22: Enter_Information_Here | U22: Enter_Information_Here | V22: Enter_Information_Here | W22: Enter_Information_Here | X22: Enter_Information_Here | Y22: Enter_Information_Here
D23: English (Ireland) override | F23: Enter_Information_Here | G23: Enter_Information_Here | H23: Enter_Information_Here | I23: Enter_Information_Here | J23: Enter_Information_Here | K23: Enter_Information_Here | L23: Enter_Information_Here | M23: Enter_Information_Here | N23: Enter_Information_Here | O23: Enter_Information_Here | P23: Enter_Information_Here | Q23: Enter_Information_Here | R23: Enter_Information_Here | S23: Enter_Information_Here | T23: Enter_Information_Here | U23: Enter_Information_Here | V23: Enter_Information_Here | W23: Enter_Information_Here | X23: Enter_Information_Here | Y23: Enter_Information_Here
D24: English (Israel) override | F24: Enter_Information_Here | G24: Enter_Information_Here | H24: Enter_Information_Here | I24: Enter_Information_Here | J24: Enter_Information_Here | K24: Enter_Information_Here | L24: Enter_Information_Here | M24: Enter_Information_Here | N24: Enter_Information_Here | O24: Enter_Information_Here | P24: Enter_Information_Here | Q24: Enter_Information_Here | R24: Enter_Information_Here | S24: Enter_Information_Here | T24: Enter_Information_Here | U24: Enter_Information_Here | V24: Enter_Information_Here | W24: Enter_Information_Here | X24: Enter_Information_Here | Y24: Enter_Information_Here
D25: English (New Zealand) override | F25: Enter_Information_Here | G25: Enter_Information_Here | H25: Enter_Information_Here | I25: Enter_Information_Here | J25: Enter_Information_Here | K25: Enter_Information_Here | L25: Enter_Information_Here | M25: Enter_Information_Here | N25: Enter_Information_Here | O25: Enter_Information_Here | P25: Enter_Information_Here | Q25: Enter_Information_Here | R25: Enter_Information_Here | S25: Enter_Information_Here | T25: Enter_Information_Here | U25: Enter_Information_Here | V25: Enter_Information_Here | W25: Enter_Information_Here | X25: Enter_Information_Here | Y25: Enter_Information_Here
D26: English (Saudi Arabia) override | F26: Enter_Information_Here | G26: Enter_Information_Here | H26: Enter_Information_Here | I26: Enter_Information_Here | J26: Enter_Information_Here | K26: Enter_Information_Here | L26: Enter_Information_Here | M26: Enter_Information_Here | N26: Enter_Information_Here | O26: Enter_Information_Here | P26: Enter_Information_Here | Q26: Enter_Information_Here | R26: Enter_Information_Here | S26: Enter_Information_Here | T26: Enter_Information_Here | U26: Enter_Information_Here | V26: Enter_Information_Here | W26: Enter_Information_Here | X26: Enter_Information_Here | Y26: Enter_Information_Here
D27: English (Singapore) override | F27: Enter_Information_Here | G27: Enter_Information_Here | H27: Enter_Information_Here | I27: Enter_Information_Here | J27: Enter_Information_Here | K27: Enter_Information_Here | L27: Enter_Information_Here | M27: Enter_Information_Here | N27: Enter_Information_Here | O27: Enter_Information_Here | P27: Enter_Information_Here | Q27: Enter_Information_Here | R27: Enter_Information_Here | S27: Enter_Information_Here | T27: Enter_Information_Here | U27: Enter_Information_Here | V27: Enter_Information_Here | W27: Enter_Information_Here | X27: Enter_Information_Here | Y27: Enter_Information_Here
D28: English (Slovakia) override | F28: Enter_Information_Here | G28: Enter_Information_Here | H28: Enter_Information_Here | I28: Enter_Information_Here | J28: Enter_Information_Here | K28: Enter_Information_Here | L28: Enter_Information_Here | M28: Enter_Information_Here | N28: Enter_Information_Here | O28: Enter_Information_Here | P28: Enter_Information_Here | Q28: Enter_Information_Here | R28: Enter_Information_Here | S28: Enter_Information_Here | T28: Enter_Information_Here | U28: Enter_Information_Here | V28: Enter_Information_Here | W28: Enter_Information_Here | X28: Enter_Information_Here | Y28: Enter_Information_Here
D29: English (South Africa) override | F29: Enter_Information_Here | G29: Enter_Information_Here | H29: Enter_Information_Here | I29: Enter_Information_Here | J29: Enter_Information_Here | K29: Enter_Information_Here
D30: English (United Arab Emirates) override | F30: Enter_Information_Here | G30: Enter_Information_Here | H30: Enter_Information_Here | I30: Enter_Information_Here | J30: Enter_Information_Here | K30: Enter_Information_Here | L30: Enter_Information_Here | M30: Enter_Information_Here | N30: Enter_Information_Here | O30: Enter_Information_Here | P30: Enter_Information_Here | Q30: Enter_Information_Here | R30: Enter_Information_Here | S30: Enter_Information_Here | T30: Enter_Information_Here | U30: Enter_Information_Here | V30: Enter_Information_Here | W30: Enter_Information_Here | X30: Enter_Information_Here | Y30: Enter_Information_Here
D31: English (United Kingdom) override | F31: Enter_Information_Here | G31: Enter_Information_Here | H31: Enter_Information_Here | I31: Enter_Information_Here | J31: Enter_Information_Here | K31: Enter_Information_Here | L31: Enter_Information_Here | M31: Enter_Information_Here | N31: Enter_Information_Here | O31: Enter_Information_Here | P31: Enter_Information_Here | Q31: Enter_Information_Here | R31: Enter_Information_Here | S31: Enter_Information_Here | T31: Enter_Information_Here | U31: Enter_Information_Here | V31: Enter_Information_Here | W31: Enter_Information_Here | X31: Enter_Information_Here | Y31: Enter_Information_Here
D32: English (United States) override | F32: Enter_Information_Here | G32: Enter_Information_Here | H32: Enter_Information_Here | I32: Enter_Information_Here | J32: Enter_Information_Here | K32: Enter_Information_Here | L32: Enter_Information_Here | M32: Enter_Information_Here | N32: Enter_Information_Here | O32: Enter_Information_Here | P32: Enter_Information_Here | Q32: Enter_Information_Here | R32: Enter_Information_Here | S32: Enter_Information_Here | T32: Enter_Information_Here | U32: Enter_Information_Here | V32: Enter_Information_Here | W32: Enter_Information_Here | X32: Enter_Information_Here | Y32: Enter_Information_Here
C33: French | E33: 10 pièces | F33: Enter_Information_Here | G33: Enter_Information_Here | H33: Enter_Information_Here | I33: Enter_Information_Here | J33: Enter_Information_Here | K33: Enter_Information_Here | L33: Enter_Information_Here | M33: Enter_Information_Here | N33: Enter_Information_Here | O33: Enter_Information_Here | P33: Enter_Information_Here | Q33: Enter_Information_Here | R33: Enter_Information_Here | S33: Enter_Information_Here | T33: Enter_Information_Here | U33: Enter_Information_Here | V33: Enter_Information_Here | W33: Enter_Information_Here | X33: Enter_Information_Here | Y33: Enter_Information_Here
D34: French (Belgium) override | F34: Enter_Information_Here | G34: Enter_Information_Here | H34: Enter_Information_Here | I34: Enter_Information_Here | J34: Enter_Information_Here | K34: Enter_Information_Here | L34: Enter_Information_Here | M34: Enter_Information_Here | N34: Enter_Information_Here | O34: Enter_Information_Here | P34: Enter_Information_Here | Q34: Enter_Information_Here | R34: Enter_Information_Here | S34: Enter_Information_Here | T34: Enter_Information_Here | U34: Enter_Information_Here | V34: Enter_Information_Here | W34: Enter_Information_Here | X34: Enter_Information_Here | Y34: Enter_Information_Here
D35: French (Canada) override | F35: Enter_Information_Here | G35: Enter_Information_Here | H35: Enter_Information_Here | I35: Enter_Information_Here | J35: Enter_Information_Here | K35: Enter_Information_Here | L35: Enter_Information_Here | M35: Enter_Information_Here | N35: Enter_Information_Here | O35: Enter_Information_Here | P35: Enter_Information_Here | Q35: Enter_Information_Here | R35: Enter_Information_Here | S35: Enter_Information_Here | T35: Enter_Information_Here | U35: Enter_Information_Here | V35: Enter_Information_Here | W35: Enter_Information_Here | X35: Enter_Information_Here | Y35: Enter_Information_Here
D36: French (France) override | F36: Enter_Information_Here | G36: Enter_Information_Here | H36: Enter_Information_Here | I36: Enter_Information_Here | J36: Enter_Information_Here | K36: Enter_Information_Here | L36: Enter_Information_Here | M36: Enter_Information_Here | N36: Enter_Information_Here | O36: Enter_Information_Here | P36: Enter_Information_Here | Q36: Enter_Information_Here | R36: Enter_Information_Here | S36: Enter_Information_Here | T36: Enter_Information_Here | U36: Enter_Information_Here | V36: Enter_Information_Here | W36: Enter_Information_Here | X36: Enter_Information_Here | Y36: Enter_Information_Here
D37: French (Switzerland) override | F37: Enter_Information_Here | G37: Enter_Information_Here | H37: Enter_Information_Here | I37: Enter_Information_Here | J37: Enter_Information_Here | K37: Enter_Information_Here | L37: Enter_Information_Here | M37: Enter_Information_Here | N37: Enter_Information_Here | O37: Enter_Information_Here | P37: Enter_Information_Here | Q37: Enter_Information_Here | R37: Enter_Information_Here | S37: Enter_Information_Here | T37: Enter_Information_Here | U37: Enter_Information_Here | V37: Enter_Information_Here | W37: Enter_Information_Here | X37: Enter_Information_Here | Y37: Enter_Information_Here
C38: German | E38: 10 Coins | F38: Enter_Information_Here | G38: Enter_Information_Here | H38: Enter_Information_Here | I38: Enter_Information_Here | J38: Enter_Information_Here | K38: Enter_Information_Here | L38: Enter_Information_Here | M38: Enter_Information_Here | N38: Enter_Information_Here | O38: Enter_Information_Here | P38: Enter_Information_Here | Q38: Enter_Information_Here | R38: Enter_Information_Here | S38: Enter_Information_Here | T38: Enter_Information_Here | U38: Enter_Information_Here | V38: Enter_Information_Here | W38: Enter_Information_Here | X38: Enter_Information_Here | Y38: Enter_Information_Here
D39: German (Austria) override | F39: Enter_Information_Here | G39: Enter_Information_Here | H39: Enter_Information_Here | I39: Enter_Information_Here | J39: Enter_Information_Here | K39: Enter_Information_Here | L39: Enter_Information_Here | M39: Enter_Information_Here | N39: Enter_Information_Here | O39: Enter_Information_Here | P39: Enter_Information_Here | Q39: Enter_Information_Here | R39: Enter_Information_Here | S39: Enter_Information_Here | T39: Enter_Information_Here | U39: Enter_Information_Here | V39: Enter_Information_Here | W39: Enter_Information_Here | X39: Enter_Information_Here | Y39: Enter_Information_Here
D40: German (Germany) override | F40: Enter_Information_Here | G40: Enter_Information_Here | H40: Enter_Information_Here | I40: Enter_Information_Here | J40: Enter_Information_Here | K40: Enter_Information_Here | L40: Enter_Information_Here | M40: Enter_Information_Here | N40: Enter_Information_Here | O40: Enter_Information_Here | P40: Enter_Information_Here | Q40: Enter_Information_Here | R40: Enter_Information_Here | S40: Enter_Information_Here | T40: Enter_Information_Here | U40: Enter_Information_Here | V40: Enter_Information_Here | W40: Enter_Information_Here | X40: Enter_Information_Here | Y40: Enter_Information_Here
D41: German (Switzerland) override | F41: Enter_Information_Here | G41: Enter_Information_Here | H41: Enter_Information_Here | I41: Enter_Information_Here | J41: Enter_Information_Here | K41: Enter_Information_Here | L41: Enter_Information_Here | M41: Enter_Information_Here | N41: Enter_Information_Here | O41: Enter_Information_Here | P41: Enter_Information_Here | Q41: Enter_Information_Here | R41: Enter_Information_Here | S41: Enter_Information_Here | T41: Enter_Information_Here | U41: Enter_Information_Here | V41: Enter_Information_Here | W41: Enter_Information_Here | X41: Enter_Information_Here | Y41: Enter_Information_Here
C42: Italian | E42: 10 monete | F42: Enter_Information_Here | G42: Enter_Information_Here | H42: Enter_Information_Here | I42: Enter_Information_Here | J42: Enter_Information_Here | K42: Enter_Information_Here | L42: Enter_Information_Here | M42: Enter_Information_Here | N42: Enter_Information_Here | O42: Enter_Information_Here | P42: Enter_Information_Here | Q42: Enter_Information_Here | R42: Enter_Information_Here | S42: Enter_Information_Here | T42: Enter_Information_Here | U42: Enter_Information_Here | V42: Enter_Information_Here | W42: Enter_Information_Here | X42: Enter_Information_Here | Y42: Enter_Information_Here
C43: Japanese | E43: 10 コイン | F43: Enter_Information_Here | G43: Enter_Information_Here | H43: Enter_Information_Here | I43: Enter_Information_Here | J43: Enter_Information_Here | K43: Enter_Information_Here | L43: Enter_Information_Here | M43: Enter_Information_Here | N43: Enter_Information_Here | O43: Enter_Information_Here | P43: Enter_Information_Here | Q43: Enter_Information_Here | R43: Enter_Information_Here | S43: Enter_Information_Here | T43: Enter_Information_Here | U43: Enter_Information_Here | V43: Enter_Information_Here | W43: Enter_Information_Here | X43: Enter_Information_Here | Y43: Enter_Information_Here
C44: Spanish | E44: 10 monedas | F44: Enter_Information_Here | G44: Enter_Information_Here | H44: Enter_Information_Here | I44: Enter_Information_Here | J44: Enter_Information_Here | K44: Enter_Information_Here | L44: Enter_Information_Here | M44: Enter_Information_Here | N44: Enter_Information_Here | O44: Enter_Information_Here | P44: Enter_Information_Here | Q44: Enter_Information_Here | R44: Enter_Information_Here | S44: Enter_Information_Here | T44: Enter_Information_Here | U44: Enter_Information_Here | V44: Enter_Information_Here | W44: Enter_Information_Here | X44: Enter_Information_Here | Y44: Enter_Information_Here
D45: Spanish (Argentina) override | F45: Enter_Information_Here | G45: Enter_Information_Here | H45: Enter_Information_Here | I45: Enter_Information_Here | J45: Enter_Information_Here | K45: Enter_Information_Here | L45: Enter_Information_Here | M45: Enter_Information_Here | N45: Enter_Information_Here | O45: Enter_Information_Here | P45: Enter_Information_Here | Q45: Enter_Information_Here | R45: Enter_Information_Here | S45: Enter_Information_Here | T45: Enter_Information_Here | U45: Enter_Information_Here | V45: Enter_Information_Here | W45: Enter_Information_Here | X45: Enter_Information_Here | Y45: Enter_Information_Here
D46: Spanish (Chile) override | F46: Enter_Information_Here | G46: Enter_Information_Here | H46: Enter_Information_Here | I46: Enter_Information_Here | J46: Enter_Information_Here | K46: Enter_Information_Here | L46: Enter_Information_Here | M46: Enter_Information_Here | N46: Enter_Information_Here | O46: Enter_Information_Here | P46: Enter_Information_Here | Q46: Enter_Information_Here | R46: Enter_Information_Here | S46: Enter_Information_Here | T46: Enter_Information_Here | U46: Enter_Information_Here | V46: Enter_Information_Here | W46: Enter_Information_Here | X46: Enter_Information_Here | Y46: Enter_Information_Here
D47: Spanish (Columbia) override | F47: Enter_Information_Here | G47: Enter_Information_Here | H47: Enter_Information_Here | I47: Enter_Information_Here | J47: Enter_Information_Here | K47: Enter_Information_Here | L47: Enter_Information_Here | M47: Enter_Information_Here | N47: Enter_Information_Here | O47: Enter_Information_Here | P47: Enter_Information_Here | Q47: Enter_Information_Here | R47: Enter_Information_Here | S47: Enter_Information_Here | T47: Enter_Information_Here | U47: Enter_Information_Here | V47: Enter_Information_Here | W47: Enter_Information_Here | X47: Enter_Information_Here | Y47: Enter_Information_Here
D48: Spanish (Mexico) override | F48: Enter_Information_Here | G48: Enter_Information_Here | H48: Enter_Information_Here | I48: Enter_Information_Here | J48: Enter_Information_Here | K48: Enter_Information_Here | L48: Enter_Information_Here | M48: Enter_Information_Here | N48: Enter_Information_Here | O48: Enter_Information_Here | P48: Enter_Information_Here | Q48: Enter_Information_Here | R48: Enter_Information_Here | S48: Enter_Information_Here | T48: Enter_Information_Here | U48: Enter_Information_Here | V48: Enter_Information_Here | W48: Enter_Information_Here | X48: Enter_Information_Here | Y48: Enter_Information_Here
D49: Spanish (Spain) override | F49: Enter_Information_Here | G49: Enter_Information_Here | H49: Enter_Information_Here | I49: Enter_Information_Here | J49: Enter_Information_Here | K49: Enter_Information_Here
D50: Spanish (United States) override | F50: Enter_Information_Here | G50: Enter_Information_Here | H50: Enter_Information_Here | I50: Enter_Information_Here | J50: Enter_Information_Here | K50: Enter_Information_Here
C51: Portuguese | E51: 10 moedas | F51: Enter_Information_Here | G51: Enter_Information_Here | H51: Enter_Information_Here | I51: Enter_Information_Here | J51: Enter_Information_Here | K51: Enter_Information_Here
D52: Portuguese (Brazil) override | F52: Enter_Information_Here | G52: Enter_Information_Here | H52: Enter_Information_Here | I52: Enter_Information_Here | J52: Enter_Information_Here | K52: Enter_Information_Here
D53: Portuguese (Portugal) override | F53: Enter_Information_Here | G53: Enter_Information_Here | H53: Enter_Information_Here | I53: Enter_Information_Here | J53: Enter_Information_Here | K53: Enter_Information_Here
B54: OPTIONAL LANGUAGES | C54: Danish | F54: Enter_Information_Here | G54: Enter_Information_Here | H54: Enter_Information_Here | I54: Enter_Information_Here | J54: Enter_Information_Here | K54: Enter_Information_Here
C55: Dutch | F55: Enter_Information_Here | G55: Enter_Information_Here | H55: Enter_Information_Here | I55: Enter_Information_Here | J55: Enter_Information_Here | K55: Enter_Information_Here
D56: Dutch (Belgium) override | F56: Enter_Information_Here | G56: Enter_Information_Here | H56: Enter_Information_Here | I56: Enter_Information_Here | J56: Enter_Information_Here | K56: Enter_Information_Here
D57: Dutch (Netherlands) override | F57: Enter_Information_Here | G57: Enter_Information_Here | H57: Enter_Information_Here | I57: Enter_Information_Here | J57: Enter_Information_Here | K57: Enter_Information_Here
C58: Finnish | F58: Enter_Information_Here | G58: Enter_Information_Here | H58: Enter_Information_Here | I58: Enter_Information_Here | J58: Enter_Information_Here | K58: Enter_Information_Here
C59: Korean | F59: Enter_Information_Here | G59: Enter_Information_Here | H59: Enter_Information_Here | I59: Enter_Information_Here | J59: Enter_Information_Here | K59: Enter_Information_Here
C60: Norwegian | F60: Enter_Information_Here | G60: Enter_Information_Here | H60: Enter_Information_Here | I60: Enter_Information_Here | J60: Enter_Information_Here | K60: Enter_Information_Here
C61: Polish | F61: Enter_Information_Here | G61: Enter_Information_Here | H61: Enter_Information_Here | I61: Enter_Information_Here | J61: Enter_Information_Here | K61: Enter_Information_Here
C62: Russian | F62: Enter_Information_Here | G62: Enter_Information_Here | H62: Enter_Information_Here | I62: Enter_Information_Here | J62: Enter_Information_Here | K62: Enter_Information_Here
C63: Swedish | F63: Enter_Information_Here | G63: Enter_Information_Here | H63: Enter_Information_Here | I63: Enter_Information_Here | J63: Enter_Information_Here | K63: Enter_Information_Here
C64: Traditional Chinese | F64: Enter_Information_Here | G64: Enter_Information_Here | H64: Enter_Information_Here | I64: Enter_Information_Here | J64: Enter_Information_Here | K64: Enter_Information_Here
D65: Traditional Chinese (Hong Kong) override | F65: Enter_Information_Here | G65: Enter_Information_Here | H65: Enter_Information_Here | I65: Enter_Information_Here | J65: Enter_Information_Here | K65: Enter_Information_Here
D66: Traditional Chinese (Taiwan) override | F66: Enter_Information_Here | G66: Enter_Information_Here | H66: Enter_Information_Here | I66: Enter_Information_Here | J66: Enter_Information_Here | K66: Enter_Information_Here
C67: Turkish | F67: Enter_Information_Here | G67: Enter_Information_Here | H67: Enter_Information_Here | I67: Enter_Information_Here | J67: Enter_Information_Here | K67: Enter_Information_Here

Sheet SRP
A1: Tier | B1: United States | C1: Algeria | D1: Argentina | E1: Australia | F1: Austria | G1: Bangladesh | H1: Belgium | I1: Brazil | J1: Bulgaria | K1: Canada | L1: Chile | M1: China | N1: Colombia | O1: Costa Rica | P1: Croatia | Q1: Cyprus | R1: Czech Republic | S1: Denmark | T1: Egypt | U1: Estonia | V1: Finland | W1: France | X1: Germany | Y1: Greece | Z1: Hong Kong | AA1: Hungary | AB1: Iceland | AC1: India | AD1: Indonesia | AE1: Ireland | AF1: Israel | AG1: Italy | AH1: Japan | AI1: Kazakhstan | AJ1: South Korea | AK1: Latvia | AL1: Liechtenstein | AM1: Lithuania | AN1: Luxembourg | AO1: Malaysia | AP1: Malta | AQ1: Mauritania | AR1: Mexico | AS1: Netherlands | AT1: New Zealand | AU1: Norway | AV1: Pakistan | AW1: Peru | AX1: Philippines | AY1: Poland | AZ1: Portugal | BA1: Qatar | BB1: Romania | BC1: Russia | BD1: Saudi Arabia | BE1: Singapore | BF1: Slovakia | BG1: Slovenia | BH1: South Africa | BI1: Spain | BJ1: Sweden | BK1: Switzerland | BL1: Taiwan | BM1: Thailand | BN1: Trinidad and Tobago | BO1: Turkey | BP1: Ukraine | BQ1: United Arab Emirates | BR1: United Kingdom | BS1: Vietnam | BT1: Yemen | BU1: LOOKUP | BV1: F73
A2: 0 | B2: 0 | C2: 0 | D2: 0 | E2: 0 | F2: 0 | G2: 0 | H2: 0 | I2: 0 | J2: 0 | K2: 0 | L2: 0 | M2: - | N2: 0 | O2: 0 | P2: 0 | Q2: 0 | R2: 0 | S2: 0 | T2: 0 | U2: 0 | V2: 0 | W2: 0 | X2: 0 | Y2: 0 | Z2: 0 | AA2: 0 | AB2: 0 | AC2: 0 | AD2: 0 | AE2: 0 | AF2: 0 | AG2: 0 | AH2: 0 | AI2: 0 | AJ2: 0 | AK2: 0 | AL2: 0 | AM2: 0 | AN2: 0 | AO2: 0 | AP2: 0 | AQ2: 0 | AR2: 0 | AS2: 0 | AT2: 0 | AU2: 0 | AV2: 0 | AW2: 0 | AX2: 0 | AY2: 0 | AZ2: 0 | BA2: 0 | BB2: 0 | BC2: 0 | BD2: 0 | BE2: 0 | BF2: 0 | BG2: 0 | BH2: 0 | BI2: 0 | BJ2: 0 | BK2: 0 | BL2: 0 | BM2: 0 | BN2: 0 | BO2: 0 | BP2: 0 | BQ2: 0 | BR2: 0 | BS2: 0 | BT2: 0 | BU2: =SRP[[#This Row],[Tier]]&" - "&DOLLAR(SRP[[#This Row],[United States]],2)&" USD" -> 0 - $0.00 USD
A3: 1 | B3: 0.49 | C3: 38 | D3: 5 | E3: 0.65 | F3: 0.49 | G3: 41 | H3: 0.49 | I3: 1 | J3: 0.8 | K3: 0.49 | L3: 360 | M3: TBD | N3: 1500 | O3: 250 | P3: 3 | Q3: 0.49 | R3: 10 | S3: 4 | T3: 3 | U3: 0.49 | V3: 0.49 | W3: 0.49 | X3: 0.49 | Y3: 0.49 | Z3: 3.8 | AA3: 98 | AB3: 65 | AC3: 38 | AD3: 4800 | AE3: 0.49 | AF3: 2.25 | AG3: 0.49 | AH3: #REF! | AI3: 74 | AJ3: 500 | AK3: 0.49 | AL3: 0.5 | AM3: 1.3 | AN3: 0.49 | AO3: 2 | AP3: 0.49 | AQ3: 147 | AR3: 7 | AS3: 0.49 | AT3: 0.7 | AU3: 2.95 | AV3: 46 | AW3: 1.4 | AX3: 23 | AY3: 1.8 | AZ3: 0.49 | BA3: 1.8 | BB3: 1.8 | BC3: 25 | BD3: 1.8 | BE3: 0.65 | BF3: 0.49 | BG3: 0.49 | BH3: 6.4 | BI3: 0.49 | BJ3: 5 | BK3: 0.45 | BL3: 15 | BM3: 15.8 | BN3: 3.2 | BO3: 1.2 | BP3: 4 | BQ3: 0.49 | BR3: 0.39 | BS3: 10415 | BT3: 107 | BU3: =SRP[[#This Row],[Tier]]&" - "&DOLLAR(SRP[[#This Row],[United States]],2)&" USD" -> 1 - $0.49 USD
A4: 2 | B4: 0.99 | C4: 76 | D4: 10 | E4: 1.35 | F4: 0.99 | G4: 82 | H4: 0.99 | I4: 2 | J4: 1.6 | K4: 0.99 | L4: 720 | M4: TBD | N4: 3000 | O4: 500 | P4: 6 | Q4: 0.99 | R4: 20 | S4: 8 | T4: 6 | U4: 0.99 | V4: 0.99 | W4: 0.99 | X4: 0.99 | Y4: 0.99 | Z4: 7.6 | AA4: 196 | AB4: 130 | AC4: 76 | AD4: 9600 | AE4: 0.99 | AF4: 4.5 | AG4: 0.99 | AH4: #REF! | AI4: 148 | AJ4: 1000 | AK4: 0.99 | AL4: 1 | AM4: 2.6 | AN4: 0.99 | AO4: 3 | AP4: 0.99 | AQ4: 294 | AR4: 14 | AS4: 0.99 | AT4: 1.4 | AU4: 5.9 | AV4: 92 | AW4: 2.8 | AX4: 46 | AY4: 3.6 | AZ4: 0.99 | BA4: 3.6 | BB4: 3.6 | BC4: 50 | BD4: 3.6 | BE4: 1.3 | BF4: 0.99 | BG4: 0.99 | BH4: 12.8 | BI4: 0.99 | BJ4: 10 | BK4: 0.9 | BL4: 30 | BM4: 31.6 | BN4: 6.4 | BO4: 2.4 | BP4: 8 | BQ4: 0.99 | BR4: 0.79 | BS4: 20829 | BT4: 214 | BU4: =SRP[[#This Row],[Tier]]&" - "&DOLLAR(SRP[[#This Row],[United States]],2)&" USD" -> 2 - $0.99 USD
A5: 3 | B5: 1.49 | C5: 114 | D5: 15 | E5: 1.95 | F5: 1.49 | G5: 123 | H5: 1.49 | I5: 3 | J5: 2.4 | K5: 1.49 | L5: 1080 | M5: TBD | N5: 4500 | O5: 750 | P5: 9 | Q5: 1.49 | R5: 30 | S5: 12 | T5: 9 | U5: 1.49 | V5: 1.49 | W5: 1.49 | X5: 1.49 | Y5: 1.49 | Z5: 11.4 | AA5: 294 | AB5: 195 | AC5: 114 | AD5: 14400 | AE5: 1.49 | AF5: 6.75 | AG5: 1.49 | AH5: #REF! | AI5: 222 | AJ5: 1500 | AK5: 1.49 | AL5: 1.5 | AM5: 3.9 | AN5: 1.49 | AO5: 5 | AP5: 1.49 | AQ5: 441 | AR5: 21 | AS5: 1.49 | AT5: 2.09 | AU5: 8.85 | AV5: 138 | AW5: 4.2 | AX5: 69 | AY5: 5.39 | AZ5: 1.49 | BA5: 5.4 | BB5: 5.4 | BC5: 75 | BD5: 5.4 | BE5: 1.95 | BF5: 1.49 | BG5: 1.49 | BH5: 19.2 | BI5: 1.49 | BJ5: 15 | BK5: 1.35 | BL5: 45 | BM5: 47.4 | BN5: 9.6 | BO5: 3.6 | BP5: 12 | BQ5: 1.49 | BR5: 1.19 | BS5: 31244 | BT5: 321 | BU5: =SRP[[#This Row],[Tier]]&" - "&DOLLAR(SRP[[#This Row],[United States]],2)&" USD" -> 3 - $1.49 USD
A6: 4 | B6: 1.99 | C6: 152 | D6: 20 | E6: 2.65 | F6: 1.99 | G6: 164 | H6: 1.99 | I6: 4 | J6: 3.2 | K6: 1.99 | L6: 1440 | M6: TBD | N6: 6000 | O6: 1000 | P6: 12 | Q6: 1.99 | R6: 40 | S6: 16 | T6: 12 | U6: 1.99 | V6: 1.99 | W6: 1.99 | X6: 1.99 | Y6: 1.99 | Z6: 15.2 | AA6: 392 | AB6: 260 | AC6: 152 | AD6: 19200 | AE6: 1.99 | AF6: 9 | AG6: 1.99 | AH6: #REF! | AI6: 296 | AJ6: 2000 | AK6: 1.99 | AL6: 2 | AM6: 5.2 | AN6: 1.99 | AO6: 6 | AP6: 1.99 | AQ6: 588 | AR6: 28 | AS6: 1.99 | AT6: 2.79 | AU6: 11.8 | AV6: 184 | AW6: 5.6 | AX6: 92 | AY6: 7.19 | AZ6: 1.99 | BA6: 7.2 | BB6: 7.2 | BC6: 100 | BD6: 7.2 | BE6: 2.6 | BF6: 1.99 | BG6: 1.99 | BH6: 25.6 | BI6: 1.99 | BJ6: 20 | BK6: 1.8 | BL6: 60 | BM6: 63.2 | BN6: 12.8 | BO6: 4.8 | BP6: 16 | BQ6: 1.99 | BR6: 1.59 | BS6: 41658 | BT6: 428 | BU6: =SRP[[#This Row],[Tier]]&" - "&DOLLAR(SRP[[#This Row],[United States]],2)&" USD" -> 4 - $1.99 USD
A7: 5 | B7: 2.49 | C7: 190 | D7: 25 | E7: 3.35 | F7: 2.49 | G7: 205 | H7: 2.49 | I7: 5 | J7: 4 | K7: 2.49 | L7: 1800 | M7: TBD | N7: 7500 | O7: 1250 | P7: 15 | Q7: 2.49 | R7: 50 | S7: 20 | T7: 15 | U7: 2.49 | V7: 2.49 | W7: 2.49 | X7: 2.49 | Y7: 2.49 | Z7: 19 | AA7: 490 | AB7: 325 | AC7: 190 | AD7: 24000 | AE7: 2.49 | AF7: 11.25 | AG7: 2.49 | AH7: #REF! | AI7: 370 | AJ7: 2500 | AK7: 2.49 | AL7: 2.5 | AM7: 6.5 | AN7: 2.49 | AO7: 8 | AP7: 2.49 | AQ7: 735 | AR7: 35 | AS7: 2.49 | AT7: 3.49 | AU7: 14.75 | AV7: 230 | AW7: 7 | AX7: 115 | AY7: 8.99 | AZ7: 2.49 | BA7: 9 | BB7: 9 | BC7: 125 | BD7: 9 | BE7: 3.25 | BF7: 2.49 | BG7: 2.49 | BH7: 32 | BI7: 2.49 | BJ7: 25 | BK7: 2.25 | BL7: 75 | BM7: 79 | BN7: 16 | BO7: 6 | BP7: 20 | BQ7: 2.49 | BR7: 1.99 | BS7: 52073 | BT7: 535 | BU7: =SRP[[#This Row],[Tier]]&" - "&DOLLAR(SRP[[#This Row],[United States]],2)&" USD" -> 5 - $2.49 USD
A8: 6 | B8: 2.99 | C8: 230 | D8: 29 | E8: 3.95 | F8: 2.99 | G8: 275 | H8: 2.99 | I8: 6 | J8: 5 | K8: 2.99 | L8: 3300 | M8: TBD | N8: 9900 | O8: 1500 | P8: 18 | Q8: 2.99 | R8: 60 | S8: 24 | T8: 18 | U8: 2.99 | V8: 2.99 | W8: 2.99 | X8: 2.99 | Y8: 2.99 | Z8: 25 | AA8: 590 | AB8: 389 | AC8: 250 | AD8: 30000 | AE8: 2.99 | AF8: 15 | AG8: 2.99 | AH8: #REF! | AI8: 490 | AJ8: 3000 | AK8: 2.99 | AL8: 3 | AM8: 8 | AN8: 2.99 | AO8: 10 | AP8: 2.99 | AQ8: 889 | AR8: 40 | AS8: 2.99 | AT8: 4.25 | AU8: 19.8 | AV8: 280 | AW8: 9 | AX8: 145 | AY8: 11.99 | AZ8: 2.99 | BA8: 12 | BB8: 12 | BC8: 165 | BD8: 13 | BE8: 3.95 | BF8: 2.99 | BG8: 2.99 | BH8: 43 | BI8: 2.99 | BJ8: 32 | BK8: 3 | BL8: 95 | BM8: 105 | BN8: 20 | BO8: 8 | BP8: 25 | BQ8: 2.99 | BR8: 2.39 | BS8: 69430 | BT8: 715 | BU8: =SRP[[#This Row],[Tier]]&" - "&DOLLAR(SRP[[#This Row],[United States]],2)&" USD" -> 6 - $2.99 USD
A9: 7 | B9: 3.49 | C9: 267.5 | D9: 34 | E9: 4.65 | F9: 3.49 | G9: 308.75 | H9: 3.49 | I9: 7 | J9: 5.75 | K9: 3.49 | L9: 3400 | M9: TBD | N9: 11150 | O9: 1750 | P9: 21 | Q9: 3.49 | R9: 69.75 | S9: 28 | T9: 21 | U9: 3.49 | V9: 3.49 | W9: 3.49 | X9: 3.49 | Y9: 3.49 | Z9: 28.5 | AA9: 690 | AB9: 454 | AC9: 282.5 | AD9: 34500 | AE9: 3.49 | AF9: 16.88 | AG9: 3.49 | AH9: #REF! | AI9: 552.25 | AJ9: 3500 | AK9: 3.49 | AL9: 3.5 | AM9: 9.25 | AN9: 3.49 | AO9: 11 | AP9: 3.49 | AQ9: 1029 | AR9: 46.25 | AS9: 3.49 | AT9: 5.05 | AU9: 22.23 | AV9: 326.25 | AW9: 10.25 | AX9: 162.5 | AY9: 13.49 | AZ9: 3.49 | BA9: 13.5 | BB9: 13.5 | BC9: 186 | BD9: 14.5 | BE9: 4.45 | BF9: 3.49 | BG9: 3.49 | BH9: 48.5 | BI9: 3.49 | BJ9: 36.25 | BK9: 3.38 | BL9: 108 | BM9: 118.5 | BN9: 23 | BO9: 9 | BP9: 28.75 | BQ9: 3.49 | BR9: 2.79 | BS9: 78109 | BT9: 805 | BU9: =SRP[[#This Row],[Tier]]&" - "&DOLLAR(SRP[[#This Row],[United States]],2)&" USD" -> 7 - $3.49 USD
A10: 8 | B10: 3.99 | C10: 305 | D10: 39 | E10: 5.35 | F10: 3.99 | G10: 342.5 | H10: 3.99 | I10: 8 | J10: 6.5 | K10: 3.99 | L10: 3500 | M10: TBD | N10: 12400 | O10: 2000 | P10: 24 | Q10: 3.99 | R10: 79.5 | S10: 32 | T10: 24 | U10: 3.99 | V10: 3.99 | W10: 3.99 | X10: 3.99 | Y10: 3.99 | Z10: 32 | AA10: 790 | AB10: 519 | AC10: 315 | AD10: 39000 | AE10: 3.99 | AF10: 18.75 | AG10: 3.99 | AH10: #REF! | AI10: 614.5 | AJ10: 4000 | AK10: 3.99 | AL10: 4 | AM10: 10.5 | AN10: 3.99 | AO10: 13 | AP10: 3.99 | AQ10: 1169 | AR10: 52.5 | AS10: 3.99 | AT10: 5.85 | AU10: 24.65 | AV10: 372.5 | AW10: 11.5 | AX10: 180 | AY10: 14.99 | AZ10: 3.99 | BA10: 15 | BB10: 15 | BC10: 207 | BD10: 16 | BE10: 5.25 | BF10: 3.99 | BG10: 3.99 | BH10: 54 | BI10: 3.99 | BJ10: 40.5 | BK10: 3.75 | BL10: 120 | BM10: 132 | BN10: 26 | BO10: 10 | BP10: 32.5 | BQ10: 3.99 | BR10: 3.19 | BS10: 86788 | BT10: 895 | BU10: =SRP[[#This Row],[Tier]]&" - "&DOLLAR(SRP[[#This Row],[United States]],2)&" USD" -> 8 - $3.99 USD
A11: 9 | B11: 4.49 | C11: 342.5 | D11: 44 | E11: 5.95 | F11: 4.49 | G11: 376.25 | H11: 4.49 | I11: 9 | J11: 7.25 | K11: 4.49 | L11: 3600 | M11: TBD | N11: 13650 | O11: 2250 | P11: 27 | Q11: 4.49 | R11: 89.25 | S11: 36 | T11: 27 | U11: 4.49 | V11: 4.49 | W11: 4.49 | X11: 4.49 | Y11: 4.49 | Z11: 35.5 | AA11: 890 | AB11: 584 | AC11: 347.5 | AD11: 43500 | AE11: 4.49 | AF11: 20.63 | AG11: 4.49 | AH11: #REF! | AI11: 676.75 | AJ11: 4500 | AK11: 4.49 | AL11: 4.5 | AM11: 11.75 | AN11: 4.49 | AO11: 14 | AP11: 4.49 | AQ11: 1309 | AR11: 58.75 | AS11: 4.49 | AT11: 6.65 | AU11: 27.08 | AV11: 418.75 | AW11: 12.75 | AX11: 197.5 | AY11: 16.49 | AZ11: 4.49 | BA11: 16.5 | BB11: 16.5 | BC11: 228 | BD11: 17.5 | BE11: 5.85 | BF11: 4.49 | BG11: 4.49 | BH11: 59.5 | BI11: 4.49 | BJ11: 44.75 | BK11: 4.13 | BL11: 133 | BM11: 145.5 | BN11: 29 | BO11: 11 | BP11: 36.25 | BQ11: 4.49 | BR11: 3.59 | BS11: 95466 | BT11: 985 | BU11: =SRP[[#This Row],[Tier]]&" - "&DOLLAR(SRP[[#This Row],[United States]],2)&" USD" -> 9 - $4.49 USD
A12: 10 | B12: 4.99 | C12: 380 | D12: 49 | E12: 6.65 | F12: 4.99 | G12: 410 | H12: 4.99 | I12: 10 | J12: 8 | K12: 4.99 | L12: 3700 | M12: TBD | N12: 14900 | O12: 2500 | P12: 30 | Q12: 4.99 | R12: 99 | S12: 40 | T12: 30 | U12: 4.99 | V12: 4.99 | W12: 4.99 | X12: 4.99 | Y12: 4.99 | Z12: 39 | AA12: 990 | AB12: 649 | AC12: 380 | AD12: 48000 | AE12: 4.99 | AF12: 22.5 | AG12: 4.99 | AH12: #REF! | AI12: 739 | AJ12: 5000 | AK12: 4.99 | AL12: 5 | AM12: 13 | AN12: 4.99 | AO12: 15 | AP12: 4.99 | AQ12: 1449 | AR12: 65 | AS12: 4.99 | AT12: 7.45 | AU12: 29.5 | AV12: 465 | AW12: 14 | AX12: 215 | AY12: 17.99 | AZ12: 4.99 | BA12: 18 | BB12: 18 | BC12: 249 | BD12: 19 | BE12: 6.45 | BF12: 4.99 | BG12: 4.99 | BH12: 65 | BI12: 4.99 | BJ12: 49 | BK12: 4.5 | BL12: 145 | BM12: 159 | BN12: 32 | BO12: 12 | BP12: 40 | BQ12: 4.99 | BR12: 3.99 | BS12: 104145 | BT12: 1075 | BU12: =SRP[[#This Row],[Tier]]&" - "&DOLLAR(SRP[[#This Row],[United States]],2)&" USD" -> 10 - $4.99 USD
A13: 11 | B13: 5.49 | C13: 418 | D13: 54.2 | E13: 7.35 | F13: 5.49 | G13: 451 | H13: 5.49 | I13: 11 | J13: 8.6 | K13: 5.49 | L13: 3958 | M13: TBD | N13: 16410 | O13: 2750 | P13: 33 | Q13: 5.49 | R13: 109 | S13: 43 | T13: 33 | U13: 5.49 | V13: 5.49 | W13: 5.49 | X13: 5.49 | Y13: 5.49 | Z13: 41 | AA13: 1090 | AB13: 714 | AC13: 398 | AD13: 52400 | AE13: 5.49 | AF13: 24.5 | AG13: 5.49 | AH13: #REF! | AI13: 811 | AJ13: 5280 | AK13: 5.49 | AL13: 5.5 | AM13: 14.4 | AN13: 5.49 | AO13: 17 | AP13: 5.49 | AQ13: 1602.2 | AR13: 71.8 | AS13: 5.49 | AT13: 7.95 | AU13: 33.5 | AV13: 511.8 | AW13: 15.2 | AX13: 237 | AY13: 20.39 | AZ13: 5.49 | BA13: 20 | BB13: 19.6 | BC13: 259 | BD13: 23 | BE13: 7.15 | BF13: 5.49 | BG13: 5.49 | BH13: 67 | BI13: 5.49 | BJ13: 54.2 | BK13: 5.1 | BL13: 160 | BM13: 175 | BN13: 35.2 | BO13: 13.4 | BP13: 44 | BQ13: 5.49 | BR13: 4.39 | BS13: 114570 | BT13: 1182.4 | BU13: =SRP[[#This Row],[Tier]]&" - "&DOLLAR(SRP[[#This Row],[United States]],2)&" USD" -> 11 - $5.49 USD
A14: 12 | B14: 5.99 | C14: 456 | D14: 59.4 | E14: 7.95 | F14: 5.99 | G14: 492 | H14: 5.99 | I14: 12 | J14: 9.2 | K14: 5.99 | L14: 4216 | M14: TBD | N14: 17920 | O14: 3000 | P14: 36 | Q14: 5.99 | R14: 119 | S14: 46 | T14: 36 | U14: 5.99 | V14: 5.99 | W14: 5.99 | X14: 5.99 | Y14: 5.99 | Z14: 43 | AA14: 1190 | AB14: 779 | AC14: 416 | AD14: 56800 | AE14: 5.99 | AF14: 26.5 | AG14: 5.99 | AH14: #REF! | AI14: 883 | AJ14: 5560 | AK14: 5.99 | AL14: 6 | AM14: 15.8 | AN14: 5.99 | AO14: 19 | AP14: 5.99 | AQ14: 1755.4 | AR14: 78.6 | AS14: 5.99 | AT14: 8.45 | AU14: 37.5 | AV14: 558.6 | AW14: 16.4 | AX14: 259 | AY14: 22.79 | AZ14: 5.99 | BA14: 22 | BB14: 21.2 | BC14: 269 | BD14: 27 | BE14: 7.85 | BF14: 5.99 | BG14: 5.99 | BH14: 69 | BI14: 5.99 | BJ14: 59.4 | BK14: 5.7 | BL14: 175 | BM14: 191 | BN14: 38.4 | BO14: 14.8 | BP14: 48 | BQ14: 5.99 | BR14: 4.79 | BS14: 124995 | BT14: 1289.8 | BU14: =SRP[[#This Row],[Tier]]&" - "&DOLLAR(SRP[[#This Row],[United States]],2)&" USD" -> 12 - $5.99 USD
... A402: 400 | B402: 199.99 | C402: 15200 | D402: 1249 | E402: 289.95 | F402: 199.99 | G402: 17600 | H402: 199.99 | I402: 399 | J402: 300 | K402: 199.99 | L402: 109900 | M402: TBD | N402: 299900 | O402: 100000 | P402: 1200 | Q402: 199.99 | R402: 3999 | S402: 1145 | T402: 1275 | U402: 199.99 | V402: 199.99 | W402: 199.99 | X402: 199.99 | Y402: 199.99 | Z402: 2249 | AA402: 39990 | AB402: 25999 | AC402: 5500 | AD402: 1970000 | AE402: 199.99 | AF402: 970 | AG402: 199.99 | AH402: #REF! | AI402: 29899 | AJ402: 197900 | AK402: 199.99 | AL402: 239 | AM402: 537 | AN402: 199.99 | AO402: 610 | AP402: 199.99 | AQ402: 59749 | AR402: 2749 | AS402: 199.99 | AT402: 219.95 | AU402: 1299 | AV402: 18899 | AW402: 540 | AX402: 8199 | AY402: 499.99 | AZ402: 199.99 | BA402: 722 | BB402: 718 | BC402: 8099 | BD402: 389 | BE402: 209.9 | BF402: 199.99 | BG402: 199.99 | BH402: 1299 | BI402: 199.99 | BJ402: 2099 | BK402: 239 | BL402: 8390 | BM402: 6099 | BN402: 1280 | BO402: 635 | BP402: 1675 | BQ402: 199.99 | BR402: 114.99 | BS402: 4166550 | BT402: 43035 | BU402: =SRP[[#This Row],[Tier]]&" - "&DOLLAR(SRP[[#This Row],[United States]],2)&" USD" -> 400 - $199.99 USD

Sheet WSP
A1: Tier | B1: United States | C1: Algeria | D1: Argentina | E1: Australia | F1: Austria | G1: Bangladesh | H1: Belgium | I1: Brazil | J1: Bulgaria | K1: Canada | L1: Chile | M1: China | N1: Colombia | O1: Costa Rica | P1: Croatia | Q1: Cyprus | R1: Czech Republic | S1: Denmark | T1: Egypt | U1: Estonia | V1: Finland | W1: France | X1: Germany | Y1: Greece | Z1: Hong Kong | AA1: Hungary | AB1: Iceland | AC1: India | AD1: Indonesia | AE1: Ireland | AF1: Israel | AG1: Italy | AH1: Japan | AI1: Kazakhstan | AJ1: South Korea | AK1: Latvia | AL1: Liechtenstein | AM1: Lithuania | AN1: Luxembourg | AO1: Malaysia | AP1: Malta | AQ1: Mauritania | AR1: Mexico | AS1: Netherlands | AT1: New Zealand | AU1: Norway | AV1: Pakistan | AW1: Peru | AX1: Philippines | AY1: Poland | AZ1: Portugal | BA1: Qatar | BB1: Romania | BC1: Russia | BD1: Saudi Arabia | BE1: Singapore | BF1: Slovakia | BG1: Slovenia | BH1: South Africa | BI1: Spain | BJ1: Sweden | BK1: Switzerland | BL1: Taiwan | BM1: Thailand | BN1: Trinidad and Tobago | BO1: Turkey | BP1: Ukraine | BQ1: United Arab Emirates | BR1: United Kingdom | BS1: Vietnam | BT1: Yemen | BU1: LOOKUP
A2: 0 | B2: 0 | C2: 0 | D2: 0 | E2: 0 | F2: 0 | G2: 0 | H2: 0 | I2: 0 | J2: 0 | K2: 0 | L2: 0 | M2: - | N2: 0 | O2: 0 | P2: 0 | Q2: 0 | R2: 0 | S2: 0 | T2: 0 | U2: 0 | V2: 0 | W2: 0 | X2: 0 | Y2: 0 | Z2: 0 | AA2: 0 | AB2: 0 | AC2: 0 | AD2: 0 | AE2: 0 | AF2: 0 | AG2: 0 | AH2: 0 | AI2: 0 | AJ2: 0 | AK2: 0 | AL2: 0 | AM2: 0 | AN2: 0 | AO2: 0 | AP2: 0 | AQ2: 0 | AR2: 0 | AS2: 0 | AT2: 0 | AU2: 0 | AV2: 0 | AW2: 0 | AX2: 0 | AY2: 0 | AZ2: 0 | BA2: 0 | BB2: 0 | BC2: 0 | BD2: 0 | BE2: 0 | BF2: 0 | BG2: 0 | BH2: 0 | BI2: 0 | BJ2: 0 | BK2: 0 | BL2: 0 | BM2: 0 | BN2: 0 | BO2: 0 | BP2: 0 | BQ2: 0 | BR2: 0 | BS2: 0 | BT2: 0 | BU2: =WSP[[#This Row],[Tier]]&" - "&DOLLAR(WSP[[#This Row],[United States]],2)&" USD" -> 0 - $0.00 USD
A3: 1 | B3: 0.34 | C3: 26.6 | D3: 3.5 | E3: 0.41 | F3: 0.3 | G3: 28.7 | H3: 0.3 | I3: 0.7 | J3: 0.49 | K3: 0.34 | L3: 252 | M3: TBD | N3: 1050 | O3: 175 | P3: 2.1 | Q3: 0.3 | R3: 6.09 | S3: 2.43 | T3: 2.1 | U3: 0.3 | V3: 0.3 | W3: 0.3 | X3: 0.3 | Y3: 0.3 | Z3: 2.66 | AA3: 59.65 | AB3: 46 | AC3: 26.6 | AD3: 3360 | AE3: 0.3 | AF3: 1.58 | AG3: 0.3 | AH3: 33 | AI3: 51.8 | AJ3: 318 | AK3: 0.3 | AL3: 0.32 | AM3: 0.79 | AN3: 0.3 | AO3: 1 | AP3: 0.3 | AQ3: 102.9 | AR3: 4.9 | AS3: 0.3 | AT3: 0.49 | AU3: 1.65 | AV3: 32.2 | AW3: 0.98 | AX3: 16.1 | AY3: 1.09 | AZ3: 0.3 | BA3: 1.26 | BB3: 1.1 | BC3: 15.22 | BD3: 1.26 | BE3: 0.43 | BF3: 0.3 | BG3: 0.3 | BH3: 4.48 | BI3: 0.3 | BJ3: 3.04 | BK3: 0.29 | BL3: 10 | BM3: 11.06 | BN3: 2.24 | BO3: 0.84 | BP3: 2.43 | BQ3: 0.34 | BR3: 0.24 | BS3: 7290 | BT3: 74.9 | BU3: =WSP[[#This Row],[Tier]]&" - "&DOLLAR(WSP[[#This Row],[United States]],2)&" USD" -> 1 - $0.34 USD
A4: 2 | B4: 0.69 | C4: 53.2 | D4: 7 | E4: 0.86 | F4: 0.6 | G4: 57.4 | H4: 0.6 | I4: 1.4 | J4: 0.97 | K4: 0.69 | L4: 504 | M4: TBD | N4: 2100 | O4: 350 | P4: 4.2 | Q4: 0.6 | R4: 12.17 | S4: 4.87 | T4: 4.2 | U4: 0.6 | V4: 0.6 | W4: 0.6 | X4: 0.6 | Y4: 0.6 | Z4: 5.32 | AA4: 119.3 | AB4: 91 | AC4: 53.2 | AD4: 6720 | AE4: 0.6 | AF4: 3.15 | AG4: 0.6 | AH4: 67 | AI4: 103.6 | AJ4: 636 | AK4: 0.6 | AL4: 0.65 | AM4: 1.58 | AN4: 0.6 | AO4: 2 | AP4: 0.6 | AQ4: 205.8 | AR4: 9.8 | AS4: 0.6 | AT4: 0.98 | AU4: 3.3 | AV4: 64.4 | AW4: 1.96 | AX4: 32.2 | AY4: 2.19 | AZ4: 0.6 | BA4: 2.52 | BB4: 2.19 | BC4: 30.43 | BD4: 2.52 | BE4: 0.85 | BF4: 0.6 | BG4: 0.6 | BH4: 8.96 | BI4: 0.6 | BJ4: 6.09 | BK4: 0.58 | BL4: 20 | BM4: 22.12 | BN4: 4.48 | BO4: 1.68 | BP4: 4.87 | BQ4: 0.69 | BR4: 0.48 | BS4: 14580 | BT4: 149.8 | BU4: =WSP[[#This Row],[Tier]]&" - "&DOLLAR(WSP[[#This Row],[United States]],2)&" USD" -> 2 - $0.69 USD
A5: 3 | B5: 1.04 | C5: 79.8 | D5: 10.5 | E5: 1.24 | F5: 0.91 | G5: 86.1 | H5: 0.91 | I5: 2.1 | J5: 1.46 | K5: 1.04 | L5: 756 | M5: TBD | N5: 3150 | O5: 525 | P5: 6.3 | Q5: 0.91 | R5: 18.26 | S5: 7.3 | T5: 6.3 | U5: 0.91 | V5: 0.91 | W5: 0.91 | X5: 0.91 | Y5: 0.91 | Z5: 7.98 | AA5: 178.96 | AB5: 137 | AC5: 79.8 | AD5: 10080 | AE5: 0.91 | AF5: 4.73 | AG5: 0.91 | AH5: 100 | AI5: 155.4 | AJ5: 955 | AK5: 0.91 | AL5: 0.97 | AM5: 2.37 | AN5: 0.91 | AO5: 3 | AP5: 0.91 | AQ5: 308.7 | AR5: 14.7 | AS5: 0.91 | AT5: 1.47 | AU5: 4.96 | AV5: 96.6 | AW5: 2.94 | AX5: 48.3 | AY5: 3.28 | AZ5: 0.91 | BA5: 3.78 | BB5: 3.29 | BC5: 45.65 | BD5: 3.78 | BE5: 1.28 | BF5: 0.91 | BG5: 0.91 | BH5: 13.44 | BI5: 0.91 | BJ5: 9.13 | BK5: 0.88 | BL5: 30 | BM5: 33.18 | BN5: 6.72 | BO5: 2.52 | BP5: 7.3 | BQ5: 1.04 | BR5: 0.72 | BS5: 21871 | BT5: 224.7 | BU5: =WSP[[#This Row],[Tier]]&" - "&DOLLAR(WSP[[#This Row],[United States]],2)&" USD" -> 3 - $1.04 USD
A6: 4 | B6: 1.39 | C6: 106.4 | D6: 14 | E6: 1.69 | F6: 1.21 | G6: 114.8 | H6: 1.21 | I6: 2.8 | J6: 1.95 | K6: 1.39 | L6: 1008 | M6: TBD | N6: 4200 | O6: 700 | P6: 8.4 | Q6: 1.21 | R6: 24.35 | S6: 9.74 | T6: 8.4 | U6: 1.21 | V6: 1.21 | W6: 1.21 | X6: 1.21 | Y6: 1.21 | Z6: 10.64 | AA6: 238.61 | AB6: 182 | AC6: 106.4 | AD6: 13440 | AE6: 1.21 | AF6: 6.3 | AG6: 1.21 | AH6: 133 | AI6: 207.2 | AJ6: 1273 | AK6: 1.21 | AL6: 1.3 | AM6: 3.17 | AN6: 1.21 | AO6: 4 | AP6: 1.21 | AQ6: 411.6 | AR6: 19.6 | AS6: 1.21 | AT6: 1.95 | AU6: 6.61 | AV6: 128.8 | AW6: 3.92 | AX6: 64.4 | AY6: 4.38 | AZ6: 1.21 | BA6: 5.04 | BB6: 4.38 | BC6: 60.87 | BD6: 5.04 | BE6: 1.7 | BF6: 1.21 | BG6: 1.21 | BH6: 17.92 | BI6: 1.21 | BJ6: 12.17 | BK6: 1.17 | BL6: 40 | BM6: 44.24 | BN6: 8.96 | BO6: 3.36 | BP6: 9.74 | BQ6: 1.39 | BR6: 0.97 | BS6: 29161 | BT6: 299.6 | BU6: =WSP[[#This Row],[Tier]]&" - "&DOLLAR(WSP[[#This Row],[United States]],2)&" USD" -> 4 - $1.39 USD
A7: 5 | B7: 1.74 | C7: 133 | D7: 17.5 | E7: 2.13 | F7: 1.52 | G7: 143.5 | H7: 1.52 | I7: 3.5 | J7: 2.43 | K7: 1.74 | L7: 1260 | M7: TBD | N7: 5250 | O7: 875 | P7: 10.5 | Q7: 1.52 | R7: 30.43 | S7: 12.17 | T7: 10.5 | U7: 1.52 | V7: 1.52 | W7: 1.52 | X7: 1.52 | Y7: 1.52 | Z7: 13.3 | AA7: 298.26 | AB7: 228 | AC7: 133 | AD7: 16800 | AE7: 1.52 | AF7: 7.88 | AG7: 1.52 | AH7: 167 | AI7: 259 | AJ7: 1591 | AK7: 1.52 | AL7: 1.62 | AM7: 3.96 | AN7: 1.52 | AO7: 6 | AP7: 1.52 | AQ7: 514.5 | AR7: 24.5 | AS7: 1.52 | AT7: 2.44 | AU7: 8.26 | AV7: 161 | AW7: 4.9 | AX7: 80.5 | AY7: 5.47 | AZ7: 1.52 | BA7: 6.3 | BB7: 5.48 | BC7: 76.09 | BD7: 6.3 | BE7: 2.13 | BF7: 1.52 | BG7: 1.52 | BH7: 22.4 | BI7: 1.52 | BJ7: 15.22 | BK7: 1.46 | BL7: 50 | BM7: 55.3 | BN7: 11.2 | BO7: 4.2 | BP7: 12.17 | BQ7: 1.74 | BR7: 1.21 | BS7: 36451 | BT7: 374.5 | BU7: =WSP[[#This Row],[Tier]]&" - "&DOLLAR(WSP[[#This Row],[United States]],2)&" USD" -> 5 - $1.74 USD
A8: 6 | B8: 2.09 | C8: 161 | D8: 20.3 | E8: 2.51 | F8: 1.82 | G8: 192.5 | H8: 1.82 | I8: 4.2 | J8: 3.04 | K8: 2.09 | L8: 2310 | M8: TBD | N8: 6930 | O8: 1050 | P8: 12.6 | Q8: 1.82 | R8: 36.52 | S8: 14.61 | T8: 12.6 | U8: 1.82 | V8: 1.82 | W8: 1.82 | X8: 1.82 | Y8: 1.82 | Z8: 17.5 | AA8: 359.13 | AB8: 272 | AC8: 175 | AD8: 21000 | AE8: 1.82 | AF8: 10.5 | AG8: 1.82 | AH8: 200 | AI8: 343 | AJ8: 1909 | AK8: 1.82 | AL8: 1.94 | AM8: 4.87 | AN8: 1.82 | AO8: 7 | AP8: 1.82 | AQ8: 622.3 | AR8: 28 | AS8: 1.82 | AT8: 2.98 | AU8: 11.09 | AV8: 196 | AW8: 6.3 | AX8: 101.5 | AY8: 7.3 | AZ8: 1.82 | BA8: 8.4 | BB8: 7.3 | BC8: 100.43 | BD8: 9.1 | BE8: 2.58 | BF8: 1.82 | BG8: 1.82 | BH8: 30.1 | BI8: 1.82 | BJ8: 19.48 | BK8: 1.94 | BL8: 63 | BM8: 73.5 | BN8: 14 | BO8: 5.6 | BP8: 15.22 | BQ8: 2.09 | BR8: 1.45 | BS8: 48601 | BT8: 500.5 | BU8: =WSP[[#This Row],[Tier]]&" - "&DOLLAR(WSP[[#This Row],[United States]],2)&" USD" -> 6 - $2.09 USD
A9: 7 | B9: 2.44 | C9: 187.25 | D9: 23.8 | E9: 2.96 | F9: 2.12 | G9: 216.13 | H9: 2.12 | I9: 4.9 | J9: 3.5 | K9: 2.44 | L9: 2380 | M9: TBD | N9: 7805 | O9: 1225 | P9: 14.7 | Q9: 2.12 | R9: 42.46 | S9: 17.04 | T9: 14.7 | U9: 2.12 | V9: 2.12 | W9: 2.12 | X9: 2.12 | Y9: 2.12 | Z9: 19.95 | AA9: 420 | AB9: 318 | AC9: 197.75 | AD9: 24150 | AE9: 2.12 | AF9: 11.81 | AG9: 2.12 | AH9: 233 | AI9: 386.58 | AJ9: 2227 | AK9: 2.12 | AL9: 2.27 | AM9: 5.63 | AN9: 2.12 | AO9: 8 | AP9: 2.12 | AQ9: 720.3 | AR9: 32.38 | AS9: 2.12 | AT9: 3.54 | AU9: 12.45 | AV9: 228.38 | AW9: 7.18 | AX9: 113.75 | AY9: 8.21 | AZ9: 2.12 | BA9: 9.45 | BB9: 8.22 | BC9: 113.22 | BD9: 10.15 | BE9: 2.91 | BF9: 2.12 | BG9: 2.12 | BH9: 33.95 | BI9: 2.12 | BJ9: 22.07 | BK9: 2.19 | BL9: 72 | BM9: 82.95 | BN9: 16.1 | BO9: 6.3 | BP9: 17.5 | BQ9: 2.44 | BR9: 1.7 | BS9: 54676 | BT9: 563.5 | BU9: =WSP[[#This Row],[Tier]]&" - "&DOLLAR(WSP[[#This Row],[United States]],2)&" USD" -> 7 - $2.44 USD
A10: 8 | B10: 2.79 | C10: 213.5 | D10: 27.3 | E10: 3.4 | F10: 2.43 | G10: 239.75 | H10: 2.43 | I10: 5.6 | J10: 3.96 | K10: 2.79 | L10: 2450 | M10: TBD | N10: 8680 | O10: 1400 | P10: 16.8 | Q10: 2.43 | R10: 48.39 | S10: 19.48 | T10: 16.8 | U10: 2.43 | V10: 2.43 | W10: 2.43 | X10: 2.43 | Y10: 2.43 | Z10: 22.4 | AA10: 480.87 | AB10: 363 | AC10: 220.5 | AD10: 27300 | AE10: 2.43 | AF10: 13.13 | AG10: 2.43 | AH10: 267 | AI10: 430.15 | AJ10: 2545 | AK10: 2.43 | AL10: 2.59 | AM10: 6.39 | AN10: 2.43 | AO10: 9 | AP10: 2.43 | AQ10: 818.3 | AR10: 36.75 | AS10: 2.43 | AT10: 4.1 | AU10: 13.8 | AV10: 260.75 | AW10: 8.05 | AX10: 126 | AY10: 9.12 | AZ10: 2.43 | BA10: 10.5 | BB10: 9.13 | BC10: 126 | BD10: 11.2 | BE10: 3.43 | BF10: 2.43 | BG10: 2.43 | BH10: 37.8 | BI10: 2.43 | BJ10: 24.65 | BK10: 2.43 | BL10: 80 | BM10: 92.4 | BN10: 18.2 | BO10: 7 | BP10: 19.78 | BQ10: 2.79 | BR10: 1.94 | BS10: 60751 | BT10: 626.5 | BU10: =WSP[[#This Row],[Tier]]&" - "&DOLLAR(WSP[[#This Row],[United States]],2)&" USD" -> 8 - $2.79 USD
A11: 9 | B11: 3.14 | C11: 239.75 | D11: 30.8 | E11: 3.79 | F11: 2.73 | G11: 263.38 | H11: 2.73 | I11: 6.3 | J11: 4.41 | K11: 3.14 | L11: 2520 | M11: TBD | N11: 9555 | O11: 1575 | P11: 18.9 | Q11: 2.73 | R11: 54.33 | S11: 21.91 | T11: 18.9 | U11: 2.73 | V11: 2.73 | W11: 2.73 | X11: 2.73 | Y11: 2.73 | Z11: 24.85 | AA11: 541.74 | AB11: 409 | AC11: 243.25 | AD11: 30450 | AE11: 2.73 | AF11: 14.44 | AG11: 2.73 | AH11: 300 | AI11: 473.73 | AJ11: 2864 | AK11: 2.73 | AL11: 2.92 | AM11: 7.15 | AN11: 2.73 | AO11: 10 | AP11: 2.73 | AQ11: 916.3 | AR11: 41.13 | AS11: 2.73 | AT11: 4.66 | AU11: 15.16 | AV11: 293.13 | AW11: 8.93 | AX11: 138.25 | AY11: 10.04 | AZ11: 2.73 | BA11: 11.55 | BB11: 10.04 | BC11: 138.78 | BD11: 12.25 | BE11: 3.83 | BF11: 2.73 | BG11: 2.73 | BH11: 41.65 | BI11: 2.73 | BJ11: 27.24 | BK11: 2.67 | BL11: 88 | BM11: 101.85 | BN11: 20.3 | BO11: 7.7 | BP11: 22.07 | BQ11: 3.14 | BR11: 2.19 | BS11: 66826 | BT11: 689.5 | BU11: =WSP[[#This Row],[Tier]]&" - "&DOLLAR(WSP[[#This Row],[United States]],2)&" USD" -> 9 - $3.14 USD
A12: 10 | B12: 3.49 | C12: 266 | D12: 34.3 | E12: 4.23 | F12: 3.04 | G12: 287 | H12: 3.04 | I12: 7 | J12: 4.87 | K12: 3.49 | L12: 2590 | M12: TBD | N12: 10430 | O12: 1750 | P12: 21 | Q12: 3.04 | R12: 60.26 | S12: 24.35 | T12: 21 | U12: 3.04 | V12: 3.04 | W12: 3.04 | X12: 3.04 | Y12: 3.04 | Z12: 27.3 | AA12: 602.61 | AB12: 454 | AC12: 266 | AD12: 33600 | AE12: 3.04 | AF12: 15.75 | AG12: 3.04 | AH12: 333 | AI12: 517.3 | AJ12: 3182 | AK12: 3.04 | AL12: 3.24 | AM12: 7.91 | AN12: 3.04 | AO12: 11 | AP12: 3.04 | AQ12: 1014.3 | AR12: 45.5 | AS12: 3.04 | AT12: 5.22 | AU12: 16.52 | AV12: 325.5 | AW12: 9.8 | AX12: 150.5 | AY12: 10.95 | AZ12: 3.04 | BA12: 12.6 | BB12: 10.96 | BC12: 151.57 | BD12: 13.3 | BE12: 4.22 | BF12: 3.04 | BG12: 3.04 | BH12: 45.5 | BI12: 3.04 | BJ12: 29.83 | BK12: 2.92 | BL12: 97 | BM12: 111.3 | BN12: 22.4 | BO12: 8.4 | BP12: 24.35 | BQ12: 3.49 | BR12: 2.43 | BS12: 72902 | BT12: 752.5 | BU12: =WSP[[#This Row],[Tier]]&" - "&DOLLAR(WSP[[#This Row],[United States]],2)&" USD" -> 10 - $3.49 USD
A13: 11 | B13: 3.84 | C13: 292.6 | D13: 37.94 | E13: 4.68 | F13: 3.34 | G13: 315.7 | H13: 3.34 | I13: 7.7 | J13: 5.23 | K13: 3.84 | L13: 2771 | M13: TBD | N13: 11487 | O13: 1925 | P13: 23.1 | Q13: 3.34 | R13: 66.35 | S13: 26.17 | T13: 23.1 | U13: 3.34 | V13: 3.34 | W13: 3.34 | X13: 3.34 | Y13: 3.34 | Z13: 28.7 | AA13: 663.48 | AB13: 500 | AC13: 278.6 | AD13: 36680 | AE13: 3.34 | AF13: 17.15 | AG13: 3.34 | AH13: 367 | AI13: 567.7 | AJ13: 3360 | AK13: 3.34 | AL13: 3.56 | AM13: 8.77 | AN13: 3.34 | AO13: 12 | AP13: 3.34 | AQ13: 1121.5 | AR13: 50.26 | AS13: 3.34 | AT13: 5.57 | AU13: 18.76 | AV13: 358.26 | AW13: 10.64 | AX13: 165.9 | AY13: 12.41 | AZ13: 3.34 | BA13: 14 | BB13: 11.93 | BC13: 157.65 | BD13: 16.1 | BE13: 4.68 | BF13: 3.34 | BG13: 3.34 | BH13: 46.9 | BI13: 3.34 | BJ13: 32.99 | BK13: 3.31 | BL13: 107 | BM13: 122.5 | BN13: 24.64 | BO13: 9.38 | BP13: 26.78 | BQ13: 3.84 | BR13: 2.67 | BS13: 80199 | BT13: 827.68 | BU13: =WSP[[#This Row],[Tier]]&" - "&DOLLAR(WSP[[#This Row],[United States]],2)&" USD" -> 11 - $3.84 USD
... A402: 400 | B402: 139.993 | C402: 10640 | D402: 874.3 | E402: 184.51364 | F402: 121.73304 | G402: 12320 | H402: 121.73304 | I402: 279.3 | J402: 182.6087 | K402: 139.993 | L402: 76930 | M402: TBD | N402: 209930 | O402: 70000 | P402: 840 | Q402: 121.73304 | R402: 2434.1739 | S402: 696.95652 | T402: 892.5 | U402: 121.73304 | V402: 121.73304 | W402: 121.73304 | X402: 121.73304 | Y402: 121.73304 | Z402: 1574.3 | AA402: 24341.739 | AB402: 18199.3 | AC402: 3850 | AD402: 1379000 | AE402: 121.73304 | AF402: 679 | AG402: 121.73304 | AH402: 13333.333 | AI402: 20929.3 | AJ402: 125936.36 | AK402: 121.73304 | AL402: 154.90741 | AM402: 326.86957 | AN402: 121.73304 | AO402: 427 | AP402: 121.73304 | AQ402: 41824.3 | AR402: 1924.3 | AS402: 121.73304 | AT402: 153.965 | AU402: 727.44 | AV402: 13229.3 | AW402: 378 | AX402: 5739.3 | AY402: 304.34174 | AZ402: 121.73304 | BA402: 505.4 | BB402: 437.04348 | BC402: 4929.8261 | BD402: 272.3 | BE402: 137.31776 | BF402: 121.73304 | BG402: 121.73304 | BH402: 909.3 | BI402: 121.73304 | BJ402: 1277.6522 | BK402: 154.90741 | BL402: 5593.3333 | BM402: 4269.3 | BN402: 896 | BO402: 444.5 | BP402: 1019.5652 | BQ402: 139.993 | BR402: 69.993913 | BS402: 2916585 | BT402: 30124.5 | BU402: =WSP[[#This Row],[Tier]]&" - "&DOLLAR(WSP[[#This Row],[United States]],2)&" USD" -> 400 - $139.99 USD

Sheet SMARTGLASS
B2: K | C2: SMARTGLASS AVAILABILITIES
F4: WINDOWS | H4: WINDOWS PHONE | J4: IPAD | L4: IPHONE | N4: ANDROID TABLET | P4: ANDRIOD PHONE
E5: AVAILABLE? | F5: START DATE / TIME (UTC) | G5: END DATE / TIME (UTC) | H5: START DATE / TIME (UTC) | I5: END DATE / TIME (UTC) | J5: START DATE / TIME (UTC) | K5: END DATE / TIME (UTC) | L5: START DATE / TIME (UTC) | M5: END DATE / TIME (UTC) | N5: START DATE / TIME (UTC) | O5: END DATE / TIME (UTC) | P5: START DATE / TIME (UTC) | Q5: END DATE / TIME (UTC)
C6: NORTH AMERICA
C7: United States | E7: Select_Option | F7: Enter_Information_Here | G7: Enter_Information_Here | H7: Enter_Information_Here | I7: Enter_Information_Here | J7: Enter_Information_Here | K7: Enter_Information_Here | L7: Enter_Information_Here | M7: Enter_Information_Here | N7: Enter_Information_Here | O7: Enter_Information_Here | P7: Enter_Information_Here | Q7: Enter_Information_Here
C8: Canada | E8: Select_Option | F8: Enter_Information_Here | G8: Enter_Information_Here | H8: Enter_Information_Here | I8: Enter_Information_Here | J8: Enter_Information_Here | K8: Enter_Information_Here | L8: Enter_Information_Here | M8: Enter_Information_Here | N8: Enter_Information_Here | O8: Enter_Information_Here | P8: Enter_Information_Here | Q8: Enter_Information_Here
C9: Mexico | E9: Select_Option | F9: Enter_Information_Here | G9: Enter_Information_Here | H9: Enter_Information_Here | I9: Enter_Information_Here | J9: Enter_Information_Here | K9: Enter_Information_Here | L9: Enter_Information_Here | M9: Enter_Information_Here | N9: Enter_Information_Here | O9: Enter_Information_Here | P9: Enter_Information_Here | Q9: Enter_Information_Here
C10: WESTERN EUROPE
C11: Austria | E11: Select_Option | F11: Enter_Information_Here | G11: Enter_Information_Here | H11: Enter_Information_Here | I11: Enter_Information_Here | J11: Enter_Information_Here | K11: Enter_Information_Here | L11: Enter_Information_Here | M11: Enter_Information_Here | N11: Enter_Information_Here | O11: Enter_Information_Here | P11: Enter_Information_Here | Q11: Enter_Information_Here
C12: Belgium | E12: Select_Option | F12: Enter_Information_Here | G12: Enter_Information_Here | H12: Enter_Information_Here | I12: Enter_Information_Here | J12: Enter_Information_Here | K12: Enter_Information_Here | L12: Enter_Information_Here | M12: Enter_Information_Here | N12: Enter_Information_Here | O12: Enter_Information_Here | P12: Enter_Information_Here | Q12: Enter_Information_Here
C13: Denmark | E13: Select_Option | F13: Enter_Information_Here | G13: Enter_Information_Here | H13: Enter_Information_Here | I13: Enter_Information_Here | J13: Enter_Information_Here | K13: Enter_Information_Here | L13: Enter_Information_Here | M13: Enter_Information_Here | N13: Enter_Information_Here | O13: Enter_Information_Here | P13: Enter_Information_Here | Q13: Enter_Information_Here
C14: Finland | E14: Select_Option | F14: Enter_Information_Here | G14: Enter_Information_Here | H14: Enter_Information_Here | I14: Enter_Information_Here | J14: Enter_Information_Here | K14: Enter_Information_Here | L14: Enter_Information_Here | M14: Enter_Information_Here | N14: Enter_Information_Here | O14: Enter_Information_Here | P14: Enter_Information_Here | Q14: Enter_Information_Here
C15: France | E15: Select_Option | F15: Enter_Information_Here | G15: Enter_Information_Here | H15: Enter_Information_Here | I15: Enter_Information_Here | J15: Enter_Information_Here | K15: Enter_Information_Here | L15: Enter_Information_Here | M15: Enter_Information_Here | N15: Enter_Information_Here | O15: Enter_Information_Here | P15: Enter_Information_Here | Q15: Enter_Information_Here
C16: Germany | E16: Select_Option | F16: Enter_Information_Here | G16: Enter_Information_Here | H16: Enter_Information_Here | I16: Enter_Information_Here | J16: Enter_Information_Here | K16: Enter_Information_Here | L16: Enter_Information_Here | M16: Enter_Information_Here | N16: Enter_Information_Here | O16: Enter_Information_Here | P16: Enter_Information_Here | Q16: Enter_Information_Here
C17: Ireland | E17: Select_Option | F17: Enter_Information_Here | G17: Enter_Information_Here | H17: Enter_Information_Here | I17: Enter_Information_Here | J17: Enter_Information_Here | K17: Enter_Information_Here | L17: Enter_Information_Here | M17: Enter_Information_Here | N17: Enter_Information_Here | O17: Enter_Information_Here | P17: Enter_Information_Here | Q17: Enter_Information_Here
C18: Italy | E18: Select_Option | F18: Enter_Information_Here | G18: Enter_Information_Here | H18: Enter_Information_Here | I18: Enter_Information_Here | J18: Enter_Information_Here | K18: Enter_Information_Here | L18: Enter_Information_Here | M18: Enter_Information_Here | N18: Enter_Information_Here | O18: Enter_Information_Here | P18: Enter_Information_Here | Q18: Enter_Information_Here
C19: Netherlands | E19: Select_Option | F19: Enter_Information_Here | G19: Enter_Information_Here | H19: Enter_Information_Here | I19: Enter_Information_Here | J19: Enter_Information_Here | K19: Enter_Information_Here | L19: Enter_Information_Here | M19: Enter_Information_Here | N19: Enter_Information_Here | O19: Enter_Information_Here | P19: Enter_Information_Here | Q19: Enter_Information_Here
C20: Norway | E20: Select_Option | F20: Enter_Information_Here | G20: Enter_Information_Here | H20: Enter_Information_Here | I20: Enter_Information_Here | J20: Enter_Information_Here | K20: Enter_Information_Here | L20: Enter_Information_Here | M20: Enter_Information_Here | N20: Enter_Information_Here | O20: Enter_Information_Here | P20: Enter_Information_Here | Q20: Enter_Information_Here
C21: Portugal | E21: Select_Option | F21: Enter_Information_Here | G21: Enter_Information_Here | H21: Enter_Information_Here | I21: Enter_Information_Here | J21: Enter_Information_Here | K21: Enter_Information_Here | L21: Enter_Information_Here | M21: Enter_Information_Here | N21: Enter_Information_Here | O21: Enter_Information_Here | P21: Enter_Information_Here | Q21: Enter_Information_Here
C22: Spain | E22: Select_Option | F22: Enter_Information_Here | G22: Enter_Information_Here | H22: Enter_Information_Here | I22: Enter_Information_Here | J22: Enter_Information_Here | K22: Enter_Information_Here | L22: Enter_Information_Here | M22: Enter_Information_Here | N22: Enter_Information_Here | O22: Enter_Information_Here | P22: Enter_Information_Here | Q22: Enter_Information_Here
... C25: United Kingdom | E25: Select_Option | F25: Enter_Information_Here | G25: Enter_Information_Here | H25: Enter_Information_Here | I25: Enter_Information_Here | J25: Enter_Information_Here | K25: Enter_Information_Here | L25: Enter_Information_Here | M25: Enter_Information_Here | N25: Enter_Information_Here | O25: Enter_Information_Here | P25: Enter_Information_Here | Q25: Enter_Information_Here
C26: CENTRAL & EASTERN EUROPE
C27: Czech Republic | E27: Select_Option | F27: Enter_Information_Here | G27: Enter_Information_Here | H27: Enter_Information_Here | I27: Enter_Information_Here | J27: Enter_Information_Here | K27: Enter_Information_Here | L27: Enter_Information_Here | M27: Enter_Information_Here | N27: Enter_Information_Here | O27: Enter_Information_Here | P27: Enter_Information_Here | Q27: Enter_Information_Here
C28: Greece | E28: Select_Option | F28: Enter_Information_Here | G28: Enter_Information_Here | H28: Enter_Information_Here | I28: Enter_Information_Here | J28: Enter_Information_Here | K28: Enter_Information_Here | L28: Enter_Information_Here | M28: Enter_Information_Here | N28: Enter_Information_Here | O28: Enter_Information_Here | P28: Enter_Information_Here | Q28: Enter_Information_Here
C29: Hungary | E29: Select_Option | F29: Enter_Information_Here | G29: Enter_Information_Here | H29: Enter_Information_Here | I29: Enter_Information_Here | J29: Enter_Information_Here | K29: Enter_Information_Here | L29: Enter_Information_Here | M29: Enter_Information_Here | N29: Enter_Information_Here | O29: Enter_Information_Here | P29: Enter_Information_Here | Q29: Enter_Information_Here
C30: Poland | E30: Select_Option | F30: Enter_Information_Here | G30: Enter_Information_Here | H30: Enter_Information_Here | I30: Enter_Information_Here | J30: Enter_Information_Here | K30: Enter_Information_Here | L30: Enter_Information_Here | M30: Enter_Information_Here | N30: Enter_Information_Here | O30: Enter_Information_Here | P30: Enter_Information_Here | Q30: Enter_Information_Here
C31: Russia | E31: Select_Option | F31: Enter_Information_Here | G31: Enter_Information_Here | H31: Enter_Information_Here | I31: Enter_Information_Here | J31: Enter_Information_Here | K31: Enter_Information_Here | L31: Enter_Information_Here | M31: Enter_Information_Here | N31: Enter_Information_Here | O31: Enter_Information_Here | P31: Enter_Information_Here | Q31: Enter_Information_Here
