Workbook

Sheet INSTRUCTIONS
M1: Version 5.6a - WOBO
D2: INSTRUCTIONS: Please use this workbook to supply Catalog Metadata, Artwork, Availability and Binary info. Hover your mouse over fields with a red corner for help. The following sections are included: A. PRODUCT DETAILS - Basic information to help Microsoft identify your Product. B. INCLUDED PRODUCTS - Only required for bundle products. C. AVAILABILITIES & BINARIES - Includes what, where, how much and when information D. MARKETING INFO - Genre information and Marketing text that will be displayed on the Product Details Page. E. RATINGS - The age rating that will be displayed, and also age-gate access to your product. F. CAPABILITES - Functional details about your product that will be displayed on the Product Details Page. G. GAME HELP - The files needed to display in-game help. H. PRIVACY & TERMS OF USE - Details that wil be displayed to consumers at the time of purchase. I. ARTWORK - Art that will be displayed on the Product Details Page. J. TRAILERS - Streaming trailers that will be displayed on the Product Details Page. K. CONSUMABLE INFO - Only required for Consumable products. L. SMARTGLASS - Only required for SmartGlass products. Once completed, email the workbook to xboxconf@microsoft.com. Loose files (Ratings Certificates, Artwork, Trailers, Privacy/TOU docs, binaries) should be uploaded to Microsoft using your Signiant account.
D4: Note that sections filled in with a grey cross-hatch pattern do not need to be filled in. Example: | J4: Select_Option | K4: Items in red should be filled out before being submitting the workbook.
D6: To ensure faster processing when updating a previously submitted workbook, please highlight the cells you've changed since your last submission in yellow. | M6: Example
D8: REQUIRED SECTIONS PER PRODUCT TYPE
D9: Meta Data | E9: Game | F9: Demo | G9: Durable | H9: Consumable | I9: LiveApp | J9: Subscription | K9: Bundle/Season Pass | L9: SmartGlass Native App | M9: SmartGlass Companion | N9: Select_Option
D10: Product Details | E10: YES | F10: YES | G10: YES | H10: YES | I10: YES | J10: YES | K10: YES | L10: YES | M10: YES
D11: Included Products | E11: NO | F11: NO | G11: NO | H11: NO | I11: NO | J11: NO | K11: YES | L11: NO | M11: NO
D12: Availabilites & Binaries | E12: YES | F12: YES | G12: YES | H12: YES | I12: YES | J12: YES | K12: YES | L12: NO | M12: NO
D13: Marketing Info | E13: YES | F13: YES | G13: YES | H13: YES | I13: YES | J13: YES | K13: YES | L13: YES | M13: YES
D14: Ratings | E14: YES | F14: YES | G14: YES | H14: YES | I14: YES | J14: NO | K14: YES | L14: YES | M14: YES
D15: Capabilities | E15: YES | F15: YES | G15: NO | H15: NO | I15: YES | J15: NO | K15: NO | L15: NO | M15: NO
D16: Game Help | E16: YES | F16: YES | G16: NO | H16: NO | I16: YES | J16: NO | K16: NO | L16: NO | M16: NO
D17: Privacy & Terms of Use | E17: OPTIONAL | F17: OPTIONAL | G17: NO | H17: NO | I17: OPTIONAL | J17: OPTIONAL | K17: NO | L17: NO | M17: NO
D18: Artwork | E18: YES | F18: YES | G18: YES | H18: YES | I18: YES | J18: YES | K18: YES | L18: YES | M18: YES
D19: Trailers | E19: OPTIONAL | F19: OPTIONAL | G19: NO | H19: NO | I19: OPTIONAL | J19: NO | K19: NO | L19: NO | M19: NO
D20: Consumable Info | E20: NO | F20: NO | G20: NO | H20: YES | I20: NO | J20: NO | K20: NO | L20: NO | M20: NO
D22: SmartGlass | E22: NO | F22: NO | G22: NO | H22: NO | I22: NO | J22: NO | K22: NO | L22: YES | M22: YES

Sheet PRODUCT DETAILS
M1: Select_Option | N1: No Updates Required | O1: Only Content Update Required | P1: Only Service Config Update Required | Q1: Content Update AND Service Config Update Required
B2: A | C2: PRODUCT DETAILS
C4: Submitter email address: | E4: Bruno.Gaugain@ubisoft.com
C5: Purpose of the Workbook: | E5: Publishing for Certification | F5: Please remember to highlight any
C6: Is this workbook an update to a prior submission? | E6: YES | F6: chaged cells in yellow.
C7: Publish to this Sandbox: | E7: UBMN.9 &RETAIL | F7: Example
C8: Product Group Name: | E8: JustDance®2015
C9: Product Name: | E9: ${MapName}$
C10: Product Type: | E10: Durable
C11: Content Update and/or Service Config Update Required? | E11: No Updates Required
D12: Sandbox in Which the Updated Service Config Resides: | E12: Enter_Information_Here
C13: Product ID: | E13: ${dlcIdXOneNCSA}$
C14: Are you submitting assets/binaries? | E14: YES
D15: Signiant folder name: | E15: Enter_Information_Here
D16: Size of largest binary: | E16: Less than 2Gb
C17: Is this product to be included as part of a bundle? | E17: NO
D18: What bundle(s) will this product be included in? | E18: Enter_Information_Here
C19: Do owners of the Xbox 360 version of this product get the Xbox One version for free? | E19: NO
D20: List the Xbox 360 Offer IDs: | E20: Enter_Information_Here
D23: For Cert Submissions, the following minimum information must be completed: | F23: For Game Detail Pages, the following minimum information must be completed:
D25: AVAILABILITES & BINARIES - Regions - Content Package name - XVC File Name - EKB File Name | E25: MARKETING INFO - Title - Voice Title - Genre | F25: AVAILABILITES & BINARIES - Regions - Visibility Date - Sale Date (enter 12/31/2799 if not publically announced) | G25: MARKETING INFO - All text fields (Alternate title is optional) - Genre
D26: RATINGS - Ratings - Descriptors - File Names | E26: ARTWORK - Feature Promotional Square Art GAME HELP - ZIP Files | F26: RATINGS - Ratings - Descriptors | G26: ARTWORK - All artwork CAPABILITIES - All relevant information

Sheet INCLUDED PRODUCTS
B2: You only need to complete this section if your product is a bundle.
B4: B | C4: INCLUDED PRODUCTS (BUNDLES ONLY)
C6: PRODUCT NAME | D6: PRODUCT TYPE | E6: PRODUCT ID | F6: CONSUMABLE QUANTITY (Consumables Only)
C7: Enter_Information_Here | D7: Select_Option | E7: Enter_Information_Here | F7: Enter_Information_Here
C8: Enter_Information_Here | D8: Select_Option | E8: Enter_Information_Here | F8: Enter_Information_Here
C9: Enter_Information_Here | D9: Select_Option | E9: Enter_Information_Here | F9: Enter_Information_Here
C10: Enter_Information_Here | D10: Select_Option | E10: Enter_Information_Here | F10: Enter_Information_Here
C11: Enter_Information_Here | D11: Select_Option | E11: Enter_Information_Here | F11: Enter_Information_Here
C12: Enter_Information_Here | D12: Select_Option | E12: Enter_Information_Here | F12: Enter_Information_Here
C13: Enter_Information_Here | D13: Select_Option | E13: Enter_Information_Here | F13: Enter_Information_Here
C14: Enter_Information_Here | D14: Select_Option | E14: Enter_Information_Here | F14: Enter_Information_Here
C15: Enter_Information_Here | D15: Select_Option | E15: Enter_Information_Here | F15: Enter_Information_Here
C16: Enter_Information_Here | D16: Select_Option | E16: Enter_Information_Here | F16: Enter_Information_Here
C17: Enter_Information_Here | D17: Select_Option | E17: Enter_Information_Here | F17: Enter_Information_Here
... C102: Enter_Information_Here | D102: Select_Option | E102: Enter_Information_Here | F102: Enter_Information_Here

Sheet _reference
C1: Select_Option
C2: YES | I2: WSP | J2: SRP | K2: FriendlyName | L2: WholeSale | M2: MSRP | N2: Retail
C3: NO | I3: Select_Option | J3: Select_Option | K3: Select_Option | Q3: Test Tier 1 - $0.01 USD
I4: =Table1[[#This Row],[FriendlyName]]&" - " &TEXT(Table1[[#This Row],[WholeSale]],"$0.00") & " USD" -> Test Tier 1 - $0.01 USD | J4: =Table1[[#This Row],[FriendlyName]]&" - " &TEXT(Table1[[#This Row],[MSRP]],"$0.00") & " USD" -> Test Tier 1 - $0.01 USD | K4: Test Tier 1 | L4: 0.01 | M4: 0.01 | N4: 0.01
B5: ESRB | C5: Select_Option | I5: =Table1[[#This Row],[FriendlyName]]&" - " &TEXT(Table1[[#This Row],[WholeSale]],"$0.00") & " USD" -> Test Tier 2 - $0.02 USD | J5: =Table1[[#This Row],[FriendlyName]]&" - " &TEXT(Table1[[#This Row],[MSRP]],"$0.00") & " USD" -> Test Tier 2 - $0.02 USD | K5: Test Tier 2 | L5: 0.02 | M5: 0.02 | N5: 0.02
C6: EC | I6: =Table1[[#This Row],[FriendlyName]]&" - " &TEXT(Table1[[#This Row],[WholeSale]],"$0.00") & " USD" -> 0 - $0.00 USD | J6: =Table1[[#This Row],[FriendlyName]]&" - " &TEXT(Table1[[#This Row],[MSRP]],"$0.00") & " USD" -> 0 - $0.00 USD | K6: 0 | L6: 0 | M6: 0 | N6: 0
C7: E | I7: =Table1[[#This Row],[FriendlyName]]&" - " &TEXT(Table1[[#This Row],[WholeSale]],"$0.00") & " USD" -> 1 - $0.34 USD | J7: =Table1[[#This Row],[FriendlyName]]&" - " &TEXT(Table1[[#This Row],[MSRP]],"$0.00") & " USD" -> 1 - $0.49 USD | K7: 1 | L7: 0.34 | M7: 0.49 | N7: 0.49
C8: E10+ | I8: =Table1[[#This Row],[FriendlyName]]&" - " &TEXT(Table1[[#This Row],[WholeSale]],"$0.00") & " USD" -> 2 - $0.69 USD | J8: =Table1[[#This Row],[FriendlyName]]&" - " &TEXT(Table1[[#This Row],[MSRP]],"$0.00") & " USD" -> 2 - $0.99 USD | K8: 2 | L8: 0.69 | M8: 0.99 | N8: 0.99
C9: T | I9: =Table1[[#This Row],[FriendlyName]]&" - " &TEXT(Table1[[#This Row],[WholeSale]],"$0.00") & " USD" -> 3 - $1.04 USD | J9: =Table1[[#This Row],[FriendlyName]]&" - " &TEXT(Table1[[#This Row],[MSRP]],"$0.00") & " USD" -> 3 - $1.49 USD | K9: 3 | L9: 1.04 | M9: 1.49 | N9: 1.49
C10: M | I10: =Table1[[#This Row],[FriendlyName]]&" - " &TEXT(Table1[[#This Row],[WholeSale]],"$0.00") & " USD" -> 4 - $1.39 USD | J10: =Table1[[#This Row],[FriendlyName]]&" - " &TEXT(Table1[[#This Row],[MSRP]],"$0.00") & " USD" -> 4 - $1.99 USD | K10: 4 | L10: 1.39 | M10: 1.99 | N10: 1.99
C11: RP (E-E10+) | I11: =Table1[[#This Row],[FriendlyName]]&" - " &TEXT(Table1[[#This Row],[WholeSale]],"$0.00") & " USD" -> 5 - $1.74 USD | J11: =Table1[[#This Row],[FriendlyName]]&" - " &TEXT(Table1[[#This Row],[MSRP]],"$0.00") & " USD" -> 5 - $2.49 USD | K11: 5 | L11: 1.74 | M11: 2.49 | N11: 2.49
C12: RP (T-M) | I12: =Table1[[#This Row],[FriendlyName]]&" - " &TEXT(Table1[[#This Row],[WholeSale]],"$0.00") & " USD" -> 6 - $2.09 USD | J12: =Table1[[#This Row],[FriendlyName]]&" - " &TEXT(Table1[[#This Row],[MSRP]],"$0.00") & " USD" -> 6 - $2.99 USD | K12: 6 | L12: 2.09 | M12: 2.99 | N12: 2.99
C13: None | I13: =Table1[[#This Row],[FriendlyName]]&" - " &TEXT(Table1[[#This Row],[WholeSale]],"$0.00") & " USD" -> 7 - $2.44 USD | J13: =Table1[[#This Row],[FriendlyName]]&" - " &TEXT(Table1[[#This Row],[MSRP]],"$0.00") & " USD" -> 7 - $3.49 USD | K13: 7 | L13: 2.44 | M13: 3.49 | N13: 3.49
I14: =Table1[[#This Row],[FriendlyName]]&" - " &TEXT(Table1[[#This Row],[WholeSale]],"$0.00") & " USD" -> 8 - $2.79 USD | J14: =Table1[[#This Row],[FriendlyName]]&" - " &TEXT(Table1[[#This Row],[MSRP]],"$0.00") & " USD" -> 8 - $3.99 USD | K14: 8 | L14: 2.79 | M14: 3.99 | N14: 3.99
B15: USK | C15: Select_Option | I15: =Table1[[#This Row],[FriendlyName]]&" - " &TEXT(Table1[[#This Row],[WholeSale]],"$0.00") & " USD" -> 9 - $3.14 USD | J15: =Table1[[#This Row],[FriendlyName]]&" - " &TEXT(Table1[[#This Row],[MSRP]],"$0.00") & " USD" -> 9 - $4.49 USD | K15: 9 | L15: 3.14 | M15: 4.49 | N15: 4.49
C16: 0 | I16: =Table1[[#This Row],[FriendlyName]]&" - " &TEXT(Table1[[#This Row],[WholeSale]],"$0.00") & " USD" -> 10 - $3.49 USD | J16: =Table1[[#This Row],[FriendlyName]]&" - " &TEXT(Table1[[#This Row],[MSRP]],"$0.00") & " USD" -> 10 - $4.99 USD | K16: 10 | L16: 3.49 | M16: 4.99 | N16: 4.99
C17: 6 | I17: =Table1[[#This Row],[FriendlyName]]&" - " &TEXT(Table1[[#This Row],[WholeSale]],"$0.00") & " USD" -> 11 - $3.84 USD | J17: =Table1[[#This Row],[FriendlyName]]&" - " &TEXT(Table1[[#This Row],[MSRP]],"$0.00") & " USD" -> 11 - $5.49 USD | K17: 11 | L17: 3.84 | M17: 5.49 | N17: 5.49
C18: 12 | I18: =Table1[[#This Row],[FriendlyName]]&" - " &TEXT(Table1[[#This Row],[WholeSale]],"$0.00") & " USD" -> 12 - $4.19 USD | J18: =Table1[[#This Row],[FriendlyName]]&" - " &TEXT(Table1[[#This Row],[MSRP]],"$0.00") & " USD" -> 12 - $5.99 USD | K18: 12 | L18: 4.19 | M18: 5.99 | N18: 5.99
C19: 16 | I19: =Table1[[#This Row],[FriendlyName]]&" - " &TEXT(Table1[[#This Row],[WholeSale]],"$0.00") & " USD" -> 13 - $4.54 USD | J19: =Table1[[#This Row],[FriendlyName]]&" - " &TEXT(Table1[[#This Row],[MSRP]],"$0.00") & " USD" -> 13 - $6.49 USD | K19: 13 | L19: 4.54 | M19: 6.49 | N19: 6.49
C20: 18 | I20: =Table1[[#This Row],[FriendlyName]]&" - " &TEXT(Table1[[#This Row],[WholeSale]],"$0.00") & " USD" -> 14 - $4.89 USD | J20: =Table1[[#This Row],[FriendlyName]]&" - " &TEXT(Table1[[#This Row],[MSRP]],"$0.00") & " USD" -> 14 - $6.99 USD | K20: 14 | L20: 4.89 | M20: 6.99 | N20: 6.99
C21: Unrated | I21: =Table1[[#This Row],[FriendlyName]]&" - " &TEXT(Table1[[#This Row],[WholeSale]],"$0.00") & " USD" -> 15 - $5.24 USD | J21: =Table1[[#This Row],[FriendlyName]]&" - " &TEXT(Table1[[#This Row],[MSRP]],"$0.00") & " USD" -> 15 - $7.49 USD | K21: 15 | L21: 5.24 | M21: 7.49 | N21: 7.49
C22: None | I22: =Table1[[#This Row],[FriendlyName]]&" - " &TEXT(Table1[[#This Row],[WholeSale]],"$0.00") & " USD" -> 16 - $5.59 USD | J22: =Table1[[#This Row],[FriendlyName]]&" - " &TEXT(Table1[[#This Row],[MSRP]],"$0.00") & " USD" -> 16 - $7.99 USD | K22: 16 | L22: 5.59 | M22: 7.99 | N22: 7.99
I23: =Table1[[#This Row],[FriendlyName]]&" - " &TEXT(Table1[[#This Row],[WholeSale]],"$0.00") & " USD" -> 17 - $5.94 USD | J23: =Table1[[#This Row],[FriendlyName]]&" - " &TEXT(Table1[[#This Row],[MSRP]],"$0.00") & " USD" -> 17 - $8.49 USD | K23: 17 | L23: 5.94 | M23: 8.49 | N23: 8.49
B24: COB | C24: Select_Option | I24: =Table1[[#This Row],[FriendlyName]]&" - " &TEXT(Table1[[#This Row],[WholeSale]],"$0.00") & " USD" -> 18 - $6.29 USD | J24: =Table1[[#This Row],[FriendlyName]]&" - " &TEXT(Table1[[#This Row],[MSRP]],"$0.00") & " USD" -> 18 - $8.99 USD | K24: 18 | L24: 6.29 | M24: 8.99 | N24: 8.99
C25: G | I25: =Table1[[#This Row],[FriendlyName]]&" - " &TEXT(Table1[[#This Row],[WholeSale]],"$0.00") & " USD" -> 19 - $6.64 USD | J25: =Table1[[#This Row],[FriendlyName]]&" - " &TEXT(Table1[[#This Row],[MSRP]],"$0.00") & " USD" -> 19 - $9.49 USD | K25: 19 | L25: 6.64 | M25: 9.49 | N25: 9.49
C26: PG | I26: =Table1[[#This Row],[FriendlyName]]&" - " &TEXT(Table1[[#This Row],[WholeSale]],"$0.00") & " USD" -> 20 - $6.99 USD | J26: =Table1[[#This Row],[FriendlyName]]&" - " &TEXT(Table1[[#This Row],[MSRP]],"$0.00") & " USD" -> 20 - $9.99 USD | K26: 20 | L26: 6.99 | M26: 9.99 | N26: 9.99
C27: M | I27: =Table1[[#This Row],[FriendlyName]]&" - " &TEXT(Table1[[#This Row],[WholeSale]],"$0.00") & " USD" -> 21 - $7.34 USD | J27: =Table1[[#This Row],[FriendlyName]]&" - " &TEXT(Table1[[#This Row],[MSRP]],"$0.00") & " USD" -> 21 - $10.49 USD | K27: 21 | L27: 7.34 | M27: 10.49 | N27: 10.49
C28: MA | I28: =Table1[[#This Row],[FriendlyName]]&" - " &TEXT(Table1[[#This Row],[WholeSale]],"$0.00") & " USD" -> 22 - $7.69 USD | J28: =Table1[[#This Row],[FriendlyName]]&" - " &TEXT(Table1[[#This Row],[MSRP]],"$0.00") & " USD" -> 22 - $10.99 USD | K28: 22 | L28: 7.69 | M28: 10.99 | N28: 10.99
C29: R18 | I29: =Table1[[#This Row],[FriendlyName]]&" - " &TEXT(Table1[[#This Row],[WholeSale]],"$0.00") & " USD" -> 23 - $8.04 USD | J29: =Table1[[#This Row],[FriendlyName]]&" - " &TEXT(Table1[[#This Row],[MSRP]],"$0.00") & " USD" -> 23 - $11.49 USD | K29: 23 | L29: 8.04 | M29: 11.49 | N29: 11.49
C30: Unrated | I30: =Table1[[#This Row],[FriendlyName]]&" - " &TEXT(Table1[[#This Row],[WholeSale]],"$0.00") & " USD" -> 24 - $8.39 USD | J30: =Table1[[#This Row],[FriendlyName]]&" - " &TEXT(Table1[[#This Row],[MSRP]],"$0.00") & " USD" -> 24 - $11.99 USD | K30: 24 | L30: 8.39 | M30: 11.99 | N30: 11.99
C31: None | I31: =Table1[[#This Row],[FriendlyName]]&" - " &TEXT(Table1[[#This Row],[WholeSale]],"$0.00") & " USD" -> 25 - $8.74 USD | J31: =Table1[[#This Row],[FriendlyName]]&" - " &TEXT(Table1[[#This Row],[MSRP]],"$0.00") & " USD" -> 25 - $12.49 USD | K31: 25 | L31: 8.74 | M31: 12.49 | N31: 12.49
I32: =Table1[[#This Row],[FriendlyName]]&" - " &TEXT(Table1[[#This Row],[WholeSale]],"$0.00") & " USD" -> 26 - $9.09 USD | J32: =Table1[[#This Row],[FriendlyName]]&" - " &TEXT(Table1[[#This Row],[MSRP]],"$0.00") & " USD" -> 26 - $12.99 USD | K32: 26 | L32: 9.09 | M32: 12.99 | N32: 12.99
B33: OFLC | C33: Select_Option | I33: =Table1[[#This Row],[FriendlyName]]&" - " &TEXT(Table1[[#This Row],[WholeSale]],"$0.00") & " USD" -> 27 - $9.44 USD | J33: =Table1[[#This Row],[FriendlyName]]&" - " &TEXT(Table1[[#This Row],[MSRP]],"$0.00") & " USD" -> 27 - $13.49 USD | K33: 27 | L33: 9.44 | M33: 13.49 | N33: 13.49
C34: G | I34: =Table1[[#This Row],[FriendlyName]]&" - " &TEXT(Table1[[#This Row],[WholeSale]],"$0.00") & " USD" -> 28 - $9.79 USD | J34: =Table1[[#This Row],[FriendlyName]]&" - " &TEXT(Table1[[#This Row],[MSRP]],"$0.00") & " USD" -> 28 - $13.99 USD | K34: 28 | L34: 9.79 | M34: 13.99 | N34: 13.99
C35: PG | I35: =Table1[[#This Row],[FriendlyName]]&" - " &TEXT(Table1[[#This Row],[WholeSale]],"$0.00") & " USD" -> 29 - $10.14 USD | J35: =Table1[[#This Row],[FriendlyName]]&" - " &TEXT(Table1[[#This Row],[MSRP]],"$0.00") & " USD" -> 29 - $14.49 USD | K35: 29 | L35: 10.14 | M35: 14.49 | N35: 14.49
C36: M | I36: =Table1[[#This Row],[FriendlyName]]&" - " &TEXT(Table1[[#This Row],[WholeSale]],"$0.00") & " USD" -> 30 - $10.49 USD | J36: =Table1[[#This Row],[FriendlyName]]&" - " &TEXT(Table1[[#This Row],[MSRP]],"$0.00") & " USD" -> 30 - $14.99 USD | K36: 30 | L36: 10.49 | M36: 14.99 | N36: 14.99
C37: R13+ | I37: =Table1[[#This Row],[FriendlyName]]&" - " &TEXT(Table1[[#This Row],[WholeSale]],"$0.00") & " USD" -> 31 - $10.84 USD | J37: =Table1[[#This Row],[FriendlyName]]&" - " &TEXT(Table1[[#This Row],[MSRP]],"$0.00") & " USD" -> 31 - $15.49 USD | K37: 31 | L37: 10.84 | M37: 15.49 | N37: 15.49
C38: R15+ | I38: =Table1[[#This Row],[FriendlyName]]&" - " &TEXT(Table1[[#This Row],[WholeSale]],"$0.00") & " USD" -> 32 - $11.19 USD | J38: =Table1[[#This Row],[FriendlyName]]&" - " &TEXT(Table1[[#This Row],[MSRP]],"$0.00") & " USD" -> 32 - $15.99 USD | K38: 32 | L38: 11.19 | M38: 15.99 | N38: 15.99
C39: R16+ | I39: =Table1[[#This Row],[FriendlyName]]&" - " &TEXT(Table1[[#This Row],[WholeSale]],"$0.00") & " USD" -> 33 - $11.54 USD | J39: =Table1[[#This Row],[FriendlyName]]&" - " &TEXT(Table1[[#This Row],[MSRP]],"$0.00") & " USD" -> 33 - $16.49 USD | K39: 33 | L39: 11.54 | M39: 16.49 | N39: 16.49
C40: R18+ | I40: =Table1[[#This Row],[FriendlyName]]&" - " &TEXT(Table1[[#This Row],[WholeSale]],"$0.00") & " USD" -> 34 - $11.89 USD | J40: =Table1[[#This Row],[FriendlyName]]&" - " &TEXT(Table1[[#This Row],[MSRP]],"$0.00") & " USD" -> 34 - $16.99 USD | K40: 34 | L40: 11.89 | M40: 16.99 | N40: 16.99
...

Sheet AVAILABILITIES & BINARIES
B2: Binaries (XVC and EKB files) must be uploaded to the location specified on the "Product Details" tab.
B4: C | C4: AVAILABILITIES AND BINARIES
E5: AVAILABLE? | F5: CONTENT PACKAGE NAME | G5: XVC FILE NAME | H5: EKB FILE NAME | I5: SUPPORTED LANGUAGES | J5: WHOLESALE PRICE TIER | K5: WHOLESALE PRICE | L5: MSRP PRICE TIER OVERRIDE (MICROSOFT USE ONLY) | M5: MSRP PRICE | N5: RETAIL PRICE TIER (MICROSOFT USE ONLY) | O5: RETAIL PRICE (MICROSOFT USE ONLY) | P5: VISIBLE IN THE CATALOG? | Q5: HAS A TRIAL? | R5: TIME OF TRIAL (IN MINUTES) | S5: REQUIRES GOLD? | T5: VISIBILITY START DATE / TIME (UTC) | U5: VISIBILITY END DATE / TIME (UTC) | V5: SALE START DATE / TIME (UTC) | W5: SALE END DATE / TIME (UTC) | X5: TOKEN START DATE / TIME (UTC) | Y5: TOKEN END DATE / TIME (UTC)
C6: NORTH AMERICA
C7: United States | E7: YES | F7: Enter_Information_Here | G7: Enter_Information_Here | H7: Enter_Information_Here | I7: EN, IT, FR, DE, ES, DA, NL, NO, SV, FI, PT | J7: Select_Option | K7: {=IF((J7="Select_Option")+(J7=""),"",IF(J7="Test Tier 1 - $0.01 USD",0.01,IF(J7="Test Tier 2 - $0.02 USD",0.02,INDEX(WSP[#All],MATCH(J7,WSP[LOOKUP],0)+1,MATCH(C7,WSP[#Headers],0)))))} | L7: Select_Option | M7: {=IF((L7="Select_Option")*(J7="Select_Option"),"",IF((L7="Select_Option")*(J7<>"Select_Option"),INDEX(SRP[#All],MATCH(INDEX(_reference!$J$3:$J$406,MATCH(J7,_reference!$I$3:$I$406,0)),SRP[LOOKUP],0)+1,MATCH(C7,SRP[#Headers],0)),IF(L7="Test Tier 1 - $0.01 USD",0.01,IF(L7="Test Tier 2 - $0.02 USD",0.02,INDEX(SRP[#All],MATCH(L7,SRP[LOOKUP],0)+1,MATCH(C7,SRP[#Headers],0))))))} | N7: Select_Option | O7: {=IF((N7="Select_Option")+(N7=""),"",IF(N7="Test Tier 1 - $0.01 USD",0.01,IF(N7="Test Tier 2 - $0.02 USD",0.02,INDEX(SRP[#All],MATCH(N7,SRP[LOOKUP],0)+1,MATCH(C7,SRP[#Headers],0)))))} | P7: Visible | Q7: Select_Option | R7: 0 | S7: Select_Option | T7: ${dlcReleaseDateXOneNCSA}$ | U7: 73050 | V7: 41862 | W7: 73050 | X7: 41862 | Y7: 73050
C8: Canada | E8: YES | F8: Enter_Information_Here | G8: Enter_Information_Here | H8: Enter_Information_Here | I8: EN, IT, FR, DE, ES, DA, NL, NO, SV, FI, PT | J8: Select_Option | K8: {=IF((J8="Select_Option")+(J8=""),"",IF(J8="Test Tier 1 - $0.01 USD",0.01,IF(J8="Test Tier 2 - $0.02 USD",0.02,INDEX(WSP[#All],MATCH(J8,WSP[LOOKUP],0)+1,MATCH(C8,WSP[#Headers],0)))))} | L8: Select_Option | M8: {=IF((L8="Select_Option")*(J8="Select_Option"),"",IF((L8="Select_Option")*(J8<>"Select_Option"),INDEX(SRP[#All],MATCH(INDEX(_reference!$J$3:$J$406,MATCH(J8,_reference!$I$3:$I$406,0)),SRP[LOOKUP],0)+1,MATCH(C8,SRP[#Headers],0)),IF(L8="Test Tier 1 - $0.01 USD",0.01,IF(L8="Test Tier 2 - $0.02 USD",0.02,INDEX(SRP[#All],MATCH(L8,SRP[LOOKUP],0)+1,MATCH(C8,SRP[#Headers],0))))))} | N8: Select_Option | O8: {=IF((N8="Select_Option")+(N8=""),"",IF(N8="Test Tier 1 - $0.01 USD",0.01,IF(N8="Test Tier 2 - $0.02 USD",0.02,INDEX(SRP[#All],MATCH(N8,SRP[LOOKUP],0)+1,MATCH(C8,SRP[#Headers],0)))))} | P8: Visible | Q8: Select_Option | R8: 0 | S8: Select_Option | T8: ${dlcReleaseDateXOneNCSA}$ | U8: 73050 | V8: 41862 | W8: 73050 | X8: 41862 | Y8: 73050
C9: Mexico | E9: YES | F9: Enter_Information_Here | G9: Enter_Information_Here | H9: Enter_Information_Here | I9: EN, IT, FR, DE, ES, DA, NL, NO, SV, FI, PT | J9: Select_Option | K9: {=IF((J9="Select_Option")+(J9=""),"",IF(J9="Test Tier 1 - $0.01 USD",0.01,IF(J9="Test Tier 2 - $0.02 USD",0.02,INDEX(WSP[#All],MATCH(J9,WSP[LOOKUP],0)+1,MATCH(C9,WSP[#Headers],0)))))} | L9: Select_Option | M9: {=IF((L9="Select_Option")*(J9="Select_Option"),"",IF((L9="Select_Option")*(J9<>"Select_Option"),INDEX(SRP[#All],MATCH(INDEX(_reference!$J$3:$J$406,MATCH(J9,_reference!$I$3:$I$406,0)),SRP[LOOKUP],0)+1,MATCH(C9,SRP[#Headers],0)),IF(L9="Test Tier 1 - $0.01 USD",0.01,IF(L9="Test Tier 2 - $0.02 USD",0.02,INDEX(SRP[#All],MATCH(L9,SRP[LOOKUP],0)+1,MATCH(C9,SRP[#Headers],0))))))} | N9: Select_Option | O9: {=IF((N9="Select_Option")+(N9=""),"",IF(N9="Test Tier 1 - $0.01 USD",0.01,IF(N9="Test Tier 2 - $0.02 USD",0.02,INDEX(SRP[#All],MATCH(N9,SRP[LOOKUP],0)+1,MATCH(C9,SRP[#Headers],0)))))} | P9: Visible | Q9: Select_Option | R9: 0 | S9: Select_Option | T9: ${dlcReleaseDateXOneNCSA}$ | U9: 73050 | V9: 41862 | W9: 73050 | X9: 41862 | Y9: 73050
A10: =IF((J10="Select_Option")+(J10=""),"",IF(J10="Test Tier 1 - $0.01 USD",0.01,IF(J10="Test Tier 2 - $0.02 USD",0.02,INDEX(WSP[#All],MATCH(J10,WSP[LOOKUP],0)+1,MATCH(C10,WSP[#Headers],0))))) | C10: WESTERN EUROPE | K10: {=IF((J10="Select_Option")+(J10=""),"",IF(J10="Test Tier 1 - $0.01 USD",0.01,IF(J10="Test Tier 2 - $0.02 USD",0.02,INDEX(WSP[#All],MATCH(J10,WSP[LOOKUP],0)+1,MATCH(C10,WSP[#Headers],0)))))}
A11: =IF((J11="Select_Option")+(J11=""),"",IF(J11="Test Tier 1 - $0.01 USD",0.01,IF(J11="Test Tier 2 - $0.02 USD",0.02,INDEX(WSP[#All],MATCH(J11,WSP[LOOKUP],0)+1,MATCH(C11,WSP[#Headers],0))))) | C11: Austria | E11: YES | F11: Enter_Information_Here | G11: Enter_Information_Here | H11: Enter_Information_Here | I11: EN, IT, FR, DE, ES, DA, NL, NO, SV, FI, PT | J11: Select_Option | K11: {=IF((J11="Select_Option")+(J11=""),"",IF(J11="Test Tier 1 - $0.01 USD",0.01,IF(J11="Test Tier 2 - $0.02 USD",0.02,INDEX(WSP[#All],MATCH(J11,WSP[LOOKUP],0)+1,MATCH(C11,WSP[#Headers],0)))))} | L11: Select_Option | M11: {=IF((L11="Select_Option")*(J11="Select_Option"),"",IF((L11="Select_Option")*(J11<>"Select_Option"),INDEX(SRP[#All],MATCH(INDEX(_reference!$J$3:$J$406,MATCH(J11,_reference!$I$3:$I$406,0)),SRP[LOOKUP],0)+1,MATCH(C11,SRP[#Headers],0)),IF(L11="Test Tier 1 - $0.01 USD",0.01,IF(L11="Test Tier 2 - $0.02 USD",0.02,INDEX(SRP[#All],MATCH(L11,SRP[LOOKUP],0)+1,MATCH(C11,SRP[#Headers],0))))))} | N11: Select_Option | O11: {=IF((N11="Select_Option")+(N11=""),"",IF(N11="Test Tier 1 - $0.01 USD",0.01,IF(N11="Test Tier 2 - $0.02 USD",0.02,INDEX(SRP[#All],MATCH(N11,SRP[LOOKUP],0)+1,MATCH(C11,SRP[#Headers],0)))))} | P11: Visible | Q11: Select_Option | R11: 0 | S11: Select_Option | T11: ${dlcReleaseDateXOneNCSA}$ | U11: 73050 | V11: 41862 | W11: 73050 | X11: 41862 | Y11: 73050
A12: =IF((J12="Select_Option")+(J12=""),"",IF(J12="Test Tier 1 - $0.01 USD",0.01,IF(J12="Test Tier 2 - $0.02 USD",0.02,INDEX(WSP[#All],MATCH(J12,WSP[LOOKUP],0)+1,MATCH(C12,WSP[#Headers],0))))) | C12: Belgium | E12: YES | F12: Enter_Information_Here | G12: Enter_Information_Here | H12: Enter_Information_Here | I12: EN, IT, FR, DE, ES, DA, NL, NO, SV, FI, PT | J12: Select_Option | K12: {=IF((J12="Select_Option")+(J12=""),"",IF(J12="Test Tier 1 - $0.01 USD",0.01,IF(J12="Test Tier 2 - $0.02 USD",0.02,INDEX(WSP[#All],MATCH(J12,WSP[LOOKUP],0)+1,MATCH(C12,WSP[#Headers],0)))))} | L12: Select_Option | M12: {=IF((L12="Select_Option")*(J12="Select_Option"),"",IF((L12="Select_Option")*(J12<>"Select_Option"),INDEX(SRP[#All],MATCH(INDEX(_reference!$J$3:$J$406,MATCH(J12,_reference!$I$3:$I$406,0)),SRP[LOOKUP],0)+1,MATCH(C12,SRP[#Headers],0)),IF(L12="Test Tier 1 - $0.01 USD",0.01,IF(L12="Test Tier 2 - $0.02 USD",0.02,INDEX(SRP[#All],MATCH(L12,SRP[LOOKUP],0)+1,MATCH(C12,SRP[#Headers],0))))))} | N12: Select_Option | O12: {=IF((N12="Select_Option")+(N12=""),"",IF(N12="Test Tier 1 - $0.01 USD",0.01,IF(N12="Test Tier 2 - $0.02 USD",0.02,INDEX(SRP[#All],MATCH(N12,SRP[LOOKUP],0)+1,MATCH(C12,SRP[#Headers],0)))))} | P12: Visible | Q12: Select_Option | R12: 0 | S12: Select_Option | T12: ${dlcReleaseDateXOneNCSA}$ | U12: 73050 | V12: 41862 | W12: 73050 | X12: 41862 | Y12: 73050
A13: =IF((J13="Select_Option")+(J13=""),"",IF(J13="Test Tier 1 - $0.01 USD",0.01,IF(J13="Test Tier 2 - $0.02 USD",0.02,INDEX(WSP[#All],MATCH(J13,WSP[LOOKUP],0)+1,MATCH(C13,WSP[#Headers],0))))) | C13: Denmark | E13: YES | F13: Enter_Information_Here | G13: Enter_Information_Here | H13: Enter_Information_Here | I13: EN, IT, FR, DE, ES, DA, NL, NO, SV, FI, PT | J13: Select_Option | K13: {=IF((J13="Select_Option")+(J13=""),"",IF(J13="Test Tier 1 - $0.01 USD",0.01,IF(J13="Test Tier 2 - $0.02 USD",0.02,INDEX(WSP[#All],MATCH(J13,WSP[LOOKUP],0)+1,MATCH(C13,WSP[#Headers],0)))))} | L13: Select_Option | M13: {=IF((L13="Select_Option")*(J13="Select_Option"),"",IF((L13="Select_Option")*(J13<>"Select_Option"),INDEX(SRP[#All],MATCH(INDEX(_reference!$J$3:$J$406,MATCH(J13,_reference!$I$3:$I$406,0)),SRP[LOOKUP],0)+1,MATCH(C13,SRP[#Headers],0)),IF(L13="Test Tier 1 - $0.01 USD",0.01,IF(L13="Test Tier 2 - $0.02 USD",0.02,INDEX(SRP[#All],MATCH(L13,SRP[LOOKUP],0)+1,MATCH(C13,SRP[#Headers],0))))))} | N13: Select_Option | O13: {=IF((N13="Select_Option")+(N13=""),"",IF(N13="Test Tier 1 - $0.01 USD",0.01,IF(N13="Test Tier 2 - $0.02 USD",0.02,INDEX(SRP[#All],MATCH(N13,SRP[LOOKUP],0)+1,MATCH(C13,SRP[#Headers],0)))))} | P13: Visible | Q13: Select_Option | R13: 0 | S13: Select_Option | T13: ${dlcReleaseDateXOneNCSA}$ | U13: 73050 | V13: 41862 | W13: 73050 | X13: 41862 | Y13: 73050
A14: =IF((J14="Select_Option")+(J14=""),"",IF(J14="Test Tier 1 - $0.01 USD",0.01,IF(J14="Test Tier 2 - $0.02 USD",0.02,INDEX(WSP[#All],MATCH(J14,WSP[LOOKUP],0)+1,MATCH(C14,WSP[#Headers],0))))) | C14: Finland | E14: YES | F14: Enter_Information_Here | G14: Enter_Information_Here | H14: Enter_Information_Here | I14: EN, IT, FR, DE, ES, DA, NL, NO, SV, FI, PT | J14: Select_Option | K14: {=IF((J14="Select_Option")+(J14=""),"",IF(J14="Test Tier 1 - $0.01 USD",0.01,IF(J14="Test Tier 2 - $0.02 USD",0.02,INDEX(WSP[#All],MATCH(J14,WSP[LOOKUP],0)+1,MATCH(C14,WSP[#Headers],0)))))} | L14: Select_Option | M14: {=IF((L14="Select_Option")*(J14="Select_Option"),"",IF((L14="Select_Option")*(J14<>"Select_Option"),INDEX(SRP[#All],MATCH(INDEX(_reference!$J$3:$J$406,MATCH(J14,_reference!$I$3:$I$406,0)),SRP[LOOKUP],0)+1,MATCH(C14,SRP[#Headers],0)),IF(L14="Test Tier 1 - $0.01 USD",0.01,IF(L14="Test Tier 2 - $0.02 USD",0.02,INDEX(SRP[#All],MATCH(L14,SRP[LOOKUP],0)+1,MATCH(C14,SRP[#Headers],0))))))} | N14: Select_Option | O14: {=IF((N14="Select_Option")+(N14=""),"",IF(N14="Test Tier 1 - $0.01 USD",0.01,IF(N14="Test Tier 2 - $0.02 USD",0.02,INDEX(SRP[#All],MATCH(N14,SRP[LOOKUP],0)+1,MATCH(C14,SRP[#Headers],0)))))} | P14: Visible | Q14: Select_Option | R14: 0 | S14: Select_Option | T14: ${dlcReleaseDateXOneNCSA}$ | U14: 73050 | V14: 41862 | W14: 73050 | X14: 41862 | Y14: 73050
A15: =IF((J15="Select_Option")+(J15=""),"",IF(J15="Test Tier 1 - $0.01 USD",0.01,IF(J15="Test Tier 2 - $0.02 USD",0.02,INDEX(WSP[#All],MATCH(J15,WSP[LOOKUP],0)+1,MATCH(C15,WSP[#Headers],0))))) | C15: France | E15: YES | F15: Enter_Information_Here | G15: Enter_Information_Here | H15: Enter_Information_Here | I15: EN, IT, FR, DE, ES, DA, NL, NO, SV, FI, PT | J15: Select_Option | K15: {=IF((J15="Select_Option")+(J15=""),"",IF(J15="Test Tier 1 - $0.01 USD",0.01,IF(J15="Test Tier 2 - $0.02 USD",0.02,INDEX(WSP[#All],MATCH(J15,WSP[LOOKUP],0)+1,MATCH(C15,WSP[#Headers],0)))))} | L15: Select_Option | M15: {=IF((L15="Select_Option")*(J15="Select_Option"),"",IF((L15="Select_Option")*(J15<>"Select_Option"),INDEX(SRP[#All],MATCH(INDEX(_reference!$J$3:$J$406,MATCH(J15,_reference!$I$3:$I$406,0)),SRP[LOOKUP],0)+1,MATCH(C15,SRP[#Headers],0)),IF(L15="Test Tier 1 - $0.01 USD",0.01,IF(L15="Test Tier 2 - $0.02 USD",0.02,INDEX(SRP[#All],MATCH(L15,SRP[LOOKUP],0)+1,MATCH(C15,SRP[#Headers],0))))))} | N15: Select_Option | O15: {=IF((N15="Select_Option")+(N15=""),"",IF(N15="Test Tier 1 - $0.01 USD",0.01,IF(N15="Test Tier 2 - $0.02 USD",0.02,INDEX(SRP[#All],MATCH(N15,SRP[LOOKUP],0)+1,MATCH(C15,SRP[#Headers],0)))))} | P15: Visible | Q15: Select_Option | R15: 0 | S15: Select_Option | T15: ${dlcReleaseDateXOneNCSA}$ | U15: 73050 | V15: 41862 | W15: 73050 | X15: 41862 | Y15: 73050
A16: =IF((J16="Select_Option")+(J16=""),"",IF(J16="Test Tier 1 - $0.01 USD",0.01,IF(J16="Test Tier 2 - $0.02 USD",0.02,INDEX(WSP[#All],MATCH(J16,WSP[LOOKUP],0)+1,MATCH(C16,WSP[#Headers],0))))) | C16: Germany | E16: YES | F16: Enter_Information_Here | G16: Enter_Information_Here | H16: Enter_Information_Here | I16: EN, IT, FR, DE, ES, DA, NL, NO, SV, FI, PT | J16: Select_Option | K16: {=IF((J16="Select_Option")+(J16=""),"",IF(J16="Test Tier 1 - $0.01 USD",0.01,IF(J16="Test Tier 2 - $0.02 USD",0.02,INDEX(WSP[#All],MATCH(J16,WSP[LOOKUP],0)+1,MATCH(C16,WSP[#Headers],0)))))} | L16: Select_Option | M16: {=IF((L16="Select_Option")*(J16="Select_Option"),"",IF((L16="Select_Option")*(J16<>"Select_Option"),INDEX(SRP[#All],MATCH(INDEX(_reference!$J$3:$J$406,MATCH(J16,_reference!$I$3:$I$406,0)),SRP[LOOKUP],0)+1,MATCH(C16,SRP[#Headers],0)),IF(L16="Test Tier 1 - $0.01 USD",0.01,IF(L16="Test Tier 2 - $0.02 USD",0.02,INDEX(SRP[#All],MATCH(L16,SRP[LOOKUP],0)+1,MATCH(C16,SRP[#Headers],0))))))} | N16: Select_Option | O16: {=IF((N16="Select_Option")+(N16=""),"",IF(N16="Test Tier 1 - $0.01 USD",0.01,IF(N16="Test Tier 2 - $0.02 USD",0.02,INDEX(SRP[#All],MATCH(N16,SRP[LOOKUP],0)+1,MATCH(C16,SRP[#Headers],0)))))} | P16: Visible | Q16: Select_Option | R16: 0 | S16: Select_Option | T16: ${dlcReleaseDateXOneNCSA}$ | U16: 73050 | V16: 41862 | W16: 73050 | X16: 41862 | Y16: 73050
A17: =IF((J17="Select_Option")+(J17=""),"",IF(J17="Test Tier 1 - $0.01 USD",0.01,IF(J17="Test Tier 2 - $0.02 USD",0.02,INDEX(WSP[#All],MATCH(J17,WSP[LOOKUP],0)+1,MATCH(C17,WSP[#Headers],0))))) | C17: Ireland | E17: YES | F17: Enter_Information_Here | G17: Enter_Information_Here | H17: Enter_Information_Here | I17: EN, IT, FR, DE, ES, DA, NL, NO, SV, FI, PT | J17: Select_Option | K17: {=IF((J17="Select_Option")+(J17=""),"",IF(J17="Test Tier 1 - $0.01 USD",0.01,IF(J17="Test Tier 2 - $0.02 USD",0.02,INDEX(WSP[#All],MATCH(J17,WSP[LOOKUP],0)+1,MATCH(C17,WSP[#Headers],0)))))} | L17: Select_Option | M17: {=IF((L17="Select_Option")*(J17="Select_Option"),"",IF((L17="Select_Option")*(J17<>"Select_Option"),INDEX(SRP[#All],MATCH(INDEX(_reference!$J$3:$J$406,MATCH(J17,_reference!$I$3:$I$406,0)),SRP[LOOKUP],0)+1,MATCH(C17,SRP[#Headers],0)),IF(L17="Test Tier 1 - $0.01 USD",0.01,IF(L17="Test Tier 2 - $0.02 USD",0.02,INDEX(SRP[#All],MATCH(L17,SRP[LOOKUP],0)+1,MATCH(C17,SRP[#Headers],0))))))} | N17: Select_Option | O17: {=IF((N17="Select_Option")+(N17=""),"",IF(N17="Test Tier 1 - $0.01 USD",0.01,IF(N17="Test Tier 2 - $0.02 USD",0.02,INDEX(SRP[#All],MATCH(N17,SRP[LOOKUP],0)+1,MATCH(C17,SRP[#Headers],0)))))} | P17: Visible | Q17: Select_Option | R17: 0 | S17: Select_Option | T17: ${dlcReleaseDateXOneNCSA}$ | U17: 73050 | V17: 41862 | W17: 73050 | X17: 41862 | Y17: 73050
A18: =IF((J18="Select_Option")+(J18=""),"",IF(J18="Test Tier 1 - $0.01 USD",0.01,IF(J18="Test Tier 2 - $0.02 USD",0.02,INDEX(WSP[#All],MATCH(J18,WSP[LOOKUP],0)+1,MATCH(C18,WSP[#Headers],0))))) | C18: Italy | E18: YES | F18: Enter_Information_Here | G18: Enter_Information_Here | H18: Enter_Information_Here | I18: EN, IT, FR, DE, ES, DA, NL, NO, SV, FI, PT | J18: Select_Option | K18: {=IF((J18="Select_Option")+(J18=""),"",IF(J18="Test Tier 1 - $0.01 USD",0.01,IF(J18="Test Tier 2 - $0.02 USD",0.02,INDEX(WSP[#All],MATCH(J18,WSP[LOOKUP],0)+1,MATCH(C18,WSP[#Headers],0)))))} | L18: Select_Option | M18: {=IF((L18="Select_Option")*(J18="Select_Option"),"",IF((L18="Select_Option")*(J18<>"Select_Option"),INDEX(SRP[#All],MATCH(INDEX(_reference!$J$3:$J$406,MATCH(J18,_reference!$I$3:$I$406,0)),SRP[LOOKUP],0)+1,MATCH(C18,SRP[#Headers],0)),IF(L18="Test Tier 1 - $0.01 USD",0.01,IF(L18="Test Tier 2 - $0.02 USD",0.02,INDEX(SRP[#All],MATCH(L18,SRP[LOOKUP],0)+1,MATCH(C18,SRP[#Headers],0))))))} | N18: Select_Option | O18: {=IF((N18="Select_Option")+(N18=""),"",IF(N18="Test Tier 1 - $0.01 USD",0.01,IF(N18="Test Tier 2 - $0.02 USD",0.02,INDEX(SRP[#All],MATCH(N18,SRP[LOOKUP],0)+1,MATCH(C18,SRP[#Headers],0)))))} | P18: Visible | Q18: Select_Option | R18: 0 | S18: Select_Option | T18: ${dlcReleaseDateXOneNCSA}$ | U18: 73050 | V18: 41862 | W18: 73050 | X18: 41862 | Y18: 73050
A19: =IF((J19="Select_Option")+(J19=""),"",IF(J19="Test Tier 1 - $0.01 USD",0.01,IF(J19="Test Tier 2 - $0.02 USD",0.02,INDEX(WSP[#All],MATCH(J19,WSP[LOOKUP],0)+1,MATCH(C19,WSP[#Headers],0))))) | C19: Netherlands | E19: YES | F19: Enter_Information_Here | G19: Enter_Information_Here | H19: Enter_Information_Here | I19: EN, IT, FR, DE, ES, DA, NL, NO, SV, FI, PT | J19: Select_Option | K19: {=IF((J19="Select_Option")+(J19=""),"",IF(J19="Test Tier 1 - $0.01 USD",0.01,IF(J19="Test Tier 2 - $0.02 USD",0.02,INDEX(WSP[#All],MATCH(J19,WSP[LOOKUP],0)+1,MATCH(C19,WSP[#Headers],0)))))} | L19: Select_Option | M19: {=IF((L19="Select_Option")*(J19="Select_Option"),"",IF((L19="Select_Option")*(J19<>"Select_Option"),INDEX(SRP[#All],MATCH(INDEX(_reference!$J$3:$J$406,MATCH(J19,_reference!$I$3:$I$406,0)),SRP[LOOKUP],0)+1,MATCH(C19,SRP[#Headers],0)),IF(L19="Test Tier 1 - $0.01 USD",0.01,IF(L19="Test Tier 2 - $0.02 USD",0.02,INDEX(SRP[#All],MATCH(L19,SRP[LOOKUP],0)+1,MATCH(C19,SRP[#Headers],0))))))} | N19: Select_Option | O19: {=IF((N19="Select_Option")+(N19=""),"",IF(N19="Test Tier 1 - $0.01 USD",0.01,IF(N19="Test Tier 2 - $0.02 USD",0.02,INDEX(SRP[#All],MATCH(N19,SRP[LOOKUP],0)+1,MATCH(C19,SRP[#Headers],0)))))} | P19: Visible | Q19: Select_Option | R19: 0 | S19: Select_Option | T19: ${dlcReleaseDateXOneNCSA}$ | U19: 73050 | V19: 41862 | W19: 73050 | X19: 41862 | Y19: 73050
A20: =IF((J20="Select_Option")+(J20=""),"",IF(J20="Test Tier 1 - $0.01 USD",0.01,IF(J20="Test Tier 2 - $0.02 USD",0.02,INDEX(WSP[#All],MATCH(J20,WSP[LOOKUP],0)+1,MATCH(C20,WSP[#Headers],0))))) | C20: Norway | E20: YES | F20: Enter_Information_Here | G20: Enter_Information_Here | H20: Enter_Information_Here | I20: EN, IT, FR, DE, ES, DA, NL, NO, SV, FI, PT | J20: Select_Option | K20: {=IF((J20="Select_Option")+(J20=""),"",IF(J20="Test Tier 1 - $0.01 USD",0.01,IF(J20="Test Tier 2 - $0.02 USD",0.02,INDEX(WSP[#All],MATCH(J20,WSP[LOOKUP],0)+1,MATCH(C20,WSP[#Headers],0)))))} | L20: Select_Option | M20: {=IF((L20="Select_Option")*(J20="Select_Option"),"",IF((L20="Select_Option")*(J20<>"Select_Option"),INDEX(SRP[#All],MATCH(INDEX(_reference!$J$3:$J$406,MATCH(J20,_reference!$I$3:$I$406,0)),SRP[LOOKUP],0)+1,MATCH(C20,SRP[#Headers],0)),IF(L20="Test Tier 1 - $0.01 USD",0.01,IF(L20="Test Tier 2 - $0.02 USD",0.02,INDEX(SRP[#All],MATCH(L20,SRP[LOOKUP],0)+1,MATCH(C20,SRP[#Headers],0))))))} | N20: Select_Option | O20: {=IF((N20="Select_Option")+(N20=""),"",IF(N20="Test Tier 1 - $0.01 USD",0.01,IF(N20="Test Tier 2 - $0.02 USD",0.02,INDEX(SRP[#All],MATCH(N20,SRP[LOOKUP],0)+1,MATCH(C20,SRP[#Headers],0)))))} | P20: Visible | Q20: Select_Option | R20: 0 | S20: Select_Option | T20: ${dlcReleaseDateXOneNCSA}$ | U20: 73050 | V20: 41862 | W20: 73050 | X20: 41862 | Y20: 73050
A21: =IF((J21="Select_Option")+(J21=""),"",IF(J21="Test Tier 1 - $0.01 USD",0.01,IF(J21="Test Tier 2 - $0.02 USD",0.02,INDEX(WSP[#All],MATCH(J21,WSP[LOOKUP],0)+1,MATCH(C21,WSP[#Headers],0))))) | C21: Portugal | E21: YES | F21: Enter_Information_Here | G21: Enter_Information_Here | H21: Enter_Information_Here | I21: EN, IT, FR, DE, ES, DA, NL, NO, SV, FI, PT | J21: Select_Option | K21: {=IF((J21="Select_Option")+(J21=""),"",IF(J21="Test Tier 1 - $0.01 USD",0.01,IF(J21="Test Tier 2 - $0.02 USD",0.02,INDEX(WSP[#All],MATCH(J21,WSP[LOOKUP],0)+1,MATCH(C21,WSP[#Headers],0)))))} | L21: Select_Option | M21: {=IF((L21="Select_Option")*(J21="Select_Option"),"",IF((L21="Select_Option")*(J21<>"Select_Option"),INDEX(SRP[#All],MATCH(INDEX(_reference!$J$3:$J$406,MATCH(J21,_reference!$I$3:$I$406,0)),SRP[LOOKUP],0)+1,MATCH(C21,SRP[#Headers],0)),IF(L21="Test Tier 1 - $0.01 USD",0.01,IF(L21="Test Tier 2 - $0.02 USD",0.02,INDEX(SRP[#All],MATCH(L21,SRP[LOOKUP],0)+1,MATCH(C21,SRP[#Headers],0))))))} | N21: Select_Option | O21: {=IF((N21="Select_Option")+(N21=""),"",IF(N21="Test Tier 1 - $0.01 USD",0.01,IF(N21="Test Tier 2 - $0.02 USD",0.02,INDEX(SRP[#All],MATCH(N21,SRP[LOOKUP],0)+1,MATCH(C21,SRP[#Headers],0)))))} | P21: Visible | Q21: Select_Option | R21: 0 | S21: Select_Option | T21: ${dlcReleaseDateXOneNCSA}$ | U21: 73050 | V21: 41862 | W21: 73050 | X21: 41862 | Y21: 73050
A22: =IF((J22="Select_Option")+(J22=""),"",IF(J22="Test Tier 1 - $0.01 USD",0.01,IF(J22="Test Tier 2 - $0.02 USD",0.02,INDEX(WSP[#All],MATCH(J22,WSP[LOOKUP],0)+1,MATCH(C22,WSP[#Headers],0))))) | C22: Spain | E22: YES | F22: Enter_Information_Here | G22: Enter_Information_Here | H22: Enter_Information_Here | I22: EN, IT, FR, DE, ES, DA, NL, NO, SV, FI, PT | J22: Select_Option | K22: {=IF((J22="Select_Option")+(J22=""),"",IF(J22="Test Tier 1 - $0.01 USD",0.01,IF(J22="Test Tier 2 - $0.02 USD",0.02,INDEX(WSP[#All],MATCH(J22,WSP[LOOKUP],0)+1,MATCH(C22,WSP[#Headers],0)))))} | L22: Select_Option | M22: {=IF((L22="Select_Option")*(J22="Select_Option"),"",IF((L22="Select_Option")*(J22<>"Select_Option"),INDEX(SRP[#All],MATCH(INDEX(_reference!$J$3:$J$406,MATCH(J22,_reference!$I$3:$I$406,0)),SRP[LOOKUP],0)+1,MATCH(C22,SRP[#Headers],0)),IF(L22="Test Tier 1 - $0.01 USD",0.01,IF(L22="Test Tier 2 - $0.02 USD",0.02,INDEX(SRP[#All],MATCH(L22,SRP[LOOKUP],0)+1,MATCH(C22,SRP[#Headers],0))))))} | N22: Select_Option | O22: {=IF((N22="Select_Option")+(N22=""),"",IF(N22="Test Tier 1 - $0.01 USD",0.01,IF(N22="Test Tier 2 - $0.02 USD",0.02,INDEX(SRP[#All],MATCH(N22,SRP[LOOKUP],0)+1,MATCH(C22,SRP[#Headers],0)))))} | P22: Visible | Q22: Select_Option | R22: 0 | S22: Select_Option | T22: ${dlcReleaseDateXOneNCSA}$ | U22: 73050 | V22: 41862 | W22: 73050 | X22: 41862 | Y22: 73050
A23: =IF((J23="Select_Option")+(J23=""),"",IF(J23="Test Tier 1 - $0.01 USD",0.01,IF(J23="Test Tier 2 - $0.02 USD",0.02,INDEX(WSP[#All],MATCH(J23,WSP[LOOKUP],0)+1,MATCH(C23,WSP[#Headers],0))))) | C23: Sweden | E23: YES | F23: Enter_Information_Here | G23: Enter_Information_Here | H23: Enter_Information_Here | I23: EN, IT, FR, DE, ES, DA, NL, NO, SV, FI, PT | J23: Select_Option | K23: {=IF((J23="Select_Option")+(J23=""),"",IF(J23="Test Tier 1 - $0.01 USD",0.01,IF(J23="Test Tier 2 - $0.02 USD",0.02,INDEX(WSP[#All],MATCH(J23,WSP[LOOKUP],0)+1,MATCH(C23,WSP[#Headers],0)))))} | L23: Select_Option | M23: {=IF((L23="Select_Option")*(J23="Select_Option"),"",IF((L23="Select_Option")*(J23<>"Select_Option"),INDEX(SRP[#All],MATCH(INDEX(_reference!$J$3:$J$406,MATCH(J23,_reference!$I$3:$I$406,0)),SRP[LOOKUP],0)+1,MATCH(C23,SRP[#Headers],0)),IF(L23="Test Tier 1 - $0.01 USD",0.01,IF(L23="Test Tier 2 - $0.02 USD",0.02,INDEX(SRP[#All],MATCH(L23,SRP[LOOKUP],0)+1,MATCH(C23,SRP[#Headers],0))))))} | N23: Select_Option | O23: {=IF((N23="Select_Option")+(N23=""),"",IF(N23="Test Tier 1 - $0.01 USD",0.01,IF(N23="Test Tier 2 - $0.02 USD",0.02,INDEX(SRP[#All],MATCH(N23,SRP[LOOKUP],0)+1,MATCH(C23,SRP[#Headers],0)))))} | P23: Visible | Q23: Select_Option | R23: 0 | S23: Select_Option | T23: ${dlcReleaseDateXOneNCSA}$ | U23: 73050 | V23: 41862 | W23: 73050 | X23: 41862 | Y23: 73050
C24: Switzerland | E24: YES | F24: Enter_Information_Here | G24: Enter_Information_Here | H24: Enter_Information_Here | I24: EN, IT, FR, DE, ES, DA, NL, NO, SV, FI, PT | J24: Select_Option | K24: {=IF((J24="Select_Option")+(J24=""),"",IF(J24="Test Tier 1 - $0.01 USD",0.01,IF(J24="Test Tier 2 - $0.02 USD",0.02,INDEX(WSP[#All],MATCH(J24,WSP[LOOKUP],0)+1,MATCH(C24,WSP[#Headers],0)))))} | L24: Select_Option | M24: {=IF((L24="Select_Option")*(J24="Select_Option"),"",IF((L24="Select_Option")*(J24<>"Select_Option"),INDEX(SRP[#All],MATCH(INDEX(_reference!$J$3:$J$406,MATCH(J24,_reference!$I$3:$I$406,0)),SRP[LOOKUP],0)+1,MATCH(C24,SRP[#Headers],0)),IF(L24="Test Tier 1 - $0.01 USD",0.01,IF(L24="Test Tier 2 - $0.02 USD",0.02,INDEX(SRP[#All],MATCH(L24,SRP[LOOKUP],0)+1,MATCH(C24,SRP[#Headers],0))))))} | N24: Select_Option | O24: {=IF((N24="Select_Option")+(N24=""),"",IF(N24="Test Tier 1 - $0.01 USD",0.01,IF(N24="Test Tier 2 - $0.02 USD",0.02,INDEX(SRP[#All],MATCH(N24,SRP[LOOKUP],0)+1,MATCH(C24,SRP[#Headers],0)))))} | P24: Visible | Q24: Select_Option | R24: 0 | S24: Select_Option | T24: ${dlcReleaseDateXOneNCSA}$ | U24: 73050 | V24: 41862 | W24: 73050 | X24: 41862 | Y24: 73050
C25: United Kingdom | E25: YES | F25: Enter_Information_Here | G25: Enter_Information_Here | H25: Enter_Information_Here | I25: EN, IT, FR, DE, ES, DA, NL, NO, SV, FI, PT | J25: Select_Option | K25: {=IF((J25="Select_Option")+(J25=""),"",IF(J25="Test Tier 1 - $0.01 USD",0.01,IF(J25="Test Tier 2 - $0.02 USD",0.02,INDEX(WSP[#All],MATCH(J25,WSP[LOOKUP],0)+1,MATCH(C25,WSP[#Headers],0)))))} | L25: Select_Option | M25: {=IF((L25="Select_Option")*(J25="Select_Option"),"",IF((L25="Select_Option")*(J25<>"Select_Option"),INDEX(SRP[#All],MATCH(INDEX(_reference!$J$3:$J$406,MATCH(J25,_reference!$I$3:$I$406,0)),SRP[LOOKUP],0)+1,MATCH(C25,SRP[#Headers],0)),IF(L25="Test Tier 1 - $0.01 USD",0.01,IF(L25="Test Tier 2 - $0.02 USD",0.02,INDEX(SRP[#All],MATCH(L25,SRP[LOOKUP],0)+1,MATCH(C25,SRP[#Headers],0))))))} | N25: Select_Option | O25: {=IF((N25="Select_Option")+(N25=""),"",IF(N25="Test Tier 1 - $0.01 USD",0.01,IF(N25="Test Tier 2 - $0.02 USD",0.02,INDEX(SRP[#All],MATCH(N25,SRP[LOOKUP],0)+1,MATCH(C25,SRP[#Headers],0)))))} | P25: Visible | Q25: Select_Option | R25: 0 | S25: Select_Option | T25: ${dlcReleaseDateXOneNCSA}$ | U25: 73050 | V25: 41862 | W25: 73050 | X25: 41862 | Y25: 73050
C26: CENTRAL & EASTERN EUROPE | K26: {=IF((J26="Select_Option")+(J26=""),"",IF(J26="Test Tier 1 - $0.01 USD",0.01,IF(J26="Test Tier 2 - $0.02 USD",0.02,INDEX(WSP[#All],MATCH(J26,WSP[LOOKUP],0)+1,MATCH(C26,WSP[#Headers],0)))))} | L26: Select_Option
C27: Czech Republic | E27: YES | F27: Enter_Information_Here | G27: Enter_Information_Here | H27: Enter_Information_Here | I27: EN, IT, FR, DE, ES, DA, NL, NO, SV, FI, PT | J27: Select_Option | K27: {=IF((J27="Select_Option")+(J27=""),"",IF(J27="Test Tier 1 - $0.01 USD",0.01,IF(J27="Test Tier 2 - $0.02 USD",0.02,INDEX(WSP[#All],MATCH(J27,WSP[LOOKUP],0)+1,MATCH(C27,WSP[#Headers],0)))))} | L27: Select_Option | M27: {=IF((L27="Select_Option")*(J27="Select_Option"),"",IF((L27="Select_Option")*(J27<>"Select_Option"),INDEX(SRP[#All],MATCH(INDEX(_reference!$J$3:$J$406,MATCH(J27,_reference!$I$3:$I$406,0)),SRP[LOOKUP],0)+1,MATCH(C27,SRP[#Headers],0)),IF(L27="Test Tier 1 - $0.01 USD",0.01,IF(L27="Test Tier 2 - $0.02 USD",0.02,INDEX(SRP[#All],MATCH(L27,SRP[LOOKUP],0)+1,MATCH(C27,SRP[#Headers],0))))))} | N27: Select_Option | O27: {=IF((N27="Select_Option")+(N27=""),"",IF(N27="Test Tier 1 - $0.01 USD",0.01,IF(N27="Test Tier 2 - $0.02 USD",0.02,INDEX(SRP[#All],MATCH(N27,SRP[LOOKUP],0)+1,MATCH(C27,SRP[#Headers],0)))))} | P27: Visible | Q27: Select_Option | R27: 0 | S27: Select_Option | T27: ${dlcReleaseDateXOneNCSA}$ | U27: 73050 | V27: 41862 | W27: 73050 | X27: 41862 | Y27: 73050
C28: Greece | E28: YES | F28: Enter_Information_Here | G28: Enter_Information_Here | H28: Enter_Information_Here | I28: EN, IT, FR, DE, ES, DA, NL, NO, SV, FI, PT | J28: Select_Option | K28: {=IF((J28="Select_Option")+(J28=""),"",IF(J28="Test Tier 1 - $0.01 USD",0.01,IF(J28="Test Tier 2 - $0.02 USD",0.02,INDEX(WSP[#All],MATCH(J28,WSP[LOOKUP],0)+1,MATCH(C28,WSP[#Headers],0)))))} | L28: Select_Option | M28: {=IF((L28="Select_Option")*(J28="Select_Option"),"",IF((L28="Select_Option")*(J28<>"Select_Option"),INDEX(SRP[#All],MATCH(INDEX(_reference!$J$3:$J$406,MATCH(J28,_reference!$I$3:$I$406,0)),SRP[LOOKUP],0)+1,MATCH(C28,SRP[#Headers],0)),IF(L28="Test Tier 1 - $0.01 USD",0.01,IF(L28="Test Tier 2 - $0.02 USD",0.02,INDEX(SRP[#All],MATCH(L28,SRP[LOOKUP],0)+1,MATCH(C28,SRP[#Headers],0))))))} | N28: Select_Option | O28: {=IF((N28="Select_Option")+(N28=""),"",IF(N28="Test Tier 1 - $0.01 USD",0.01,IF(N28="Test Tier 2 - $0.02 USD",0.02,INDEX(SRP[#All],MATCH(N28,SRP[LOOKUP],0)+1,MATCH(C28,SRP[#Headers],0)))))} | P28: Visible | Q28: Select_Option | R28: 0 | S28: Select_Option | T28: ${dlcReleaseDateXOneNCSA}$ | U28: 73050 | V28: 41862 | W28: 73050 | X28: 41862 | Y28: 73050
C29: Hungary | E29: YES | F29: Enter_Information_Here | G29: Enter_Information_Here | H29: Enter_Information_Here | I29: EN, IT, FR, DE, ES, DA, NL, NO, SV, FI, PT | J29: Select_Option | K29: {=IF((J29="Select_Option")+(J29=""),"",IF(J29="Test Tier 1 - $0.01 USD",0.01,IF(J29="Test Tier 2 - $0.02 USD",0.02,INDEX(WSP[#All],MATCH(J29,WSP[LOOKUP],0)+1,MATCH(C29,WSP[#Headers],0)))))} | L29: Select_Option | M29: {=IF((L29="Select_Option")*(J29="Select_Option"),"",IF((L29="Select_Option")*(J29<>"Select_Option"),INDEX(SRP[#All],MATCH(INDEX(_reference!$J$3:$J$406,MATCH(J29,_reference!$I$3:$I$406,0)),SRP[LOOKUP],0)+1,MATCH(C29,SRP[#Headers],0)),IF(L29="Test Tier 1 - $0.01 USD",0.01,IF(L29="Test Tier 2 - $0.02 USD",0.02,INDEX(SRP[#All],MATCH(L29,SRP[LOOKUP],0)+1,MATCH(C29,SRP[#Headers],0))))))} | N29: Select_Option | O29: {=IF((N29="Select_Option")+(N29=""),"",IF(N29="Test Tier 1 - $0.01 USD",0.01,IF(N29="Test Tier 2 - $0.02 USD",0.02,INDEX(SRP[#All],MATCH(N29,SRP[LOOKUP],0)+1,MATCH(C29,SRP[#Headers],0)))))} | P29: Visible | Q29: Select_Option | R29: 0 | S29: Select_Option | T29: ${dlcReleaseDateXOneNCSA}$ | U29: 73050 | V29: 41862 | W29: 73050 | X29: 41862 | Y29: 73050
C30: Poland | E30: YES | F30: Enter_Information_Here | G30: Enter_Information_Here | H30: Enter_Information_Here | I30: EN, IT, FR, DE, ES, DA, NL, NO, SV, FI, PT | J30: Select_Option | K30: {=IF((J30="Select_Option")+(J30=""),"",IF(J30="Test Tier 1 - $0.01 USD",0.01,IF(J30="Test Tier 2 - $0.02 USD",0.02,INDEX(WSP[#All],MATCH(J30,WSP[LOOKUP],0)+1,MATCH(C30,WSP[#Headers],0)))))} | L30: Select_Option | M30: {=IF((L30="Select_Option")*(J30="Select_Option"),"",IF((L30="Select_Option")*(J30<>"Select_Option"),INDEX(SRP[#All],MATCH(INDEX(_reference!$J$3:$J$406,MATCH(J30,_reference!$I$3:$I$406,0)),SRP[LOOKUP],0)+1,MATCH(C30,SRP[#Headers],0)),IF(L30="Test Tier 1 - $0.01 USD",0.01,IF(L30="Test Tier 2 - $0.02 USD",0.02,INDEX(SRP[#All],MATCH(L30,SRP[LOOKUP],0)+1,MATCH(C30,SRP[#Headers],0))))))} | N30: Select_Option | O30: {=IF((N30="Select_Option")+(N30=""),"",IF(N30="Test Tier 1 - $0.01 USD",0.01,IF(N30="Test Tier 2 - $0.02 USD",0.02,INDEX(SRP[#All],MATCH(N30,SRP[LOOKUP],0)+1,MATCH(C30,SRP[#Headers],0)))))} | P30: Visible | Q30: Select_Option | R30: 0 | S30: Select_Option | T30: ${dlcReleaseDateXOneNCSA}$ | U30: 73050 | V30: 41862 | W30: 73050 | X30: 41862 | Y30: 73050
C31: Russia | E31: YES | F31: Enter_Information_Here | G31: Enter_Information_Here | H31: Enter_Information_Here | I31: EN, IT, FR, DE, ES, DA, NL, NO, SV, FI, PT | J31: Select_Option | K31: {=IF((J31="Select_Option")+(J31=""),"",IF(J31="Test Tier 1 - $0.01 USD",0.01,IF(J31="Test Tier 2 - $0.02 USD",0.02,INDEX(WSP[#All],MATCH(J31,WSP[LOOKUP],0)+1,MATCH(C31,WSP[#Headers],0)))))} | L31: Select_Option | M31: {=IF((L31="Select_Option")*(J31="Select_Option"),"",IF((L31="Select_Option")*(J31<>"Select_Option"),INDEX(SRP[#All],MATCH(INDEX(_reference!$J$3:$J$406,MATCH(J31,_reference!$I$3:$I$406,0)),SRP[LOOKUP],0)+1,MATCH(C31,SRP[#Headers],0)),IF(L31="Test Tier 1 - $0.01 USD",0.01,IF(L31="Test Tier 2 - $0.02 USD",0.02,INDEX(SRP[#All],MATCH(L31,SRP[LOOKUP],0)+1,MATCH(C31,SRP[#Headers],0))))))} | N31: Select_Option | O31: {=IF((N31="Select_Option")+(N31=""),"",IF(N31="Test Tier 1 - $0.01 USD",0.01,IF(N31="Test Tier 2 - $0.02 USD",0.02,INDEX(SRP[#All],MATCH(N31,SRP[LOOKUP],0)+1,MATCH(C31,SRP[#Headers],0)))))} | P31: Visible | Q31: Select_Option | R31: 0 | S31: Select_Option | T31: ${dlcReleaseDateXOneNCSA}$ | U31: 73050 | V31: 41862 | W31: 73050 | X31: 41862 | Y31: 73050
C32: Slovakia | E32: YES | F32: Enter_Information_Here | G32: Enter_Information_Here | H32: Enter_Information_Here | I32: EN, IT, FR, DE, ES, DA, NL, NO, SV, FI, PT | J32: Select_Option | K32: {=IF((J32="Select_Option")+(J32=""),"",IF(J32="Test Tier 1 - $0.01 USD",0.01,IF(J32="Test Tier 2 - $0.02 USD",0.02,INDEX(WSP[#All],MATCH(J32,WSP[LOOKUP],0)+1,MATCH(C32,WSP[#Headers],0)))))} | L32: Select_Option | M32: {=IF((L32="Select_Option")*(J32="Select_Option"),"",IF((L32="Select_Option")*(J32<>"Select_Option"),INDEX(SRP[#All],MATCH(INDEX(_reference!$J$3:$J$406,MATCH(J32,_reference!$I$3:$I$406,0)),SRP[LOOKUP],0)+1,MATCH(C32,SRP[#Headers],0)),IF(L32="Test Tier 1 - $0.01 USD",0.01,IF(L32="Test Tier 2 - $0.02 USD",0.02,INDEX(SRP[#All],MATCH(L32,SRP[LOOKUP],0)+1,MATCH(C32,SRP[#Headers],0))))))} | N32: Select_Option | O32: {=IF((N32="Select_Option")+(N32=""),"",IF(N32="Test Tier 1 - $0.01 USD",0.01,IF(N32="Test Tier 2 - $0.02 USD",0.02,INDEX(SRP[#All],MATCH(N32,SRP[LOOKUP],0)+1,MATCH(C32,SRP[#Headers],0)))))} | P32: Visible | Q32: Select_Option | R32: 0 | S32: Select_Option | T32: ${dlcReleaseDateXOneNCSA}$ | U32: 73050 | V32: 41862 | W32: 73050 | X32: 41862 | Y32: 73050
C33: AUSTRALIA & NEW ZEALAND | L33: Select_Option
C34: Australia | E34: YES | F34: Enter_Information_Here | G34: Enter_Information_Here | H34: Enter_Information_Here | I34: EN, IT, FR, DE, ES, DA, NL, NO, SV, FI, PT | J34: Select_Option | K34: {=IF((J34="Select_Option")+(J34=""),"",IF(J34="Test Tier 1 - $0.01 USD",0.01,IF(J34="Test Tier 2 - $0.02 USD",0.02,INDEX(WSP[#All],MATCH(J34,WSP[LOOKUP],0)+1,MATCH(C34,WSP[#Headers],0)))))} | L34: Select_Option | M34: {=IF((L34="Select_Option")*(J34="Select_Option"),"",IF((L34="Select_Option")*(J34<>"Select_Option"),INDEX(SRP[#All],MATCH(INDEX(_reference!$J$3:$J$406,MATCH(J34,_reference!$I$3:$I$406,0)),SRP[LOOKUP],0)+1,MATCH(C34,SRP[#Headers],0)),IF(L34="Test Tier 1 - $0.01 USD",0.01,IF(L34="Test Tier 2 - $0.02 USD",0.02,INDEX(SRP[#All],MATCH(L34,SRP[LOOKUP],0)+1,MATCH(C34,SRP[#Headers],0))))))} | N34: Select_Option | O34: {=IF((N34="Select_Option")+(N34=""),"",IF(N34="Test Tier 1 - $0.01 USD",0.01,IF(N34="Test Tier 2 - $0.02 USD",0.02,INDEX(SRP[#All],MATCH(N34,SRP[LOOKUP],0)+1,MATCH(C34,SRP[#Headers],0)))))} | P34: Visible | Q34: Select_Option | R34: 0 | S34: Select_Option | T34: ${dlcReleaseDateXOneNCSA}$ | U34: 73050 | V34: 41862 | W34: 73050 | X34: 41862 | Y34: 73050
C35: New Zealand | E35: YES | F35: Enter_Information_Here | G35: Enter_Information_Here | H35: Enter_Information_Here | I35: EN, IT, FR, DE, ES, DA, NL, NO, SV, FI, PT | J35: Select_Option | K35: {=IF((J35="Select_Option")+(J35=""),"",IF(J35="Test Tier 1 - $0.01 USD",0.01,IF(J35="Test Tier 2 - $0.02 USD",0.02,INDEX(WSP[#All],MATCH(J35,WSP[LOOKUP],0)+1,MATCH(C35,WSP[#Headers],0)))))} | L35: Select_Option | M35: {=IF((L35="Select_Option")*(J35="Select_Option"),"",IF((L35="Select_Option")*(J35<>"Select_Option"),INDEX(SRP[#All],MATCH(INDEX(_reference!$J$3:$J$406,MATCH(J35,_reference!$I$3:$I$406,0)),SRP[LOOKUP],0)+1,MATCH(C35,SRP[#Headers],0)),IF(L35="Test Tier 1 - $0.01 USD",0.01,IF(L35="Test Tier 2 - $0.02 USD",0.02,INDEX(SRP[#All],MATCH(L35,SRP[LOOKUP],0)+1,MATCH(C35,SRP[#Headers],0))))))} | N35: Select_Option | O35: {=IF((N35="Select_Option")+(N35=""),"",IF(N35="Test Tier 1 - $0.01 USD",0.01,IF(N35="Test Tier 2 - $0.02 USD",0.02,INDEX(SRP[#All],MATCH(N35,SRP[LOOKUP],0)+1,MATCH(C35,SRP[#Headers],0)))))} | P35: Visible | Q35: Select_Option | R35: 0 | S35: Select_Option | T35: ${dlcReleaseDateXOneNCSA}$ | U35: 73050 | V35: 41862 | W35: 73050 | X35: 41862 | Y35: 73050
C36: LATIN AMERICA | L36: Select_Option
C37: Argentina | E37: YES | F37: Enter_Information_Here | G37: Enter_Information_Here | H37: Enter_Information_Here | I37: EN, IT, FR, DE, ES, DA, NL, NO, SV, FI, PT | J37: Select_Option | K37: {=IF((J37="Select_Option")+(J37=""),"",IF(J37="Test Tier 1 - $0.01 USD",0.01,IF(J37="Test Tier 2 - $0.02 USD",0.02,INDEX(WSP[#All],MATCH(J37,WSP[LOOKUP],0)+1,MATCH(C37,WSP[#Headers],0)))))} | L37: Select_Option | M37: {=IF((L37="Select_Option")*(J37="Select_Option"),"",IF((L37="Select_Option")*(J37<>"Select_Option"),INDEX(SRP[#All],MATCH(INDEX(_reference!$J$3:$J$406,MATCH(J37,_reference!$I$3:$I$406,0)),SRP[LOOKUP],0)+1,MATCH(C37,SRP[#Headers],0)),IF(L37="Test Tier 1 - $0.01 USD",0.01,IF(L37="Test Tier 2 - $0.02 USD",0.02,INDEX(SRP[#All],MATCH(L37,SRP[LOOKUP],0)+1,MATCH(C37,SRP[#Headers],0))))))} | N37: Select_Option | O37: {=IF((N37="Select_Option")+(N37=""),"",IF(N37="Test Tier 1 - $0.01 USD",0.01,IF(N37="Test Tier 2 - $0.02 USD",0.02,INDEX(SRP[#All],MATCH(N37,SRP[LOOKUP],0)+1,MATCH(C37,SRP[#Headers],0)))))} | P37: Visible | Q37: Select_Option | R37: 0 | S37: Select_Option | T37: ${dlcReleaseDateXOneNCSA}$ | U37: 73050 | V37: 41862 | W37: 73050 | X37: 41862 | Y37: 73050
C38: Brazil | E38: YES | F38: Enter_Information_Here | G38: Enter_Information_Here | H38: Enter_Information_Here | I38: EN, IT, FR, DE, ES, DA, NL, NO, SV, FI, PT | J38: Select_Option | K38: {=IF((J38="Select_Option")+(J38=""),"",IF(J38="Test Tier 1 - $0.01 USD",0.01,IF(J38="Test Tier 2 - $0.02 USD",0.02,INDEX(WSP[#All],MATCH(J38,WSP[LOOKUP],0)+1,MATCH(C38,WSP[#Headers],0)))))} | L38: Select_Option | M38: {=IF((L38="Select_Option")*(J38="Select_Option"),"",IF((L38="Select_Option")*(J38<>"Select_Option"),INDEX(SRP[#All],MATCH(INDEX(_reference!$J$3:$J$406,MATCH(J38,_reference!$I$3:$I$406,0)),SRP[LOOKUP],0)+1,MATCH(C38,SRP[#Headers],0)),IF(L38="Test Tier 1 - $0.01 USD",0.01,IF(L38="Test Tier 2 - $0.02 USD",0.02,INDEX(SRP[#All],MATCH(L38,SRP[LOOKUP],0)+1,MATCH(C38,SRP[#Headers],0))))))} | N38: Select_Option | O38: {=IF((N38="Select_Option")+(N38=""),"",IF(N38="Test Tier 1 - $0.01 USD",0.01,IF(N38="Test Tier 2 - $0.02 USD",0.02,INDEX(SRP[#All],MATCH(N38,SRP[LOOKUP],0)+1,MATCH(C38,SRP[#Headers],0)))))} | P38: Visible | Q38: Select_Option | R38: 0 | S38: Select_Option | T38: ${dlcReleaseDateXOneNCSA}$ | U38: 73050 | V38: 41862 | W38: 73050 | X38: 41862 | Y38: 73050
C39: Chile | E39: YES | F39: Enter_Information_Here | G39: Enter_Information_Here | H39: Enter_Information_Here | I39: EN, IT, FR, DE, ES, DA, NL, NO, SV, FI, PT | J39: Select_Option | K39: {=IF((J39="Select_Option")+(J39=""),"",IF(J39="Test Tier 1 - $0.01 USD",0.01,IF(J39="Test Tier 2 - $0.02 USD",0.02,INDEX(WSP[#All],MATCH(J39,WSP[LOOKUP],0)+1,MATCH(C39,WSP[#Headers],0)))))} | L39: Select_Option | M39: {=IF((L39="Select_Option")*(J39="Select_Option"),"",IF((L39="Select_Option")*(J39<>"Select_Option"),INDEX(SRP[#All],MATCH(INDEX(_reference!$J$3:$J$406,MATCH(J39,_reference!$I$3:$I$406,0)),SRP[LOOKUP],0)+1,MATCH(C39,SRP[#Headers],0)),IF(L39="Test Tier 1 - $0.01 USD",0.01,IF(L39="Test Tier 2 - $0.02 USD",0.02,INDEX(SRP[#All],MATCH(L39,SRP[LOOKUP],0)+1,MATCH(C39,SRP[#Headers],0))))))} | N39: Select_Option | O39: {=IF((N39="Select_Option")+(N39=""),"",IF(N39="Test Tier 1 - $0.01 USD",0.01,IF(N39="Test Tier 2 - $0.02 USD",0.02,INDEX(SRP[#All],MATCH(N39,SRP[LOOKUP],0)+1,MATCH(C39,SRP[#Headers],0)))))} | P39: Visible | Q39: Select_Option | R39: 0 | S39: Select_Option | T39: ${dlcReleaseDateXOneNCSA}$ | U39: 73050 | V39: 41862 | W39: 73050 | X39: 41862 | Y39: 73050
C40: Colombia | E40: YES | F40: Enter_Information_Here | G40: Enter_Information_Here | H40: Enter_Information_Here | I40: EN, IT, FR, DE, ES, DA, NL, NO, SV, FI, PT | J40: Select_Option | K40: {=IF((J40="Select_Option")+(J40=""),"",IF(J40="Test Tier 1 - $0.01 USD",0.01,IF(J40="Test Tier 2 - $0.02 USD",0.02,INDEX(WSP[#All],MATCH(J40,WSP[LOOKUP],0)+1,MATCH(C40,WSP[#Headers],0)))))} | L40: Select_Option | M40: {=IF((L40="Select_Option")*(J40="Select_Option"),"",IF((L40="Select_Option")*(J40<>"Select_Option"),INDEX(SRP[#All],MATCH(INDEX(_reference!$J$3:$J$406,MATCH(J40,_reference!$I$3:$I$406,0)),SRP[LOOKUP],0)+1,MATCH(C40,SRP[#Headers],0)),IF(L40="Test Tier 1 - $0.01 USD",0.01,IF(L40="Test Tier 2 - $0.02 USD",0.02,INDEX(SRP[#All],MATCH(L40,SRP[LOOKUP],0)+1,MATCH(C40,SRP[#Headers],0))))))} | N40: Select_Option | O40: {=IF((N40="Select_Option")+(N40=""),"",IF(N40="Test Tier 1 - $0.01 USD",0.01,IF(N40="Test Tier 2 - $0.02 USD",0.02,INDEX(SRP[#All],MATCH(N40,SRP[LOOKUP],0)+1,MATCH(C40,SRP[#Headers],0)))))} | P40: Visible | Q40: Select_Option | R40: 0 | S40: Select_Option | T40: ${dlcReleaseDateXOneNCSA}$ | U40: 73050 | V40: 41862 | W40: 73050 | X40: 41862 | Y40: 73050
C41: JAPAN | L41: Select_Option
C42: Japan | E42: NO | F42: Enter_Information_Here | G42: Enter_Information_Here | H42: Enter_Information_Here | I42: Enter_Information_Here | J42: Select_Option | K42: {=IF((J42="Select_Option")+(J42=""),"",IF(J42="Test Tier 1 - $0.01 USD",0.01,IF(J42="Test Tier 2 - $0.02 USD",0.02,INDEX(WSP[#All],MATCH(J42,WSP[LOOKUP],0)+1,MATCH(C42,WSP[#Headers],0)))))} | L42: Select_Option | M42: {=IF((L42="Select_Option")*(J42="Select_Option"),"",IF((L42="Select_Option")*(J42<>"Select_Option"),INDEX(SRP[#All],MATCH(INDEX(_reference!$J$3:$J$406,MATCH(J42,_reference!$I$3:$I$406,0)),SRP[LOOKUP],0)+1,MATCH(C42,SRP[#Headers],0)),IF(L42="Test Tier 1 - $0.01 USD",0.01,IF(L42="Test Tier 2 - $0.02 USD",0.02,INDEX(SRP[#All],MATCH(L42,SRP[LOOKUP],0)+1,MATCH(C42,SRP[#Headers],0))))))} | N42: Select_Option | O42: {=IF((N42="Select_Option")+(N42=""),"",IF(N42="Test Tier 1 - $0.01 USD",0.01,IF(N42="Test Tier 2 - $0.02 USD",0.02,INDEX(SRP[#All],MATCH(N42,SRP[LOOKUP],0)+1,MATCH(C42,SRP[#Headers],0)))))} | P42: Select_Option | Q42: Select_Option | R42: 0 | S42: Select_Option | T42: Enter_Information_Here | U42: Enter_Information_Here | V42: Enter_Information_Here | W42: Enter_Information_Here | X42: Enter_Information_Here | Y42: Enter_Information_Here
...

Sheet MARKETING INFO
B2: D | C2: GENRE
C3: Select up to 5 Genres
D4: GENRE 1 | E4: GENRE 2 | F4: GENRE 3 | G4: GENRE 4 | H4: GENRE 5
D5: Music | E5: Family | F5: Select_Option | G5: Select_Option | H5: Select_Option
B7: MARKETING INFO
E9: TITLE (255 char.) | F9: ALTERNATE TITLES | G9: SHORT TITLE (50 char.) | H9: SORT TITLE (255 char.) | I9: VOICE TITLE (25 char.) | J9: DESCRIPTION (4000 char.) | K9: SHORT DESCRIPTION (500 char.) | L9: PUBLISHER NAME | M9: DEVELOPER STUDIO
B10: REQUIRED LANGUAGES | C10: Default | E10: "${songName}$" by ${artistName}$ | F10: ${songName}$ by ${artistName}$ | G10: ${songName}$ | H10: ${songName}$ by ${artistName}$ | I10: Just Dance 2015 | J10: Share the power of dance and download all-new moves from "${songName}$" by ${artistName}$! | K10: ${credits}$ | L10: Enter_Information_Here | M10: Ubisoft
